Workbook

Sheet Indicadores Res 595 2022
E2: FORMATO
E3: SEGUIMIENTO DE INDICADORES DEL PLAN ESTRATEGICO DE SEGURIDAD VIAL
E4: Codigo: GH-FT-73 | H4: Versión: 1 | K4: Fecha: 26/09/2025
F12: Siniestros viales x nivel de perdida
A13: Indicador 1 | E13: Trimestral | F13: Fatales (Muertes) | G13: Graves (Mas de 30 dias de incapacidad) | H13: Leves (Hasta 30 dias de incapacidad) | I13: Choques Simples | J13: No. Siniestros Totales (SV) | K13: Km Trimestre (Km) | L13: Siniestros en kilometros | M13: Meta | N13: Observaciones
A14: =COUNTIF(Indicador1[[#This Row],[Observaciones]],"Cumple") -> 0 | D14: Indicador 1 Tasa de siniestros (TSV) | E14: Trimestre 1 | L14: =IFERROR(Indicador1[[#This Row],[No. Siniestros Totales (SV)]]*1000000/Indicador1[[#This Row],[Km Trimestre (Km)]],"") | M14: =IF(Indicador1[[#This Row],[Siniestros en kilometros]]="","",'Objetivos y metas'!$C$2) | N14: =IF(Indicador1[[#This Row],[No. Siniestros Totales (SV)]]="","",IF(Indicador1[[#This Row],[Meta]]="","",IF(Indicador1[[#This Row],[No. Siniestros Totales (SV)]]<=Indicador1[[#This Row],[Meta]],"Cumple","No Cumple")))
A15: =COUNTIF(Indicador1[[#This Row],[Observaciones]],"Cumple") -> 0 | E15: Trimestre 2 | J15: =SUM(Indicador1[[#This Row],[Fatales (Muertes)]:[Choques Simples]]) -> 0 | L15: =IFERROR(Indicador1[[#This Row],[No. Siniestros Totales (SV)]]*1000000/Indicador1[[#This Row],[Km Trimestre (Km)]],"") | M15: =IF(Indicador1[[#This Row],[Siniestros en kilometros]]="","",'Objetivos y metas'!$C$2) | N15: =IF(Indicador1[[#This Row],[No. Siniestros Totales (SV)]]="","",IF(Indicador1[[#This Row],[Meta]]="","",IF(Indicador1[[#This Row],[No. Siniestros Totales (SV)]]<=Indicador1[[#This Row],[Meta]],"Cumple","No Cumple")))
A16: =COUNTIF(Indicador1[[#This Row],[Observaciones]],"Cumple") -> 0 | E16: Trimestre 3 | J16: =SUM(Indicador1[[#This Row],[Fatales (Muertes)]:[Choques Simples]]) -> 0 | L16: =IFERROR(Indicador1[[#This Row],[No. Siniestros Totales (SV)]]*1000000/Indicador1[[#This Row],[Km Trimestre (Km)]],"") | M16: =IF(Indicador1[[#This Row],[Siniestros en kilometros]]="","",'Objetivos y metas'!$C$2) | N16: =IF(Indicador1[[#This Row],[No. Siniestros Totales (SV)]]="","",IF(Indicador1[[#This Row],[Meta]]="","",IF(Indicador1[[#This Row],[No. Siniestros Totales (SV)]]<=Indicador1[[#This Row],[Meta]],"Cumple","No Cumple")))
A17: =COUNTIF(Indicador1[[#This Row],[Observaciones]],"Cumple") -> 0 | E17: Trimestre 4 | J17: =SUM(Indicador1[[#This Row],[Fatales (Muertes)]:[Choques Simples]]) -> 0 | L17: =IFERROR(Indicador1[[#This Row],[No. Siniestros Totales (SV)]]*1000000/Indicador1[[#This Row],[Km Trimestre (Km)]],"") | M17: =IF(Indicador1[[#This Row],[Siniestros en kilometros]]="","",'Objetivos y metas'!$C$2) | N17: =IF(Indicador1[[#This Row],[No. Siniestros Totales (SV)]]="","",IF(Indicador1[[#This Row],[Meta]]="","",IF(Indicador1[[#This Row],[No. Siniestros Totales (SV)]]<=Indicador1[[#This Row],[Meta]],"Cumple","No Cumple")))
A20: Indicador 3 | D20: Indicador 3 Riesgos de seguridad vial identificados. Gestión de riesgos viales (GRV) | E20: Anual | F20: Cantidad de riesgos identificados inicio de año (RI(ia) | G20: Cantidad de riesgos identificados final de año (RI(fa) | H20: Riesgos de seguridad vial identificados (RSVI) | I20: Cantidad de riesgos con valoración alta inicio de año (RVA(ia) | J20: Cantidad de riesgos con valoración alta final de año (RVA(fa) | K20: Gestión del riesgo vial (GRV) | L20: % Gestión riesgos identificados | M20: Meta estimada de riesgos con valoración alta | N20: % Gestión riesgos valoración alta | O20: Observaciones
A21: =COUNTIF(Indicador3[[#This Row],[Observaciones]],"Cumple") -> 0 | E21: Anual | L21: =IFERROR((Indicador3[[#This Row],[Cantidad de riesgos identificados final de año (RI(fa)]]-Indicador3[[#This Row],[Cantidad de riesgos identificados inicio de año (RI(ia)]])/Indicador3[[#This Row],[Cantidad de riesgos identificados inicio de año (RI(ia)]],"") | N21: =IFERROR((Indicador3[[#This Row],[Cantidad de riesgos con valoración alta final de año (RVA(fa)]]-Indicador3[[#This Row],[Cantidad de riesgos con valoración alta inicio de año (RVA(ia)]])/Indicador3[[#This Row],[Cantidad de riesgos con valoración alta inicio de año (RVA(ia)]]+100%,"") | O21: =IF(Indicador3[[#This Row],[% Gestión riesgos valoración alta]]="","",IF(Indicador3[[#This Row],[Meta estimada de riesgos con valoración alta]]="","",IF(Indicador3[[#This Row],[% Gestión riesgos valoración alta]]>=Indicador3[[#This Row],[Meta estimada de riesgos con valoración alta]],"Cumple","No Cumple")))
N22: =IFERROR(100%-N21,"") | O22: =IF(Indicador3[[#This Row],[% Gestión riesgos valoración alta]]="","",IF(Indicador3[[#This Row],[Meta estimada de riesgos con valoración alta]]="","",IF(Indicador3[[#This Row],[% Gestión riesgos valoración alta]]>=Indicador3[[#This Row],[Meta estimada de riesgos con valoración alta]],"Cumple","No Cumple")))
A24: Indicador 4 | D24: Indicador 4 Cumplimiento metas PESV | E24: Trimestral | F24: No. Metas alcanzadas (MA) | G24: No. Metas definidas ™ | H24: Cumplimiento | I24: Meta | J24: Observaciones
A25: =COUNTIF(Indicador4[[#This Row],[Observaciones]],"Cumple") -> 0 | E25: Trimestre 1
A26: =COUNTIF(Indicador4[[#This Row],[Observaciones]],"Cumple") -> 0 | E26: Trimestre 2 | H26: =IFERROR(Indicador4[[#This Row],[No. Metas alcanzadas (MA)]]/Indicador4[[#This Row],[No. Metas definidas ™]],"") | I26: =IF(Indicador4[[#This Row],[Cumplimiento]]="","",'Objetivos y metas'!$C$4)
A27: =COUNTIF(Indicador4[[#This Row],[Observaciones]],"Cumple") -> 0 | E27: Trimestre 3 | H27: =IFERROR(Indicador4[[#This Row],[No. Metas alcanzadas (MA)]]/Indicador4[[#This Row],[No. Metas definidas ™]],"") | I27: =IF(Indicador4[[#This Row],[Cumplimiento]]="","",'Objetivos y metas'!$C$4)
A28: =COUNTIF(Indicador4[[#This Row],[Observaciones]],"Cumple") -> 0 | E28: Trimestre 4 | H28: =IFERROR(Indicador4[[#This Row],[No. Metas alcanzadas (MA)]]/Indicador4[[#This Row],[No. Metas definidas ™]],"") | I28: =IF(Indicador4[[#This Row],[Cumplimiento]]="","",'Objetivos y metas'!$C$4)
A30: Indicador 5 | D30: Indicador 5 Cumplimiento de actividades plan anual PESV | E30: Trimestral | F30: No. Actividades ejecutadas (AEPlan) | G30: No. Actividades programadas (APPlan) | H30: Cumplimiento | I30: Meta | J30: Observaciones
A31: =COUNTIF(Indicador5[[#This Row],[Observaciones]],"Cumple") -> 0 | E31: Trimestre 1 | H31: =IF(Indicador5[[#This Row],[No. Actividades ejecutadas (AEPlan)]]="","",IF(Indicador5[[#This Row],[No. Actividades programadas (APPlan)]]="","",Indicador5[[#This Row],[No. Actividades ejecutadas (AEPlan)]]/Indicador5[[#This Row],[No. Actividades programadas (APPlan)]])) | I31: =IF(Indicador5[[#This Row],[Cumplimiento]]="","",'Objetivos y metas'!$C$5) | J31: =IF(Indicador5[[#This Row],[Cumplimiento]]="","",IF(Indicador5[[#This Row],[Cumplimiento]]>=Indicador5[[#This Row],[Meta]],"Cumple","No Cumple"))
A32: =COUNTIF(Indicador5[[#This Row],[Observaciones]],"Cumple") -> 0 | E32: Trimestre 2 | H32: =IF(Indicador5[[#This Row],[No. Actividades ejecutadas (AEPlan)]]="","",IF(Indicador5[[#This Row],[No. Actividades programadas (APPlan)]]="","",Indicador5[[#This Row],[No. Actividades ejecutadas (AEPlan)]]/Indicador5[[#This Row],[No. Actividades programadas (APPlan)]])) | I32: =IF(Indicador5[[#This Row],[Cumplimiento]]="","",'Objetivos y metas'!$C$5) | J32: =IF(Indicador5[[#This Row],[Cumplimiento]]="","",IF(Indicador5[[#This Row],[Cumplimiento]]>=Indicador5[[#This Row],[Meta]],"Cumple","No Cumple"))
A33: =COUNTIF(Indicador5[[#This Row],[Observaciones]],"Cumple") -> 0 | E33: Trimestre 3 | H33: =IF(Indicador5[[#This Row],[No. Actividades ejecutadas (AEPlan)]]="","",IF(Indicador5[[#This Row],[No. Actividades programadas (APPlan)]]="","",Indicador5[[#This Row],[No. Actividades ejecutadas (AEPlan)]]/Indicador5[[#This Row],[No. Actividades programadas (APPlan)]])) | I33: =IF(Indicador5[[#This Row],[Cumplimiento]]="","",'Objetivos y metas'!$C$5) | J33: =IF(Indicador5[[#This Row],[Cumplimiento]]="","",IF(Indicador5[[#This Row],[Cumplimiento]]>=Indicador5[[#This Row],[Meta]],"Cumple","No Cumple"))
A34: =COUNTIF(Indicador5[[#This Row],[Observaciones]],"Cumple") -> 0 | E34: Trimestre 4 | H34: =IF(Indicador5[[#This Row],[No. Actividades ejecutadas (AEPlan)]]="","",IF(Indicador5[[#This Row],[No. Actividades programadas (APPlan)]]="","",Indicador5[[#This Row],[No. Actividades ejecutadas (AEPlan)]]/Indicador5[[#This Row],[No. Actividades programadas (APPlan)]])) | I34: =IF(Indicador5[[#This Row],[Cumplimiento]]="","",'Objetivos y metas'!$C$5) | J34: =IF(Indicador5[[#This Row],[Cumplimiento]]="","",IF(Indicador5[[#This Row],[Cumplimiento]]>=Indicador5[[#This Row],[Meta]],"Cumple","No Cumple"))
A36: Indicador 6 | D36: Indicador 6 % excesos jornadas laborales (%EJLC) | E36: Mensual | F36: No. De excesos en la jornada (#EJD) | G36: Total dias trabajados x todos los conductores (#SDT) | H36: % de Excesos de Jornadas Laborales | I36: Meta | J36: Observaciones
A37: =COUNTIF(Indicador6[[#This Row],[Observaciones]],"Cumple") -> 0 | B37: =ROUND(AVERAGE(A37:A39),0) -> 0 | E37: Ene
A38: =COUNTIF(Indicador6[[#This Row],[Observaciones]],"Cumple") -> 0 | E38: Feb
A39: =COUNTIF(Indicador6[[#This Row],[Observaciones]],"Cumple") -> 0 | E39: Mar
A40: =COUNTIF(Indicador6[[#This Row],[Observaciones]],"Cumple") -> 0 | B40: =ROUND(AVERAGE(A40:A42),0) -> 0 | E40: Abr | H40: =IF(Indicador6[[#This Row],[No. De excesos en la jornada ('#EJD)]]="","",IF(Indicador6[[#This Row],[Total dias trabajados x todos los conductores ('#SDT)]]="","",Indicador6[[#This Row],[No. De excesos en la jornada ('#EJD)]]/Indicador6[[#This Row],[Total dias trabajados x todos los conductores ('#SDT)]])) | I40: =IF(Indicador6[[#This Row],[% de Excesos de Jornadas Laborales]]="","",'Objetivos y metas'!$C$6) | J40: =IF(Indicador6[[#This Row],[% de Excesos de Jornadas Laborales]]="","",IF(Indicador6[[#This Row],[% de Excesos de Jornadas Laborales]]>=Indicador6[[#This Row],[Meta]],"No Cumple","Cumple"))
A41: =COUNTIF(Indicador6[[#This Row],[Observaciones]],"Cumple") -> 0 | E41: May | H41: =IF(Indicador6[[#This Row],[No. De excesos en la jornada ('#EJD)]]="","",IF(Indicador6[[#This Row],[Total dias trabajados x todos los conductores ('#SDT)]]="","",Indicador6[[#This Row],[No. De excesos en la jornada ('#EJD)]]/Indicador6[[#This Row],[Total dias trabajados x todos los conductores ('#SDT)]])) | I41: =IF(Indicador6[[#This Row],[% de Excesos de Jornadas Laborales]]="","",'Objetivos y metas'!$C$6) | J41: =IF(Indicador6[[#This Row],[% de Excesos de Jornadas Laborales]]="","",IF(Indicador6[[#This Row],[% de Excesos de Jornadas Laborales]]>=Indicador6[[#This Row],[Meta]],"No Cumple","Cumple"))
A42: =COUNTIF(Indicador6[[#This Row],[Observaciones]],"Cumple") -> 0 | E42: Jun | H42: =IF(Indicador6[[#This Row],[No. De excesos en la jornada ('#EJD)]]="","",IF(Indicador6[[#This Row],[Total dias trabajados x todos los conductores ('#SDT)]]="","",Indicador6[[#This Row],[No. De excesos en la jornada ('#EJD)]]/Indicador6[[#This Row],[Total dias trabajados x todos los conductores ('#SDT)]])) | I42: =IF(Indicador6[[#This Row],[% de Excesos de Jornadas Laborales]]="","",'Objetivos y metas'!$C$6) | J42: =IF(Indicador6[[#This Row],[% de Excesos de Jornadas Laborales]]="","",IF(Indicador6[[#This Row],[% de Excesos de Jornadas Laborales]]>=Indicador6[[#This Row],[Meta]],"No Cumple","Cumple"))
A43: =COUNTIF(Indicador6[[#This Row],[Observaciones]],"Cumple") -> 0 | B43: =ROUND(AVERAGE(A43:A45),0) -> 0 | E43: Jul | H43: =IF(Indicador6[[#This Row],[No. De excesos en la jornada ('#EJD)]]="","",IF(Indicador6[[#This Row],[Total dias trabajados x todos los conductores ('#SDT)]]="","",Indicador6[[#This Row],[No. De excesos en la jornada ('#EJD)]]/Indicador6[[#This Row],[Total dias trabajados x todos los conductores ('#SDT)]])) | I43: =IF(Indicador6[[#This Row],[% de Excesos de Jornadas Laborales]]="","",'Objetivos y metas'!$C$6) | J43: =IF(Indicador6[[#This Row],[% de Excesos de Jornadas Laborales]]="","",IF(Indicador6[[#This Row],[% de Excesos de Jornadas Laborales]]>=Indicador6[[#This Row],[Meta]],"No Cumple","Cumple"))
A44: =COUNTIF(Indicador6[[#This Row],[Observaciones]],"Cumple") -> 0 | E44: Ago | H44: =IF(Indicador6[[#This Row],[No. De excesos en la jornada ('#EJD)]]="","",IF(Indicador6[[#This Row],[Total dias trabajados x todos los conductores ('#SDT)]]="","",Indicador6[[#This Row],[No. De excesos en la jornada ('#EJD)]]/Indicador6[[#This Row],[Total dias trabajados x todos los conductores ('#SDT)]])) | I44: =IF(Indicador6[[#This Row],[% de Excesos de Jornadas Laborales]]="","",'Objetivos y metas'!$C$6) | J44: =IF(Indicador6[[#This Row],[% de Excesos de Jornadas Laborales]]="","",IF(Indicador6[[#This Row],[% de Excesos de Jornadas Laborales]]>=Indicador6[[#This Row],[Meta]],"No Cumple","Cumple"))
A45: =COUNTIF(Indicador6[[#This Row],[Observaciones]],"Cumple") -> 0 | E45: Sep | H45: =IF(Indicador6[[#This Row],[No. De excesos en la jornada ('#EJD)]]="","",IF(Indicador6[[#This Row],[Total dias trabajados x todos los conductores ('#SDT)]]="","",Indicador6[[#This Row],[No. De excesos en la jornada ('#EJD)]]/Indicador6[[#This Row],[Total dias trabajados x todos los conductores ('#SDT)]])) | I45: =IF(Indicador6[[#This Row],[% de Excesos de Jornadas Laborales]]="","",'Objetivos y metas'!$C$6) | J45: =IF(Indicador6[[#This Row],[% de Excesos de Jornadas Laborales]]="","",IF(Indicador6[[#This Row],[% de Excesos de Jornadas Laborales]]>=Indicador6[[#This Row],[Meta]],"No Cumple","Cumple"))
A46: =COUNTIF(Indicador6[[#This Row],[Observaciones]],"Cumple") -> 0 | B46: =ROUND(AVERAGE(A46:A48),0) -> 0 | E46: Oct | H46: =IF(Indicador6[[#This Row],[No. De excesos en la jornada ('#EJD)]]="","",IF(Indicador6[[#This Row],[Total dias trabajados x todos los conductores ('#SDT)]]="","",Indicador6[[#This Row],[No. De excesos en la jornada ('#EJD)]]/Indicador6[[#This Row],[Total dias trabajados x todos los conductores ('#SDT)]])) | I46: =IF(Indicador6[[#This Row],[% de Excesos de Jornadas Laborales]]="","",'Objetivos y metas'!$C$6) | J46: =IF(Indicador6[[#This Row],[% de Excesos de Jornadas Laborales]]="","",IF(Indicador6[[#This Row],[% de Excesos de Jornadas Laborales]]>=Indicador6[[#This Row],[Meta]],"No Cumple","Cumple"))
A47: =COUNTIF(Indicador6[[#This Row],[Observaciones]],"Cumple") -> 0 | E47: Nov | H47: =IF(Indicador6[[#This Row],[No. De excesos en la jornada ('#EJD)]]="","",IF(Indicador6[[#This Row],[Total dias trabajados x todos los conductores ('#SDT)]]="","",Indicador6[[#This Row],[No. De excesos en la jornada ('#EJD)]]/Indicador6[[#This Row],[Total dias trabajados x todos los conductores ('#SDT)]])) | I47: =IF(Indicador6[[#This Row],[% de Excesos de Jornadas Laborales]]="","",'Objetivos y metas'!$C$6) | J47: =IF(Indicador6[[#This Row],[% de Excesos de Jornadas Laborales]]="","",IF(Indicador6[[#This Row],[% de Excesos de Jornadas Laborales]]>=Indicador6[[#This Row],[Meta]],"No Cumple","Cumple"))
A48: =COUNTIF(Indicador6[[#This Row],[Observaciones]],"Cumple") -> 0 | E48: Dic | H48: =IF(Indicador6[[#This Row],[No. De excesos en la jornada ('#EJD)]]="","",IF(Indicador6[[#This Row],[Total dias trabajados x todos los conductores ('#SDT)]]="","",Indicador6[[#This Row],[No. De excesos en la jornada ('#EJD)]]/Indicador6[[#This Row],[Total dias trabajados x todos los conductores ('#SDT)]])) | I48: =IF(Indicador6[[#This Row],[% de Excesos de Jornadas Laborales]]="","",'Objetivos y metas'!$C$6) | J48: =IF(Indicador6[[#This Row],[% de Excesos de Jornadas Laborales]]="","",IF(Indicador6[[#This Row],[% de Excesos de Jornadas Laborales]]>=Indicador6[[#This Row],[Meta]],"No Cumple","Cumple"))
A50: Indicador 9 | D50: Indicador 9 Inspecciones diarias preoperacionales (IDP) | E50: Mensual | F50: No. Vehículos inspeccionados diariamente (#VID) | G50: No. Total de vehículos que trabajan diariamente (#TV) | H50: Cumplimiento | I50: Meta | J50: Observaciones
A51: =COUNTIF(Indicador9[[#This Row],[Observaciones]],"Cumple") -> 0 | B51: =ROUND(AVERAGE(A51:A53),0) -> 0 | E51: Ene
A52: =COUNTIF(Indicador9[[#This Row],[Observaciones]],"Cumple") -> 0 | E52: Feb
A53: =COUNTIF(Indicador9[[#This Row],[Observaciones]],"Cumple") -> 0 | E53: Mar
A54: =COUNTIF(Indicador9[[#This Row],[Observaciones]],"Cumple") -> 0 | B54: =ROUND(AVERAGE(A54:A56),0) -> 0 | E54: Abr | H54: =IF(Indicador9[[#This Row],[No. Vehículos inspeccionados diariamente ('#VID)]]="","",IF(Indicador9[[#This Row],[No. Total de vehículos que trabajan diariamente ('#TV)]]="","",Indicador9[[#This Row],[No. Vehículos inspeccionados diariamente ('#VID)]]/Indicador9[[#This Row],[No. Vehículos inspeccionados diariamente ('#VID)]])) | I54: =IF(Indicador9[[#This Row],[Cumplimiento]]="","",'Objetivos y metas'!$C$7) | J54: =IF(Indicador9[[#This Row],[Cumplimiento]]="","",IF(Indicador9[[#This Row],[Cumplimiento]]>=Indicador9[[#This Row],[Meta]],"Cumple","No Cumple"))
A55: =COUNTIF(Indicador9[[#This Row],[Observaciones]],"Cumple") -> 0 | E55: May | H55: =IF(Indicador9[[#This Row],[No. Vehículos inspeccionados diariamente ('#VID)]]="","",IF(Indicador9[[#This Row],[No. Total de vehículos que trabajan diariamente ('#TV)]]="","",Indicador9[[#This Row],[No. Vehículos inspeccionados diariamente ('#VID)]]/Indicador9[[#This Row],[No. Vehículos inspeccionados diariamente ('#VID)]])) | I55: =IF(Indicador9[[#This Row],[Cumplimiento]]="","",'Objetivos y metas'!$C$7) | J55: =IF(Indicador9[[#This Row],[Cumplimiento]]="","",IF(Indicador9[[#This Row],[Cumplimiento]]>=Indicador9[[#This Row],[Meta]],"Cumple","No Cumple"))
A56: =COUNTIF(Indicador9[[#This Row],[Observaciones]],"Cumple") -> 0 | E56: Jun | H56: =IF(Indicador9[[#This Row],[No. Vehículos inspeccionados diariamente ('#VID)]]="","",IF(Indicador9[[#This Row],[No. Total de vehículos que trabajan diariamente ('#TV)]]="","",Indicador9[[#This Row],[No. Vehículos inspeccionados diariamente ('#VID)]]/Indicador9[[#This Row],[No. Vehículos inspeccionados diariamente ('#VID)]])) | I56: =IF(Indicador9[[#This Row],[Cumplimiento]]="","",'Objetivos y metas'!$C$7) | J56: =IF(Indicador9[[#This Row],[Cumplimiento]]="","",IF(Indicador9[[#This Row],[Cumplimiento]]>=Indicador9[[#This Row],[Meta]],"Cumple","No Cumple"))
A57: =COUNTIF(Indicador9[[#This Row],[Observaciones]],"Cumple") -> 0 | B57: =ROUND(AVERAGE(A57:A59),0) -> 0 | E57: Jul | H57: =IF(Indicador9[[#This Row],[No. Vehículos inspeccionados diariamente ('#VID)]]="","",IF(Indicador9[[#This Row],[No. Total de vehículos que trabajan diariamente ('#TV)]]="","",Indicador9[[#This Row],[No. Vehículos inspeccionados diariamente ('#VID)]]/Indicador9[[#This Row],[No. Vehículos inspeccionados diariamente ('#VID)]])) | I57: =IF(Indicador9[[#This Row],[Cumplimiento]]="","",'Objetivos y metas'!$C$7) | J57: =IF(Indicador9[[#This Row],[Cumplimiento]]="","",IF(Indicador9[[#This Row],[Cumplimiento]]>=Indicador9[[#This Row],[Meta]],"Cumple","No Cumple"))
A58: =COUNTIF(Indicador9[[#This Row],[Observaciones]],"Cumple") -> 0 | E58: Ago | H58: =IF(Indicador9[[#This Row],[No. Vehículos inspeccionados diariamente ('#VID)]]="","",IF(Indicador9[[#This Row],[No. Total de vehículos que trabajan diariamente ('#TV)]]="","",Indicador9[[#This Row],[No. Vehículos inspeccionados diariamente ('#VID)]]/Indicador9[[#This Row],[No. Vehículos inspeccionados diariamente ('#VID)]])) | I58: =IF(Indicador9[[#This Row],[Cumplimiento]]="","",'Objetivos y metas'!$C$7) | J58: =IF(Indicador9[[#This Row],[Cumplimiento]]="","",IF(Indicador9[[#This Row],[Cumplimiento]]>=Indicador9[[#This Row],[Meta]],"Cumple","No Cumple"))
A59: =COUNTIF(Indicador9[[#This Row],[Observaciones]],"Cumple") -> 0 | E59: Sep | H59: =IF(Indicador9[[#This Row],[No. Vehículos inspeccionados diariamente ('#VID)]]="","",IF(Indicador9[[#This Row],[No. Total de vehículos que trabajan diariamente ('#TV)]]="","",Indicador9[[#This Row],[No. Vehículos inspeccionados diariamente ('#VID)]]/Indicador9[[#This Row],[No. Vehículos inspeccionados diariamente ('#VID)]])) | I59: =IF(Indicador9[[#This Row],[Cumplimiento]]="","",'Objetivos y metas'!$C$7) | J59: =IF(Indicador9[[#This Row],[Cumplimiento]]="","",IF(Indicador9[[#This Row],[Cumplimiento]]>=Indicador9[[#This Row],[Meta]],"Cumple","No Cumple"))
A60: =COUNTIF(Indicador9[[#This Row],[Observaciones]],"Cumple") -> 0 | B60: =ROUND(AVERAGE(A60:A62),0) -> 0 | E60: Oct | H60: =IF(Indicador9[[#This Row],[No. Vehículos inspeccionados diariamente ('#VID)]]="","",IF(Indicador9[[#This Row],[No. Total de vehículos que trabajan diariamente ('#TV)]]="","",Indicador9[[#This Row],[No. Vehículos inspeccionados diariamente ('#VID)]]/Indicador9[[#This Row],[No. Vehículos inspeccionados diariamente ('#VID)]])) | I60: =IF(Indicador9[[#This Row],[Cumplimiento]]="","",'Objetivos y metas'!$C$7) | J60: =IF(Indicador9[[#This Row],[Cumplimiento]]="","",IF(Indicador9[[#This Row],[Cumplimiento]]>=Indicador9[[#This Row],[Meta]],"Cumple","No Cumple"))
A61: =COUNTIF(Indicador9[[#This Row],[Observaciones]],"Cumple") -> 0 | E61: Nov | H61: =IF(Indicador9[[#This Row],[No. Vehículos inspeccionados diariamente ('#VID)]]="","",IF(Indicador9[[#This Row],[No. Total de vehículos que trabajan diariamente ('#TV)]]="","",Indicador9[[#This Row],[No. Vehículos inspeccionados diariamente ('#VID)]]/Indicador9[[#This Row],[No. Vehículos inspeccionados diariamente ('#VID)]])) | I61: =IF(Indicador9[[#This Row],[Cumplimiento]]="","",'Objetivos y metas'!$C$7) | J61: =IF(Indicador9[[#This Row],[Cumplimiento]]="","",IF(Indicador9[[#This Row],[Cumplimiento]]>=Indicador9[[#This Row],[Meta]],"Cumple","No Cumple"))
A62: =COUNTIF(Indicador9[[#This Row],[Observaciones]],"Cumple") -> 0 | E62: Dic | H62: =IF(Indicador9[[#This Row],[No. Vehículos inspeccionados diariamente ('#VID)]]="","",IF(Indicador9[[#This Row],[No. Total de vehículos que trabajan diariamente ('#TV)]]="","",Indicador9[[#This Row],[No. Vehículos inspeccionados diariamente ('#VID)]]/Indicador9[[#This Row],[No. Vehículos inspeccionados diariamente ('#VID)]])) | I62: =IF(Indicador9[[#This Row],[Cumplimiento]]="","",'Objetivos y metas'!$C$7) | J62: =IF(Indicador9[[#This Row],[Cumplimiento]]="","",IF(Indicador9[[#This Row],[Cumplimiento]]>=Indicador9[[#This Row],[Meta]],"Cumple","No Cumple"))
A64: Indicador 10 | D64: Indicador 10 Cumplimiento de plan mantenimiento preventivo de vehículos (CPMVh) | E64: Trimestral | F64: No. De Actividades de mantenimiento preventivo ejecutadas x trimestre (MEVh) | G64: No. Total de actividades de mantenimentos preventivo programadas (MPVh) | H64: Cumplimiento | I64: Meta | J64: Observaciones
A65: =COUNTIF(Indicador10[[#This Row],[Observaciones]],"Cumple") -> 0 | E65: Trimestre 1
A66: =COUNTIF(Indicador10[[#This Row],[Observaciones]],"Cumple") -> 0 | E66: Trimestre 2 | H66: =IF(Indicador10[[#This Row],[No. De Actividades de mantenimiento preventivo ejecutadas x trimestre (MEVh)]]="","",IF(Indicador10[[#This Row],[No. Total de actividades de mantenimentos preventivo programadas (MPVh)]]="","",Indicador10[[#This Row],[No. De Actividades de mantenimiento preventivo ejecutadas x trimestre (MEVh)]]/Indicador10[[#This Row],[No. Total de actividades de mantenimentos preventivo programadas (MPVh)]])) | I66: =IF(Indicador10[[#This Row],[Cumplimiento]]="","",'Objetivos y metas'!$C$8) | J66: =IF(Indicador10[[#This Row],[Cumplimiento]]="","",IF(Indicador10[[#This Row],[Cumplimiento]]>=Indicador10[[#This Row],[Meta]],"Cumple","No Cumple"))
A67: =COUNTIF(Indicador10[[#This Row],[Observaciones]],"Cumple") -> 0 | E67: Trimestre 3 | H67: =IF(Indicador10[[#This Row],[No. De Actividades de mantenimiento preventivo ejecutadas x trimestre (MEVh)]]="","",IF(Indicador10[[#This Row],[No. Total de actividades de mantenimentos preventivo programadas (MPVh)]]="","",Indicador10[[#This Row],[No. De Actividades de mantenimiento preventivo ejecutadas x trimestre (MEVh)]]/Indicador10[[#This Row],[No. Total de actividades de mantenimentos preventivo programadas (MPVh)]])) | I67: =IF(Indicador10[[#This Row],[Cumplimiento]]="","",'Objetivos y metas'!$C$8) | J67: =IF(Indicador10[[#This Row],[Cumplimiento]]="","",IF(Indicador10[[#This Row],[Cumplimiento]]>=Indicador10[[#This Row],[Meta]],"Cumple","No Cumple"))
A68: =COUNTIF(Indicador10[[#This Row],[Observaciones]],"Cumple") -> 0 | E68: Trimestre 4 | H68: =IF(Indicador10[[#This Row],[No. De Actividades de mantenimiento preventivo ejecutadas x trimestre (MEVh)]]="","",IF(Indicador10[[#This Row],[No. Total de actividades de mantenimentos preventivo programadas (MPVh)]]="","",Indicador10[[#This Row],[No. De Actividades de mantenimiento preventivo ejecutadas x trimestre (MEVh)]]/Indicador10[[#This Row],[No. Total de actividades de mantenimentos preventivo programadas (MPVh)]])) | I68: =IF(Indicador10[[#This Row],[Cumplimiento]]="","",'Objetivos y metas'!$C$8) | J68: =IF(Indicador10[[#This Row],[Cumplimiento]]="","",IF(Indicador10[[#This Row],[Cumplimiento]]>=Indicador10[[#This Row],[Meta]],"Cumple","No Cumple"))
A70: Indicador 11 | D70: Indicador 11 Cumplimiento plan de formación en seguridad vial (CPF PESV) | E70: Trimestral | F70: No. Total de capacitaciones en seguridad vial programadas (CPSV) | G70: No. De capacitaciones en seguridad vial ejecutadas (CESV) | H70: Cumplimiento | I70: Meta | J70: Observaciones
A71: =COUNTIF(Indicador11[[#This Row],[Observaciones]],"Cumple") -> 0 | E71: Trimestre 1
A72: =COUNTIF(Indicador11[[#This Row],[Observaciones]],"Cumple") -> 0 | E72: Trimestre 2 | H72: =IF(Indicador11[[#This Row],[No. Total de capacitaciones en seguridad vial programadas (CPSV)]]="","",IF(Indicador11[[#This Row],[No. De capacitaciones en seguridad vial ejecutadas (CESV)]]="","",Indicador11[[#This Row],[No. De capacitaciones en seguridad vial ejecutadas (CESV)]]/Indicador11[[#This Row],[No. Total de capacitaciones en seguridad vial programadas (CPSV)]])) | I72: =IF(Indicador11[[#This Row],[Cumplimiento]]="","",'Objetivos y metas'!$C$9) | J72: =IF(Indicador11[[#This Row],[Cumplimiento]]="","",IF(Indicador11[[#This Row],[Cumplimiento]]>=Indicador11[[#This Row],[Meta]],"Cumple","No Cumple"))
A73: =COUNTIF(Indicador11[[#This Row],[Observaciones]],"Cumple") -> 0 | E73: Trimestre 3 | H73: =IF(Indicador11[[#This Row],[No. Total de capacitaciones en seguridad vial programadas (CPSV)]]="","",IF(Indicador11[[#This Row],[No. De capacitaciones en seguridad vial ejecutadas (CESV)]]="","",Indicador11[[#This Row],[No. De capacitaciones en seguridad vial ejecutadas (CESV)]]/Indicador11[[#This Row],[No. Total de capacitaciones en seguridad vial programadas (CPSV)]])) | I73: =IF(Indicador11[[#This Row],[Cumplimiento]]="","",'Objetivos y metas'!$C$9) | J73: =IF(Indicador11[[#This Row],[Cumplimiento]]="","",IF(Indicador11[[#This Row],[Cumplimiento]]>=Indicador11[[#This Row],[Meta]],"Cumple","No Cumple"))
A74: =COUNTIF(Indicador11[[#This Row],[Observaciones]],"Cumple") -> 0 | E74: Trimestre 4 | H74: =IF(Indicador11[[#This Row],[No. Total de capacitaciones en seguridad vial programadas (CPSV)]]="","",IF(Indicador11[[#This Row],[No. De capacitaciones en seguridad vial ejecutadas (CESV)]]="","",Indicador11[[#This Row],[No. De capacitaciones en seguridad vial ejecutadas (CESV)]]/Indicador11[[#This Row],[No. Total de capacitaciones en seguridad vial programadas (CPSV)]])) | I74: =IF(Indicador11[[#This Row],[Cumplimiento]]="","",'Objetivos y metas'!$C$9) | J74: =IF(Indicador11[[#This Row],[Cumplimiento]]="","",IF(Indicador11[[#This Row],[Cumplimiento]]>=Indicador11[[#This Row],[Meta]],"Cumple","No Cumple"))
A76: Indicador 12 | D76: Indicador 12 Cobertura plan de formación en seguridad vial (CPF PESV) | E76: Trimestral | F76: No. De colaboradores de la organización capacitados en seguridad vial (CFSV) | G76: No. Total de colaboradores de la organización (CT) | H76: Cumplimiento | I76: Meta | J76: Observaciones
A77: =COUNTIF(Indicador12[[#This Row],[Observaciones]],"Cumple") -> 0 | E77: Trimestre 1
A78: =COUNTIF(Indicador12[[#This Row],[Observaciones]],"Cumple") -> 0 | E78: Trimestre 2 | H78: =IFERROR(Indicador12[[#This Row],[No. De colaboradores de la organización capacitados en seguridad vial (CFSV)]]/Indicador12[[#This Row],[No. Total de colaboradores de la organización (CT)]],"") | I78: =IF(Indicador12[[#This Row],[Cumplimiento]]="","",'Objetivos y metas'!$C$10) | J78: =IF(Indicador12[[#This Row],[Cumplimiento]]="","",IF(Indicador12[[#This Row],[Cumplimiento]]>=Indicador12[[#This Row],[Meta]],"Cumple","No Cumple"))
A79: =COUNTIF(Indicador12[[#This Row],[Observaciones]],"Cumple") -> 0 | E79: Trimestre 3 | H79: =IFERROR(Indicador12[[#This Row],[No. De colaboradores de la organización capacitados en seguridad vial (CFSV)]]/Indicador12[[#This Row],[No. Total de colaboradores de la organización (CT)]],"") | I79: =IF(Indicador12[[#This Row],[Cumplimiento]]="","",'Objetivos y metas'!$C$10) | J79: =IF(Indicador12[[#This Row],[Cumplimiento]]="","",IF(Indicador12[[#This Row],[Cumplimiento]]>=Indicador12[[#This Row],[Meta]],"Cumple","No Cumple"))
A80: =COUNTIF(Indicador12[[#This Row],[Observaciones]],"Cumple") -> 0 | E80: Trimestre 4 | H80: =IFERROR(Indicador12[[#This Row],[No. De colaboradores de la organización capacitados en seguridad vial (CFSV)]]/Indicador12[[#This Row],[No. Total de colaboradores de la organización (CT)]],"") | I80: =IF(Indicador12[[#This Row],[Cumplimiento]]="","",'Objetivos y metas'!$C$10) | J80: =IF(Indicador12[[#This Row],[Cumplimiento]]="","",IF(Indicador12[[#This Row],[Cumplimiento]]>=Indicador12[[#This Row],[Meta]],"Cumple","No Cumple"))
A82: Indicador 13 | D82: Indicador 13 No conformidades auditoría cerradas (NCAC) | E82: Anual | F82: No. De comformidades gestionadas y cerradas (#NCG) | G82: No. De no comformidades identificadas y analizadas (#NCI) | H82: Cumplimiento | I82: Meta | J82: Observaciones
A83: =COUNTIF(Indicador13[[#This Row],[Observaciones]],"Cumple") -> 0 | E83: Anual | H83: =IF(Indicador13[[#This Row],[No. De comformidades gestionadas y cerradas ('#NCG)]]="","",Indicador13[[#This Row],[No. De comformidades gestionadas y cerradas ('#NCG)]]/Indicador13[[#This Row],[No. De no comformidades identificadas y analizadas ('#NCI)]]) | I83: =IF(Indicador13[[#This Row],[Cumplimiento]]="","",'Objetivos y metas'!#REF!) | J83: =IF(Indicador13[[#This Row],[Cumplimiento]]="","",IF(Indicador13[[#This Row],[Cumplimiento]]>=Indicador13[[#This Row],[Meta]],"Cumple","No Cumple"))
A85: Indicador 14 | D85: Indicador 14 Programa de distracciones | E85: Mensual | F85: No. Actividades ejecutadas (AEDist) | G85: No. Actividades programadas (APDist) | H85: Cumplimiento | I85: Meta | J85: Observaciones
A86: =COUNTIF(Indicador14[[#This Row],[Observaciones]],"Cumple") -> 0 | B86: =ROUND(AVERAGE(A86:A88),0) -> 0 | E86: Enero
A87: =COUNTIF(Indicador14[[#This Row],[Observaciones]],"Cumple") -> 0 | E87: Febrero
A88: =COUNTIF(Indicador14[[#This Row],[Observaciones]],"Cumple") -> 0 | E88: Marzo
A89: =COUNTIF(Indicador14[[#This Row],[Observaciones]],"Cumple") -> 0 | B89: =ROUND(AVERAGE(A89:A91),0) -> 0 | E89: Abril | H89: =IFERROR(Indicador14[[#This Row],[No. Actividades ejecutadas (AEDist)]]/Indicador14[[#This Row],[No. Actividades programadas (APDist)]],"") | I89: =IF(Indicador14[[#This Row],[Cumplimiento]]="","",'Objetivos y metas'!$C$11) | J89: =IF(Indicador14[[#This Row],[Cumplimiento]]="","",IF(Indicador14[[#This Row],[Cumplimiento]]>=Indicador14[[#This Row],[Meta]],"Cumple","No Cumple"))
A90: =COUNTIF(Indicador14[[#This Row],[Observaciones]],"Cumple") -> 0 | E90: Mayo | H90: =IFERROR(Indicador14[[#This Row],[No. Actividades ejecutadas (AEDist)]]/Indicador14[[#This Row],[No. Actividades programadas (APDist)]],"") | I90: =IF(Indicador14[[#This Row],[Cumplimiento]]="","",'Objetivos y metas'!$C$11) | J90: =IF(Indicador14[[#This Row],[Cumplimiento]]="","",IF(Indicador14[[#This Row],[Cumplimiento]]>=Indicador14[[#This Row],[Meta]],"Cumple","No Cumple"))
A91: =COUNTIF(Indicador14[[#This Row],[Observaciones]],"Cumple") -> 0 | E91: Junio | H91: =IFERROR(Indicador14[[#This Row],[No. Actividades ejecutadas (AEDist)]]/Indicador14[[#This Row],[No. Actividades programadas (APDist)]],"") | I91: =IF(Indicador14[[#This Row],[Cumplimiento]]="","",'Objetivos y metas'!$C$11) | J91: =IF(Indicador14[[#This Row],[Cumplimiento]]="","",IF(Indicador14[[#This Row],[Cumplimiento]]>=Indicador14[[#This Row],[Meta]],"Cumple","No Cumple"))
A92: =COUNTIF(Indicador14[[#This Row],[Observaciones]],"Cumple") -> 0 | B92: =ROUND(AVERAGE(A92:A94),0) -> 0 | E92: Julio | H92: =IFERROR(Indicador14[[#This Row],[No. Actividades ejecutadas (AEDist)]]/Indicador14[[#This Row],[No. Actividades programadas (APDist)]],"") | I92: =IF(Indicador14[[#This Row],[Cumplimiento]]="","",'Objetivos y metas'!$C$11) | J92: =IF(Indicador14[[#This Row],[Cumplimiento]]="","",IF(Indicador14[[#This Row],[Cumplimiento]]>=Indicador14[[#This Row],[Meta]],"Cumple","No Cumple"))
A93: =COUNTIF(Indicador14[[#This Row],[Observaciones]],"Cumple") -> 0 | E93: Agosto | H93: =IFERROR(Indicador14[[#This Row],[No. Actividades ejecutadas (AEDist)]]/Indicador14[[#This Row],[No. Actividades programadas (APDist)]],"") | I93: =IF(Indicador14[[#This Row],[Cumplimiento]]="","",'Objetivos y metas'!$C$11) | J93: =IF(Indicador14[[#This Row],[Cumplimiento]]="","",IF(Indicador14[[#This Row],[Cumplimiento]]>=Indicador14[[#This Row],[Meta]],"Cumple","No Cumple"))
A94: =COUNTIF(Indicador14[[#This Row],[Observaciones]],"Cumple") -> 0 | E94: Septiembre | H94: =IFERROR(Indicador14[[#This Row],[No. Actividades ejecutadas (AEDist)]]/Indicador14[[#This Row],[No. Actividades programadas (APDist)]],"") | I94: =IF(Indicador14[[#This Row],[Cumplimiento]]="","",'Objetivos y metas'!$C$11) | J94: =IF(Indicador14[[#This Row],[Cumplimiento]]="","",IF(Indicador14[[#This Row],[Cumplimiento]]>=Indicador14[[#This Row],[Meta]],"Cumple","No Cumple"))
A95: =COUNTIF(Indicador14[[#This Row],[Observaciones]],"Cumple") -> 0 | B95: =ROUND(AVERAGE(A95:A97),0) -> 0 | E95: Octubre | H95: =IFERROR(Indicador14[[#This Row],[No. Actividades ejecutadas (AEDist)]]/Indicador14[[#This Row],[No. Actividades programadas (APDist)]],"") | I95: =IF(Indicador14[[#This Row],[Cumplimiento]]="","",'Objetivos y metas'!$C$11) | J95: =IF(Indicador14[[#This Row],[Cumplimiento]]="","",IF(Indicador14[[#This Row],[Cumplimiento]]>=Indicador14[[#This Row],[Meta]],"Cumple","No Cumple"))
A96: =COUNTIF(Indicador14[[#This Row],[Observaciones]],"Cumple") -> 0 | E96: Noviembre | H96: =IFERROR(Indicador14[[#This Row],[No. Actividades ejecutadas (AEDist)]]/Indicador14[[#This Row],[No. Actividades programadas (APDist)]],"") | I96: =IF(Indicador14[[#This Row],[Cumplimiento]]="","",'Objetivos y metas'!$C$11) | J96: =IF(Indicador14[[#This Row],[Cumplimiento]]="","",IF(Indicador14[[#This Row],[Cumplimiento]]>=Indicador14[[#This Row],[Meta]],"Cumple","No Cumple"))
A97: =COUNTIF(Indicador14[[#This Row],[Observaciones]],"Cumple") -> 0 | E97: Diciembre | H97: =IFERROR(Indicador14[[#This Row],[No. Actividades ejecutadas (AEDist)]]/Indicador14[[#This Row],[No. Actividades programadas (APDist)]],"") | I97: =IF(Indicador14[[#This Row],[Cumplimiento]]="","",'Objetivos y metas'!$C$11) | J97: =IF(Indicador14[[#This Row],[Cumplimiento]]="","",IF(Indicador14[[#This Row],[Cumplimiento]]>=Indicador14[[#This Row],[Meta]],"Cumple","No Cumple"))
A99: Indicador 15 | D99: Indicador 15 Programa de sustancias psicoactivas | E99: Mensual | F99: No. Actividades ejecutadas (AESust) | G99: No. Actividades programadas (APSust) | H99: Cumplimiento | I99: Meta | J99: Observaciones
A100: =COUNTIF(Indicador15[[#This Row],[Observaciones]],"Cumple") -> 0 | B100: =ROUND(AVERAGE(A100:A102),0) -> 0 | E100: Enero
A101: =COUNTIF(Indicador15[[#This Row],[Observaciones]],"Cumple") -> 0 | E101: Febrero
A102: =COUNTIF(Indicador15[[#This Row],[Observaciones]],"Cumple") -> 0 | E102: Marzo
A103: =COUNTIF(Indicador15[[#This Row],[Observaciones]],"Cumple") -> 0 | B103: =ROUND(AVERAGE(A103:A105),0) -> 0 | E103: Abril | H103: =IFERROR(Indicador15[[#This Row],[No. Actividades ejecutadas (AESust)]]/Indicador15[[#This Row],[No. Actividades programadas (APSust)]],"") | I103: =IF(Indicador15[[#This Row],[Cumplimiento]]="","",'Objetivos y metas'!$C$12) | J103: =IF(Indicador15[[#This Row],[Cumplimiento]]="","",IF(Indicador15[[#This Row],[Cumplimiento]]>=Indicador15[[#This Row],[Meta]],"Cumple","No Cumple"))
A104: =COUNTIF(Indicador15[[#This Row],[Observaciones]],"Cumple") -> 0 | E104: Mayo | H104: =IFERROR(Indicador15[[#This Row],[No. Actividades ejecutadas (AESust)]]/Indicador15[[#This Row],[No. Actividades programadas (APSust)]],"") | I104: =IF(Indicador15[[#This Row],[Cumplimiento]]="","",'Objetivos y metas'!$C$12) | J104: =IF(Indicador15[[#This Row],[Cumplimiento]]="","",IF(Indicador15[[#This Row],[Cumplimiento]]>=Indicador15[[#This Row],[Meta]],"Cumple","No Cumple"))
A105: =COUNTIF(Indicador15[[#This Row],[Observaciones]],"Cumple") -> 0 | E105: Junio | H105: =IFERROR(Indicador15[[#This Row],[No. Actividades ejecutadas (AESust)]]/Indicador15[[#This Row],[No. Actividades programadas (APSust)]],"") | I105: =IF(Indicador15[[#This Row],[Cumplimiento]]="","",'Objetivos y metas'!$C$12) | J105: =IF(Indicador15[[#This Row],[Cumplimiento]]="","",IF(Indicador15[[#This Row],[Cumplimiento]]>=Indicador15[[#This Row],[Meta]],"Cumple","No Cumple"))
A106: =COUNTIF(Indicador15[[#This Row],[Observaciones]],"Cumple") -> 0 | B106: =ROUND(AVERAGE(A106:A108),0) -> 0 | E106: Julio | H106: =IFERROR(Indicador15[[#This Row],[No. Actividades ejecutadas (AESust)]]/Indicador15[[#This Row],[No. Actividades programadas (APSust)]],"") | I106: =IF(Indicador15[[#This Row],[Cumplimiento]]="","",'Objetivos y metas'!$C$12) | J106: =IF(Indicador15[[#This Row],[Cumplimiento]]="","",IF(Indicador15[[#This Row],[Cumplimiento]]>=Indicador15[[#This Row],[Meta]],"Cumple","No Cumple"))
A107: =COUNTIF(Indicador15[[#This Row],[Observaciones]],"Cumple") -> 0 | E107: Agosto | H107: =IFERROR(Indicador15[[#This Row],[No. Actividades ejecutadas (AESust)]]/Indicador15[[#This Row],[No. Actividades programadas (APSust)]],"") | I107: =IF(Indicador15[[#This Row],[Cumplimiento]]="","",'Objetivos y metas'!$C$12) | J107: =IF(Indicador15[[#This Row],[Cumplimiento]]="","",IF(Indicador15[[#This Row],[Cumplimiento]]>=Indicador15[[#This Row],[Meta]],"Cumple","No Cumple"))
A108: =COUNTIF(Indicador15[[#This Row],[Observaciones]],"Cumple") -> 0 | E108: Septiembre | H108: =IFERROR(Indicador15[[#This Row],[No. Actividades ejecutadas (AESust)]]/Indicador15[[#This Row],[No. Actividades programadas (APSust)]],"") | I108: =IF(Indicador15[[#This Row],[Cumplimiento]]="","",'Objetivos y metas'!$C$12) | J108: =IF(Indicador15[[#This Row],[Cumplimiento]]="","",IF(Indicador15[[#This Row],[Cumplimiento]]>=Indicador15[[#This Row],[Meta]],"Cumple","No Cumple"))
A109: =COUNTIF(Indicador15[[#This Row],[Observaciones]],"Cumple") -> 0 | B109: =ROUND(AVERAGE(A109:A111),0) -> 0 | E109: Octubre | H109: =IFERROR(Indicador15[[#This Row],[No. Actividades ejecutadas (AESust)]]/Indicador15[[#This Row],[No. Actividades programadas (APSust)]],"") | I109: =IF(Indicador15[[#This Row],[Cumplimiento]]="","",'Objetivos y metas'!$C$12) | J109: =IF(Indicador15[[#This Row],[Cumplimiento]]="","",IF(Indicador15[[#This Row],[Cumplimiento]]>=Indicador15[[#This Row],[Meta]],"Cumple","No Cumple"))
A110: =COUNTIF(Indicador15[[#This Row],[Observaciones]],"Cumple") -> 0 | E110: Noviembre | H110: =IFERROR(Indicador15[[#This Row],[No. Actividades ejecutadas (AESust)]]/Indicador15[[#This Row],[No. Actividades programadas (APSust)]],"") | I110: =IF(Indicador15[[#This Row],[Cumplimiento]]="","",'Objetivos y metas'!$C$12) | J110: =IF(Indicador15[[#This Row],[Cumplimiento]]="","",IF(Indicador15[[#This Row],[Cumplimiento]]>=Indicador15[[#This Row],[Meta]],"Cumple","No Cumple"))
A111: =COUNTIF(Indicador15[[#This Row],[Observaciones]],"Cumple") -> 0 | E111: Diciembre | H111: =IFERROR(Indicador15[[#This Row],[No. Actividades ejecutadas (AESust)]]/Indicador15[[#This Row],[No. Actividades programadas (APSust)]],"") | I111: =IF(Indicador15[[#This Row],[Cumplimiento]]="","",'Objetivos y metas'!$C$12) | J111: =IF(Indicador15[[#This Row],[Cumplimiento]]="","",IF(Indicador15[[#This Row],[Cumplimiento]]>=Indicador15[[#This Row],[Meta]],"Cumple","No Cumple"))
A113: Indicador 16 | D113: Indicador 16 Programa de actores vulnerables | E113: Mensual | F113: No. Actividades ejecutadas (AEAct) | G113: No. Actividades programadas (APAct) | H113: Cumplimiento | I113: Meta | J113: Observaciones
A114: =COUNTIF(Indicador16[[#This Row],[Observaciones]],"Cumple") -> 0 | B114: =ROUND(AVERAGE(A114:A116),0) -> 0 | E114: Enero
A115: =COUNTIF(Indicador16[[#This Row],[Observaciones]],"Cumple") -> 0 | E115: Febrero
A116: =COUNTIF(Indicador16[[#This Row],[Observaciones]],"Cumple") -> 0 | E116: Marzo
A117: =COUNTIF(Indicador16[[#This Row],[Observaciones]],"Cumple") -> 0 | B117: =ROUND(AVERAGE(A117:A119),0) -> 0 | E117: Abril
A118: =COUNTIF(Indicador16[[#This Row],[Observaciones]],"Cumple") -> 0 | E118: Mayo | H118: =IFERROR(Indicador16[[#This Row],[No. Actividades ejecutadas (AEAct)]]/Indicador16[[#This Row],[No. Actividades programadas (APAct)]],"") | I118: =IF(Indicador16[[#This Row],[Cumplimiento]]="","",'Objetivos y metas'!$C$13) | J118: =IF(Indicador16[[#This Row],[Cumplimiento]]="","",IF(Indicador16[[#This Row],[Cumplimiento]]>=Indicador16[[#This Row],[Meta]],"Cumple","No Cumple"))
A119: =COUNTIF(Indicador16[[#This Row],[Observaciones]],"Cumple") -> 0 | E119: Junio | H119: =IFERROR(Indicador16[[#This Row],[No. Actividades ejecutadas (AEAct)]]/Indicador16[[#This Row],[No. Actividades programadas (APAct)]],"") | I119: =IF(Indicador16[[#This Row],[Cumplimiento]]="","",'Objetivos y metas'!$C$13) | J119: =IF(Indicador16[[#This Row],[Cumplimiento]]="","",IF(Indicador16[[#This Row],[Cumplimiento]]>=Indicador16[[#This Row],[Meta]],"Cumple","No Cumple"))
A120: =COUNTIF(Indicador16[[#This Row],[Observaciones]],"Cumple") -> 0 | B120: =ROUND(AVERAGE(A120:A122),0) -> 0 | E120: Julio | H120: =IFERROR(Indicador16[[#This Row],[No. Actividades ejecutadas (AEAct)]]/Indicador16[[#This Row],[No. Actividades programadas (APAct)]],"") | I120: =IF(Indicador16[[#This Row],[Cumplimiento]]="","",'Objetivos y metas'!$C$13) | J120: =IF(Indicador16[[#This Row],[Cumplimiento]]="","",IF(Indicador16[[#This Row],[Cumplimiento]]>=Indicador16[[#This Row],[Meta]],"Cumple","No Cumple"))
A121: =COUNTIF(Indicador16[[#This Row],[Observaciones]],"Cumple") -> 0 | E121: Agosto | H121: =IFERROR(Indicador16[[#This Row],[No. Actividades ejecutadas (AEAct)]]/Indicador16[[#This Row],[No. Actividades programadas (APAct)]],"") | I121: =IF(Indicador16[[#This Row],[Cumplimiento]]="","",'Objetivos y metas'!$C$13) | J121: =IF(Indicador16[[#This Row],[Cumplimiento]]="","",IF(Indicador16[[#This Row],[Cumplimiento]]>=Indicador16[[#This Row],[Meta]],"Cumple","No Cumple"))
...

Sheet Informe Pesv

Sheet Objetivos y metas
A1: Objetivos | B1: Descripción | C1: Medida/Meta | D1: Observaciones
