Workbook

Sheet Indicadores Res 595 2022
E2: FORMATO
E3: SEGUIMIENTO DE INDICADORES DEL PLAN ESTRATEGICO DE SEGURIDAD VIAL
E4: Codigo: GH-FT-73 | H4: Versión: 1 | K4: Fecha: 26/09/2025
F12: Siniestros viales x nivel de perdida
A13: Indicador 1 | E13: Trimestral | F13: Fatales (Muertes) | G13: Graves (Mas de 30 dias de incapacidad) | H13: Leves (Hasta 30 dias de incapacidad) | I13: Choques Simples | J13: No. Siniestros Totales (SV) | K13: Km Trimestre (Km) | L13: Siniestros en kilometros | M13: Meta | N13: Observaciones
A14: =COUNTIF(Indicador1[[#This Row],[Observaciones]],"Cumple") -> 0 | D14: Indicador 1 Tasa de siniestros (TSV) | E14: Trimestre 1 | L14: =IFERROR(Indicador1[[#This Row],[No. Siniestros Totales (SV)]]*1000000/Indicador1[[#This Row],[Km Trimestre (Km)]],"") | M14: =IF(Indicador1[[#This Row],[Siniestros en kilometros]]="","",'Objetivos y metas'!$C$2) | N14: =IF(Indicador1[[#This Row],[No. Siniestros Totales (SV)]]="","",IF(Indicador1[[#This Row],[Meta]]="","",IF(Indicador1[[#This Row],[No. Siniestros Totales (SV)]]<=Indicador1[[#This Row],[Meta]],"Cumple","No Cumple")))
A15: =COUNTIF(Indicador1[[#This Row],[Observaciones]],"Cumple") -> 0 | E15: Trimestre 2 | J15: =SUM(Indicador1[[#This Row],[Fatales (Muertes)]:[Choques Simples]]) -> 0 | L15: =IFERROR(Indicador1[[#This Row],[No. Siniestros Totales (SV)]]*1000000/Indicador1[[#This Row],[Km Trimestre (Km)]],"") | M15: =IF(Indicador1[[#This Row],[Siniestros en kilometros]]="","",'Objetivos y metas'!$C$2) | N15: =IF(Indicador1[[#This Row],[No. Siniestros Totales (SV)]]="","",IF(Indicador1[[#This Row],[Meta]]="","",IF(Indicador1[[#This Row],[No. Siniestros Totales (SV)]]<=Indicador1[[#This Row],[Meta]],"Cumple","No Cumple")))
A16: =COUNTIF(Indicador1[[#This Row],[Observaciones]],"Cumple") -> 0 | E16: Trimestre 3 | J16: =SUM(Indicador1[[#This Row],[Fatales (Muertes)]:[Choques Simples]]) -> 0 | L16: =IFERROR(Indicador1[[#This Row],[No. Siniestros Totales (SV)]]*1000000/Indicador1[[#This Row],[Km Trimestre (Km)]],"") | M16: =IF(Indicador1[[#This Row],[Siniestros en kilometros]]="","",'Objetivos y metas'!$C$2) | N16: =IF(Indicador1[[#This Row],[No. Siniestros Totales (SV)]]="","",IF(Indicador1[[#This Row],[Meta]]="","",IF(Indicador1[[#This Row],[No. Siniestros Totales (SV)]]<=Indicador1[[#This Row],[Meta]],"Cumple","No Cumple")))
A17: =COUNTIF(Indicador1[[#This Row],[Observaciones]],"Cumple") -> 0 | E17: Trimestre 4 | J17: =SUM(Indicador1[[#This Row],[Fatales (Muertes)]:[Choques Simples]]) -> 0 | L17: =IFERROR(Indicador1[[#This Row],[No. Siniestros Totales (SV)]]*1000000/Indicador1[[#This Row],[Km Trimestre (Km)]],"") | M17: =IF(Indicador1[[#This Row],[Siniestros en kilometros]]="","",'Objetivos y metas'!$C$2) | N17: =IF(Indicador1[[#This Row],[No. Siniestros Totales (SV)]]="","",IF(Indicador1[[#This Row],[Meta]]="","",IF(Indicador1[[#This Row],[No. Siniestros Totales (SV)]]<=Indicador1[[#This Row],[Meta]],"Cumple","No Cumple")))
A20: Indicador 3 | D20: Indicador 3 Riesgos de seguridad vial identificados. Gestión de riesgos viales (GRV) | E20: Anual | F20: Cantidad de riesgos identificados inicio de año (RI(ia) | G20: Cantidad de riesgos identificados final de año (RI(fa) | H20: Riesgos de seguridad vial identificados (RSVI) | I20: Cantidad de riesgos con valoración alta inicio de año (RVA(ia) | J20: Cantidad de riesgos con valoración alta final de año (RVA(fa) | K20: Gestión del riesgo vial (GRV) | L20: % Gestión riesgos identificados | M20: Meta estimada de riesgos con valoración alta | N20: % Gestión riesgos valoración alta | O20: Observaciones
A21: =COUNTIF(Indicador3[[#This Row],[Observaciones]],"Cumple") -> 0 | E21: Anual | L21: =IFERROR((Indicador3[[#This Row],[Cantidad de riesgos identificados final de año (RI(fa)]]-Indicador3[[#This Row],[Cantidad de riesgos identificados inicio de año (RI(ia)]])/Indicador3[[#This Row],[Cantidad de riesgos identificados inicio de año (RI(ia)]],"") | N21: =IFERROR((Indicador3[[#This Row],[Cantidad de riesgos con valoración alta final de año (RVA(fa)]]-Indicador3[[#This Row],[Cantidad de riesgos con valoración alta inicio de año (RVA(ia)]])/Indicador3[[#This Row],[Cantidad de riesgos con valoración alta inicio de año (RVA(ia)]]+100%,"") | O21: =IF(Indicador3[[#This Row],[% Gestión riesgos valoración alta]]="","",IF(Indicador3[[#This Row],[Meta estimada de riesgos con valoración alta]]="","",IF(Indicador3[[#This Row],[% Gestión riesgos valoración alta]]>=Indicador3[[#This Row],[Meta estimada de riesgos con valoración alta]],"Cumple","No Cumple")))
N22: =IFERROR(100%-N21,"") | O22: =IF(Indicador3[[#This Row],[% Gestión riesgos valoración alta]]="","",IF(Indicador3[[#This Row],[Meta estimada de riesgos con valoración alta]]="","",IF(Indicador3[[#This Row],[% Gestión riesgos valoración alta]]>=Indicador3[[#This Row],[Meta estimada de riesgos con valoración alta]],"Cumple","No Cumple")))
A24: Indicador 4 | D24: Indicador 4 Cumplimiento metas PESV | E24: Trimestral | F24: No. Metas alcanzadas (MA) | G24: No. Metas definidas ™ | H24: Cumplimiento | I24: Meta | J24: Observaciones
A25: =COUNTIF(Indicador4[[#This Row],[Observaciones]],"Cumple") -> 0 | E25: Trimestre 1
A26: =COUNTIF(Indicador4[[#This Row],[Observaciones]],"Cumple") -> 0 | E26: Trimestre 2 | H26: =IFERROR(Indicador4[[#This Row],[No. Metas alcanzadas (MA)]]/Indicador4[[#This Row],[No. Metas definidas ™]],"") | I26: =IF(Indicador4[[#This Row],[Cumplimiento]]="","",'Objetivos y metas'!$C$4)
A27: =COUNTIF(Indicador4[[#This Row],[Observaciones]],"Cumple") -> 0 | E27: Trimestre 3 | H27: =IFERROR(Indicador4[[#This Row],[No. Metas alcanzadas (MA)]]/Indicador4[[#This Row],[No. Metas definidas ™]],"") | I27: =IF(Indicador4[[#This Row],[Cumplimiento]]="","",'Objetivos y metas'!$C$4)
A28: =COUNTIF(Indicador4[[#This Row],[Observaciones]],"Cumple") -> 0 | E28: Trimestre 4 | H28: =IFERROR(Indicador4[[#This Row],[No. Metas alcanzadas (MA)]]/Indicador4[[#This Row],[No. Metas definidas ™]],"") | I28: =IF(Indicador4[[#This Row],[Cumplimiento]]="","",'Objetivos y metas'!$C$4)
A30: Indicador 5 | D30: Indicador 5 Cumplimiento de actividades plan anual PESV | E30: Trimestral | F30: No. Actividades ejecutadas (AEPlan) | G30: No. Actividades programadas (APPlan) | H30: Cumplimiento | I30: Meta | J30: Observaciones
A31: =COUNTIF(Indicador5[[#This Row],[Observaciones]],"Cumple") -> 0 | E31: Trimestre 1 | H31: =IF(Indicador5[[#This Row],[No. Actividades ejecutadas (AEPlan)]]="","",IF(Indicador5[[#This Row],[No. Actividades programadas (APPlan)]]="","",Indicador5[[#This Row],[No. Actividades ejecutadas (AEPlan)]]/Indicador5[[#This Row],[No. Actividades programadas (APPlan)]])) | I31: =IF(Indicador5[[#This Row],[Cumplimiento]]="","",'Objetivos y metas'!$C$5) | J31: =IF(Indicador5[[#This Row],[Cumplimiento]]="","",IF(Indicador5[[#This Row],[Cumplimiento]]>=Indicador5[[#This Row],[Meta]],"Cumple","No Cumple"))
A32: =COUNTIF(Indicador5[[#This Row],[Observaciones]],"Cumple") -> 0 | E32: Trimestre 2 | H32: =IF(Indicador5[[#This Row],[No. Actividades ejecutadas (AEPlan)]]="","",IF(Indicador5[[#This Row],[No. Actividades programadas (APPlan)]]="","",Indicador5[[#This Row],[No. Actividades ejecutadas (AEPlan)]]/Indicador5[[#This Row],[No. Actividades programadas (APPlan)]])) | I32: =IF(Indicador5[[#This Row],[Cumplimiento]]="","",'Objetivos y metas'!$C$5) | J32: =IF(Indicador5[[#This Row],[Cumplimiento]]="","",IF(Indicador5[[#This Row],[Cumplimiento]]>=Indicador5[[#This Row],[Meta]],"Cumple","No Cumple"))
A33: =COUNTIF(Indicador5[[#This Row],[Observaciones]],"Cumple") -> 0 | E33: Trimestre 3 | H33: =IF(Indicador5[[#This Row],[No. Actividades ejecutadas (AEPlan)]]="","",IF(Indicador5[[#This Row],[No. Actividades programadas (APPlan)]]="","",Indicador5[[#This Row],[No. Actividades ejecutadas (AEPlan)]]/Indicador5[[#This Row],[No. Actividades programadas (APPlan)]])) | I33: =IF(Indicador5[[#This Row],[Cumplimiento]]="","",'Objetivos y metas'!$C$5) | J33: =IF(Indicador5[[#This Row],[Cumplimiento]]="","",IF(Indicador5[[#This Row],[Cumplimiento]]>=Indicador5[[#This Row],[Meta]],"Cumple","No Cumple"))
A34: =COUNTIF(Indicador5[[#This Row],[Observaciones]],"Cumple") -> 0 | E34: Trimestre 4 | H34: =IF(Indicador5[[#This Row],[No. Actividades ejecutadas (AEPlan)]]="","",IF(Indicador5[[#This Row],[No. Actividades programadas (APPlan)]]="","",Indicador5[[#This Row],[No. Actividades ejecutadas (AEPlan)]]/Indicador5[[#This Row],[No. Actividades programadas (APPlan)]])) | I34: =IF(Indicador5[[#This Row],[Cumplimiento]]="","",'Objetivos y metas'!$C$5) | J34: =IF(Indicador5[[#This Row],[Cumplimiento]]="","",IF(Indicador5[[#This Row],[Cumplimiento]]>=Indicador5[[#This Row],[Meta]],"Cumple","No Cumple"))
A36: Indicador 6 | D36: Indicador 6 % excesos jornadas laborales (%EJLC) | E36: Mensual | F36: No. De excesos en la jornada (#EJD) | G36: Total dias trabajados x todos los conductores (#SDT) | H36: % de Excesos de Jornadas Laborales | I36: Meta | J36: Observaciones
A37: =COUNTIF(Indicador6[[#This Row],[Observaciones]],"Cumple") -> 0 | B37: =ROUND(AVERAGE(A37:A39),0) -> 0 | E37: Ene
A38: =COUNTIF(Indicador6[[#This Row],[Observaciones]],"Cumple") -> 0 | E38: Feb
A39: =COUNTIF(Indicador6[[#This Row],[Observaciones]],"Cumple") -> 0 | E39: Mar
A40: =COUNTIF(Indicador6[[#This Row],[Observaciones]],"Cumple") -> 0 | B40: =ROUND(AVERAGE(A40:A42),0) -> 0 | E40: Abr | H40: =IF(Indicador6[[#This Row],[No. De excesos en la jornada ('#EJD)]]="","",IF(Indicador6[[#This Row],[Total dias trabajados x todos los conductores ('#SDT)]]="","",Indicador6[[#This Row],[No. De excesos en la jornada ('#EJD)]]/Indicador6[[#This Row],[Total dias trabajados x todos los conductores ('#SDT)]])) | I40: =IF(Indicador6[[#This Row],[% de Excesos de Jornadas Laborales]]="","",'Objetivos y metas'!$C$6) | J40: =IF(Indicador6[[#This Row],[% de Excesos de Jornadas Laborales]]="","",IF(Indicador6[[#This Row],[% de Excesos de Jornadas Laborales]]>=Indicador6[[#This Row],[Meta]],"No Cumple","Cumple"))
A41: =COUNTIF(Indicador6[[#This Row],[Observaciones]],"Cumple") -> 0 | E41: May | H41: =IF(Indicador6[[#This Row],[No. De excesos en la jornada ('#EJD)]]="","",IF(Indicador6[[#This Row],[Total dias trabajados x todos los conductores ('#SDT)]]="","",Indicador6[[#This Row],[No. De excesos en la jornada ('#EJD)]]/Indicador6[[#This Row],[Total dias trabajados x todos los conductores ('#SDT)]])) | I41: =IF(Indicador6[[#This Row],[% de Excesos de Jornadas Laborales]]="","",'Objetivos y metas'!$C$6) | J41: =IF(Indicador6[[#This Row],[% de Excesos de Jornadas Laborales]]="","",IF(Indicador6[[#This Row],[% de Excesos de Jornadas Laborales]]>=Indicador6[[#This Row],[Meta]],"No Cumple","Cumple"))
A42: =COUNTIF(Indicador6[[#This Row],[Observaciones]],"Cumple") -> 0 | E42: Jun | H42: =IF(Indicador6[[#This Row],[No. De excesos en la jornada ('#EJD)]]="","",IF(Indicador6[[#This Row],[Total dias trabajados x todos los conductores ('#SDT)]]="","",Indicador6[[#This Row],[No. De excesos en la jornada ('#EJD)]]/Indicador6[[#This Row],[Total dias trabajados x todos los conductores ('#SDT)]])) | I42: =IF(Indicador6[[#This Row],[% de Excesos de Jornadas Laborales]]="","",'Objetivos y metas'!$C$6) | J42: =IF(Indicador6[[#This Row],[% de Excesos de Jornadas Laborales]]="","",IF(Indicador6[[#This Row],[% de Excesos de Jornadas Laborales]]>=Indicador6[[#This Row],[Meta]],"No Cumple","Cumple"))
A43: =COUNTIF(Indicador6[[#This Row],[Observaciones]],"Cumple") -> 0 | B43: =ROUND(AVERAGE(A43:A45),0) -> 0 | E43: Jul | H43: =IF(Indicador6[[#This Row],[No. De excesos en la jornada ('#EJD)]]="","",IF(Indicador6[[#This Row],[Total dias trabajados x todos los conductores ('#SDT)]]="","",Indicador6[[#This Row],[No. De excesos en la jornada ('#EJD)]]/Indicador6[[#This Row],[Total dias trabajados x todos los conductores ('#SDT)]])) | I43: =IF(Indicador6[[#This Row],[% de Excesos de Jornadas Laborales]]="","",'Objetivos y metas'!$C$6) | J43: =IF(Indicador6[[#This Row],[% de Excesos de Jornadas Laborales]]="","",IF(Indicador6[[#This Row],[% de Excesos de Jornadas Laborales]]>=Indicador6[[#This Row],[Meta]],"No Cumple","Cumple"))
A44: =COUNTIF(Indicador6[[#This Row],[Observaciones]],"Cumple") -> 0 | E44: Ago | H44: =IF(Indicador6[[#This Row],[No. De excesos en la jornada ('#EJD)]]="","",IF(Indicador6[[#This Row],[Total dias trabajados x todos los conductores ('#SDT)]]="","",Indicador6[[#This Row],[No. De excesos en la jornada ('#EJD)]]/Indicador6[[#This Row],[Total dias trabajados x todos los conductores ('#SDT)]])) | I44: =IF(Indicador6[[#This Row],[% de Excesos de Jornadas Laborales]]="","",'Objetivos y metas'!$C$6) | J44: =IF(Indicador6[[#This Row],[% de Excesos de Jornadas Laborales]]="","",IF(Indicador6[[#This Row],[% de Excesos de Jornadas Laborales]]>=Indicador6[[#This Row],[Meta]],"No Cumple","Cumple"))
A45: =COUNTIF(Indicador6[[#This Row],[Observaciones]],"Cumple") -> 0 | E45: Sep | H45: =IF(Indicador6[[#This Row],[No. De excesos en la jornada ('#EJD)]]="","",IF(Indicador6[[#This Row],[Total dias trabajados x todos los conductores ('#SDT)]]="","",Indicador6[[#This Row],[No. De excesos en la jornada ('#EJD)]]/Indicador6[[#This Row],[Total dias trabajados x todos los conductores ('#SDT)]])) | I45: =IF(Indicador6[[#This Row],[% de Excesos de Jornadas Laborales]]="","",'Objetivos y metas'!$C$6) | J45: =IF(Indicador6[[#This Row],[% de Excesos de Jornadas Laborales]]="","",IF(Indicador6[[#This Row],[% de Excesos de Jornadas Laborales]]>=Indicador6[[#This Row],[Meta]],"No Cumple","Cumple"))
A46: =COUNTIF(Indicador6[[#This Row],[Observaciones]],"Cumple") -> 0 | B46: =ROUND(AVERAGE(A46:A48),0) -> 0 | E46: Oct | H46: =IF(Indicador6[[#This Row],[No. De excesos en la jornada ('#EJD)]]="","",IF(Indicador6[[#This Row],[Total dias trabajados x todos los conductores ('#SDT)]]="","",Indicador6[[#This Row],[No. De excesos en la jornada ('#EJD)]]/Indicador6[[#This Row],[Total dias trabajados x todos los conductores ('#SDT)]])) | I46: =IF(Indicador6[[#This Row],[% de Excesos de Jornadas Laborales]]="","",'Objetivos y metas'!$C$6) | J46: =IF(Indicador6[[#This Row],[% de Excesos de Jornadas Laborales]]="","",IF(Indicador6[[#This Row],[% de Excesos de Jornadas Laborales]]>=Indicador6[[#This Row],[Meta]],"No Cumple","Cumple"))
A47: =COUNTIF(Indicador6[[#This Row],[Observaciones]],"Cumple") -> 0 | E47: Nov | H47: =IF(Indicador6[[#This Row],[No. De excesos en la jornada ('#EJD)]]="","",IF(Indicador6[[#This Row],[Total dias trabajados x todos los conductores ('#SDT)]]="","",Indicador6[[#This Row],[No. De excesos en la jornada ('#EJD)]]/Indicador6[[#This Row],[Total dias trabajados x todos los conductores ('#SDT)]])) | I47: =IF(Indicador6[[#This Row],[% de Excesos de Jornadas Laborales]]="","",'Objetivos y metas'!$C$6) | J47: =IF(Indicador6[[#This Row],[% de Excesos de Jornadas Laborales]]="","",IF(Indicador6[[#This Row],[% de Excesos de Jornadas Laborales]]>=Indicador6[[#This Row],[Meta]],"No Cumple","Cumple"))
A48: =COUNTIF(Indicador6[[#This Row],[Observaciones]],"Cumple") -> 0 | E48: Dic | H48: =IF(Indicador6[[#This Row],[No. De excesos en la jornada ('#EJD)]]="","",IF(Indicador6[[#This Row],[Total dias trabajados x todos los conductores ('#SDT)]]="","",Indicador6[[#This Row],[No. De excesos en la jornada ('#EJD)]]/Indicador6[[#This Row],[Total dias trabajados x todos los conductores ('#SDT)]])) | I48: =IF(Indicador6[[#This Row],[% de Excesos de Jornadas Laborales]]="","",'Objetivos y metas'!$C$6) | J48: =IF(Indicador6[[#This Row],[% de Excesos de Jornadas Laborales]]="","",IF(Indicador6[[#This Row],[% de Excesos de Jornadas Laborales]]>=Indicador6[[#This Row],[Meta]],"No Cumple","Cumple"))
A50: Indicador 9 | D50: Indicador 9 Inspecciones diarias preoperacionales (IDP) | E50: Mensual | F50: No. Vehículos inspeccionados diariamente (#VID) | G50: No. Total de vehículos que trabajan diariamente (#TV) | H50: Cumplimiento | I50: Meta | J50: Observaciones
A51: =COUNTIF(Indicador9[[#This Row],[Observaciones]],"Cumple") -> 0 | B51: =ROUND(AVERAGE(A51:A53),0) -> 0 | E51: Ene
A52: =COUNTIF(Indicador9[[#This Row],[Observaciones]],"Cumple") -> 0 | E52: Feb
A53: =COUNTIF(Indicador9[[#This Row],[Observaciones]],"Cumple") -> 0 | E53: Mar
A54: =COUNTIF(Indicador9[[#This Row],[Observaciones]],"Cumple") -> 0 | B54: =ROUND(AVERAGE(A54:A56),0) -> 0 | E54: Abr | H54: =IF(Indicador9[[#This Row],[No. Vehículos inspeccionados diariamente ('#VID)]]="","",IF(Indicador9[[#This Row],[No. Total de vehículos que trabajan diariamente ('#TV)]]="","",Indicador9[[#This Row],[No. Vehículos inspeccionados diariamente ('#VID)]]/Indicador9[[#This Row],[No. Vehículos inspeccionados diariamente ('#VID)]])) | I54: =IF(Indicador9[[#This Row],[Cumplimiento]]="","",'Objetivos y metas'!$C$7) | J54: =IF(Indicador9[[#This Row],[Cumplimiento]]="","",IF(Indicador9[[#This Row],[Cumplimiento]]>=Indicador9[[#This Row],[Meta]],"Cumple","No Cumple"))
...

Sheet Informe Pesv

Sheet Objetivos y metas
A1: Objetivos | B1: Descripción | C1: Medida/Meta | D1: Observaciones
