Workbook

Sheet Mapa
H2: MAPA
H3: MAPA DE RIESGOS Y OPORTUNIDADES - PROCESO: GESTIÓN DOCUMENTAL Y ARCHIVO
H4: Código: GA-MP-01 | Q4: Versión: 3 | AE4: Fecha: 07/05/2024
B6: Objetivo del Proceso | I6: Coordinar el sistema de gestión documental de la Corporación junto con el SGI a través de los instrumentos existentes, garantizando el acceso a la información y apuntando a la transformación digital de los servicios.
B8: RIESGOS INSTITUCIONALES
B9: IDENTIFICACIÓN DE RIESGOS INSTITUCIONALES | M9: ANÁLISIS DE RIESGO INHERENTE | Q9: EVALUACIÓN DEL RIESGO RESIDUAL | AG9: ACCIONES CORRECTIVAS | AK9: ARTICULACIÓN CON EL SISTEMA DE GESTIÓN | AP9: RESPONSABLE
B10: Riesgo | D10: Fuente | G10: Causas | J10: Consecuencias Potenciales | M10: Imp. | N10: Prob. | O10: Riesgo Inherente (ZIR) | Q10: Controles para el Riesgo | R10: TIPO | S10: PUNTAJE | T10: IMPLEMENTACIÓN | U10: PUNTAJE | V10: DOCUMENTACIÓN | W10: PUNTAJE | X10: FRECUENCIA | Y10: PUNTAJE | Z10: EVIDENCIA | AA10: PUNTAJE | AB10: Total | AC10: Imp. | AD10: Prob | AE10: Riesgo Residual (ZFR) | AG10: Acciones en Caso de Materialización | AK10: Indicador Relacionado | AN10: Documentos Relacionados
B11: Pérdida o deterioro del patrimonio documental durante su ciclo vital | D11: Recurso Humano Estructura física Fallas eléctricas Factores atmósfericos o medioambientales en el área de Archivo Recurso Tecnológico | G11: 1. Aplicación inadecuada de la Ley General de Archivo y demás normas reglamentarias. 2. Desactualización de los Instrumentos Archivísticos. 3. Fallas humanas en la forma de manipulación o intervención de los documentos. 4. Renuencia al Cambio frente al uso de herramientas tecnológicas para gestionar la información. 5. Falta de Compromiso por parte de los funcionarios y/o contratistas al ejecutar las labores respectivas en la gestión de archivo. 6. Ausencia de controles ante acceso y condiciones medioambientales 7. Sabotaje interno y/o externo 8. Infraestructura deficiente para albergar el volumen documental generado en la entidad. 9. Adquisición de materiales y /o insumos que no cumplan con las normas específicas | J11: Pérdida de la memoria institucional de manera parcial o total Destrucción del archivo. No cumplimiento del derecho de acceso a la información Pérdidas económicas Sanciones por incumplimiento a los requerimientos. Reprocesos en las actividades desarrolladas. | M11: 3 | N11: 4 | O11: =VLOOKUP(N11,Instrucciones!$C$19:$H$23,MATCH(Mapa!M11,Instrucciones!$C$18:$H$18,0),FALSE) -> Zona de Riesgo Alta | Q11: 1. Adoptar los lineamientos normativos expedidos por el Archivo General de la Nación y demás normas reglamentarias. 2. Actualización del plan anual de capacitación sobre la temática en gestión documental y de archivo. 3. Capacitación presencial y /o virtual en gestión Documental y archivo, según lo señalado en el Plan Institucional de Capacitación. 4. El archivo central es custodiado por un contratista especializado. 5. Solicitar a recursos físicos los insumos según las necesidades establecidas en el proceso de GDYA. 6. Acciones preventivas y/o correctivas del programa de mantenimiento de la corporación. 7. Registro de comunicaciones oficiales en las herramientas tecnológicas implementadas en la entidad 8. Validación física y electrónica de las transferencias documentales, según lo establecido en el Plan anual de Transferencias documentales. 9. Monitoreo permanente a los indicadores definidos para el proceso de Gestión Documental. 10. Revisar anualmente los instrumentos archivísticos y actaulizarlos según las necesidades presentadas. | R11: Preventivo | S11: =IFERROR(VLOOKUP(R11,Instrucciones!$J$17:$K$29,2,),0) -> 15 | T11: Manual | U11: =IFERROR(VLOOKUP(T11,Instrucciones!$J$17:$K$29,2,),0) -> 15 | V11: Documentado | W11: =IFERROR(VLOOKUP(V11,Instrucciones!$J$17:$K$29,2,),0) -> 20 | X11: Continua | Y11: =IFERROR(VLOOKUP(X11,Instrucciones!$J$17:$K$29,2,),0) -> 20 | Z11: Con registro | AA11: =IFERROR(VLOOKUP(Z11,Instrucciones!$J$17:$K$29,2,),0) -> 20 | AB11: =SUM(S11,U11,W11,Y11,AA11) -> 90 | AC11: =M11-(_xlfn.IFS(R11="Mixto",VLOOKUP(AB11,Instrucciones!$U$1:$V$100,2,FALSE),R11="Correctivo",VLOOKUP(AB11,Instrucciones!$U$1:$V$100,2,FALSE),R11="Preventivo",0,R11="Detectivo",0)) -> 3 | AD11: =IF(S11>10,(IF(N11=1,1,(IF((N11-(_xlfn.IFS(AB11<=65,Instrucciones!$M$18,AB11<=85,Instrucciones!$M$19,AB11>85,Instrucciones!$M$20))=0),1,(N11-(_xlfn.IFS(AB11<=65,Instrucciones!$M$18,AB11<=85,Instrucciones!$M$19,AB11>85,Instrucciones!$M$20))))))),N11) -> 2 | AE11: =VLOOKUP(AD11,Instrucciones!$C$19:$H$23,MATCH(Mapa!AC11,Instrucciones!$C$18:$H$18,0),FALSE) -> Zona de Riesgo Moderada | AG11: Realizar inducciones y reinducciones a los integrantes de la entidad, en la temática requerida según las necesidades presentadas; así mismo enviar a la Oficina de Gestión Humana la temática a incluir en el Plan Institucional de Capacitación. Ubicar la documentación de la entidad en un lugar que cumpla las condiciones medioambientales y apuntar hacia la digitalización de la información sensible y de conservación total. | AK11: Porcentaje de custodia de documentos en archivo Central en condiciones adecuadas según los parámetros legales aplicables. Número de instrumentos archivísticos actualizados Porcentaje de documentos misionales y sensibles digitalizados | AN11: Política de Gestión Documental Plan Institucional de archivos-PINAR. Procedimientos de la gestión documental Plan de Conservación Documental | AP11: Secretaría General, Profesional epecializado, tecnicos admisnistrativos y auxiliar administrativo del proceso; todos los integrantes de la corporación.
B12: Incumplimiento en la aplicación de las Tabla de Retención documental. | D12: Todos los funcionarios | G12: Desconocimiento, desactualización y/o no implementación de las Tablas de Retención Documental. | J12: Pérdida de información. Incumplimiento al derecho de acceso a la información. Sanciones por incumplimiento a los requerimientos de los entes de control. Disposición final errada aplicada a los expedientes. | M12: 3 | N12: 5 | O12: =VLOOKUP(N12,Instrucciones!$C$19:$H$23,MATCH(Mapa!M12,Instrucciones!$C$18:$H$18,0),FALSE) -> Zona de Riesgo Extrema | Q12: 1.Seguimiento permanente a los indicadores definidos para el proceso de Gestión Documental. 2.Aplicación permanente de los procedimientos establecidos en el Sistema de Gestión integral. 3.Actualización de las Tablas de Retención documental en la Entidad cuando sea necesario, según lo establecido en la normatividad vigente. 4. Inducción y reinducción a los integrantes de la CRA, sobre la importancia y aplicación de las Tablas de Retención Documental. según lo plasmado en el plan institucional de capacitación . | R12: Preventivo | S12: =IFERROR(VLOOKUP(R12,Instrucciones!$J$17:$K$29,2,),0) -> 15 | T12: Manual | U12: =IFERROR(VLOOKUP(T12,Instrucciones!$J$17:$K$29,2,),0) -> 15 | V12: Documentado | W12: =IFERROR(VLOOKUP(V12,Instrucciones!$J$17:$K$29,2,),0) -> 20 | X12: Continua | Y12: =IFERROR(VLOOKUP(X12,Instrucciones!$J$17:$K$29,2,),0) -> 20 | Z12: Con registro | AA12: =IFERROR(VLOOKUP(Z12,Instrucciones!$J$17:$K$29,2,),0) -> 20 | AB12: =SUM(S12,U12,W12,Y12,AA12) -> 90 | AC12: =M12-(_xlfn.IFS(R12="Mixto",VLOOKUP(AB12,Instrucciones!$U$1:$V$100,2,FALSE),R12="Correctivo",VLOOKUP(AB12,Instrucciones!$U$1:$V$100,2,FALSE),R12="Preventivo",0,R12="Detectivo",0)) -> 3 | AD12: =IF(S12>10,(IF(N12=1,1,(IF((N12-(_xlfn.IFS(AB12<=65,Instrucciones!$M$18,AB12<=85,Instrucciones!$M$19,AB12>85,Instrucciones!$M$20))=0),1,(N12-(_xlfn.IFS(AB12<=65,Instrucciones!$M$18,AB12<=85,Instrucciones!$M$19,AB12>85,Instrucciones!$M$20))))))),N12) -> 3 | AE12: =VLOOKUP(AD12,Instrucciones!$C$19:$H$23,MATCH(Mapa!AC12,Instrucciones!$C$18:$H$18,0),FALSE) -> Zona de Riesgo Alta | AG12: Realizar inducciones y reinducciones a los integrantes pertinentes sobre la debilidad identificada Realizar los ajustes necesarios en la documentación Revisar los procedimientos en el Sistema de Gestión Integral y actualizar si se considera pertinente | AK12: Transferencias oportunas de la documentación ( cuadro de mando de indicadores). Instrumentos archivísticos actualizados. Porcentaje de las Tablas de Retención Documental actualizadas y convalidadas | AN12: Política de Gestión Documental Procedimientos de la gestión documental Tablas de Retención actualizadas. | AP12: Todos los integrantes de la entidad. Profesional Especializado - Gestión Documental y Archivo
B13: Demora o inconsistencias en la gestión y trámite de comunicaciones recibidas y enviadas | D13: Todos los funcionarios | G13: 1.Aplicación inadecuada de la normatividad archivística. 2.Base de Datos de los usuarios desactualizados. 3. Errores en el diligenciamiento de los datos del usuario. 4.Deficiencias en el manejo del SGD y demás herramientas tecnológicas disponibles en la entidad. 5. Incompatibilidad entre los formatos que admite el SGD y los formatos que se aportan lo usuarios. 6. Deficiencias en el funcionamiento del SGD. | J13: Sanciones disciplinarias, penales y fiscales. Acciones judiciales en contra de la Corporación Pérdida de la información. Afectación negativa de la imagen institucional. Reprocesos administrativos y pérdidas económicas. | M13: 5 | N13: 3 | O13: =VLOOKUP(N13,Instrucciones!$C$19:$H$23,MATCH(Mapa!M13,Instrucciones!$C$18:$H$18,0),FALSE) -> Zona de Riesgo Extrema | Q13: 1. Radicación física y/o electrónica diaria de los documentos recibidos y enviados de la corporación. 2. Actualización del Normograma cuando sea necesario. 3. Implementación de los lineamientos establecidos en el documento GA-PR-01 Procedimientos de la gestión documental 4. Actualizar la base de datos de usuarios a medida que se va obteniendo la información correcta con las herramientas tecnológicas actuales en la entidad. | R13: Preventivo | S13: =IFERROR(VLOOKUP(R13,Instrucciones!$J$17:$K$29,2,),0) -> 15 | T13: Manual | U13: =IFERROR(VLOOKUP(T13,Instrucciones!$J$17:$K$29,2,),0) -> 15 | V13: Documentado | W13: =IFERROR(VLOOKUP(V13,Instrucciones!$J$17:$K$29,2,),0) -> 20 | X13: Continua | Y13: =IFERROR(VLOOKUP(X13,Instrucciones!$J$17:$K$29,2,),0) -> 20 | Z13: Con registro | AA13: =IFERROR(VLOOKUP(Z13,Instrucciones!$J$17:$K$29,2,),0) -> 20 | AB13: =SUM(S13,U13,W13,Y13,AA13) -> 90 | AC13: =M13-(_xlfn.IFS(R13="Mixto",VLOOKUP(AB13,Instrucciones!$U$1:$V$100,2,FALSE),R13="Correctivo",VLOOKUP(AB13,Instrucciones!$U$1:$V$100,2,FALSE),R13="Preventivo",0,R13="Detectivo",0)) -> 5 | AD13: =IF(S13>10,(IF(N13=1,1,(IF((N13-(_xlfn.IFS(AB13<=65,Instrucciones!$M$18,AB13<=85,Instrucciones!$M$19,AB13>85,Instrucciones!$M$20))=0),1,(N13-(_xlfn.IFS(AB13<=65,Instrucciones!$M$18,AB13<=85,Instrucciones!$M$19,AB13>85,Instrucciones!$M$20))))))),N13) -> 1 | AE13: =VLOOKUP(AD13,Instrucciones!$C$19:$H$23,MATCH(Mapa!AC13,Instrucciones!$C$18:$H$18,0),FALSE) -> Zona de Riesgo Alta | AG13: Inducción y reinducción del personal que haya presentado debilidades Revisión y/o ajuste de procedimientos según las necesidades Reenviar la comunicación con los datos correctos. Se publica por aviso en la entidad. | AK13: N.A. | AN13: GA-PR-01 Procedimientos de la gestión documental | AP13: Asesor de Dirección, área de recepción, funcionarios y contratistas de apoyo que diligencian la información.
B14: Gestión inadecuada de la información almacenada en el archivo central de la entidad | D14: Recurso Humano Recurso Tecnológico | G14: 1. Inadecuada implementación de los controles establecidos en Plan de Conservación Documental 2. Seguimiento inadecuado o inoportuno a las actividades de contratista especializado. | J14: Sanciones disciplinarias, penales y fiscales. Acciones judiciales en contra de la Corporación Pérdida de la información. Afectación negativa de la imagen institucional. Reprocesos administrativos y pérdidas económicas. | M14: 5 | N14: 3 | O14: =VLOOKUP(N14,Instrucciones!$C$19:$H$23,MATCH(Mapa!M14,Instrucciones!$C$18:$H$18,0),FALSE) -> Zona de Riesgo Extrema | Q14: 1. Implementación del Plan de Conservación Documental de la entidad. 2. Planificación y ejecución de visitas de seguimiento a la custodia del archivo central de la entidad por parte del contratista especializado. | R14: Preventivo | S14: =IFERROR(VLOOKUP(R14,Instrucciones!$J$17:$K$29,2,),0) -> 15 | T14: Manual | U14: =IFERROR(VLOOKUP(T14,Instrucciones!$J$17:$K$29,2,),0) -> 15 | V14: Documentado | W14: =IFERROR(VLOOKUP(V14,Instrucciones!$J$17:$K$29,2,),0) -> 20 | X14: Continua | Y14: =IFERROR(VLOOKUP(X14,Instrucciones!$J$17:$K$29,2,),0) -> 20 | Z14: Con registro | AA14: =IFERROR(VLOOKUP(Z14,Instrucciones!$J$17:$K$29,2,),0) -> 20 | AB14: =SUM(S14,U14,W14,Y14,AA14) -> 90 | AC14: =M14-(_xlfn.IFS(R14="Mixto",VLOOKUP(AB14,Instrucciones!$U$1:$V$100,2,FALSE),R14="Correctivo",VLOOKUP(AB14,Instrucciones!$U$1:$V$100,2,FALSE),R14="Preventivo",0,R14="Detectivo",0)) -> 5 | AD14: =IF(S14>10,(IF(N14=1,1,(IF((N14-(_xlfn.IFS(AB14<=65,Instrucciones!$M$18,AB14<=85,Instrucciones!$M$19,AB14>85,Instrucciones!$M$20))=0),1,(N14-(_xlfn.IFS(AB14<=65,Instrucciones!$M$18,AB14<=85,Instrucciones!$M$19,AB14>85,Instrucciones!$M$20))))))),N14) -> 1 | AE14: =VLOOKUP(AD14,Instrucciones!$C$19:$H$23,MATCH(Mapa!AC14,Instrucciones!$C$18:$H$18,0),FALSE) -> Zona de Riesgo Alta | AG14: Identificar los controles que no se aplicaron de manera adecuada y establecer las acciones correctivas pertinentes | AK14: Indicador PAI 6.3.1.1 (B) Porcentaje de custodia de documentos en archivo Central en condiciones adecuadas según los parámetros legales aplicables. | AN14: Plan de Conservación Documental Programa específico de archivos descentralizados Programa de auditoria y control | AP14: Profesional especializado Gestión Documental Técnico administrativo gestión documental Auiliar administrativo gestión documental
B15: RIESGOS DE CORRUPCIÓN
B16: IDENTIFICACIÓN DE RIESGOS DE CORRUPCIÓN | M16: ANÁLISIS DE RIESGO INHERENTE | Q16: EVALUACIÓN DEL RIESGO RESIDUAL | AG16: ACCIONES CORRECTIVAS | AK16: ARTICULACIÓN CON EL SISTEMA DE GESTIÓN | AP16: RESPONSABLE
B17: Riesgo | D17: Fuente | G17: Causas | J17: Consecuencias Potenciales | M17: Imp. | N17: Prob. | O17: Riesgo Inherente (ZIR) | Q17: Controles Para el Riesgo | R17: TIPO | S17: PUNTAJE | T17: IMPLEMENTACIÓN | U17: PUNTAJE | V17: DOCUMENTACIÓN | W17: PUNTAJE | X17: FRECUENCIA | Y17: PUNTAJE | Z17: EVIDENCIA | AA17: PUNTAJE | AB17: Total | AC17: Imp. | AD17: Prob | AE17: Riesgo Residual (ZFR) | AG17: Acciones en Caso de Materialización | AK17: Indicador Relacionado | AN17: Documentos Relacionados
B18: Pérdidas, destrucción, alteración o deterioro de documentos para favorecer a un tercero interesado o en beneficio propio. | D18: Todos los funcionarios y contratistas | G18: 1. Falta de ética. 2. Falta de control, cuidado, custodia, conservación y administración de la información física y electrónica. | J18: Toma de decisiones incorrectas por información parcializada. No poder dar respuesta al ciudadano por falta de información. No dar cumplimento a los procedimientos de gestión documental. Posible sancion por incumplimiento en la entrega de informacion importante para usuarios Perdidas financieras | M18: 5 | N18: 2 | O18: =VLOOKUP(N18,Instrucciones!$C$19:$H$23,MATCH(Mapa!M18,Instrucciones!$C$18:$H$18,0),FALSE) -> Zona de Riesgo Extrema | Q18: 1. Código de Integridad de la entidad. 2. Capacitaciones presenciales y/o virtuales a los integrantes, según lo establecido en el Plan Anual de Capacitación Institucional . 3. Aplicación y Seguimientos al Proceso de Gestión Documental, a través de Auditorías Internas y Externas. 4. Control permanente en el acceso de la información que reposa en el Archivo Central, que está en custodia de terceros. 5. Actualizar cuando se requiera en página web las Tablas de control de acceso y el índice de información clasificado y reservado. 6. Aplicación de aspectos normativos. | R18: Preventivo | S18: =IFERROR(VLOOKUP(R18,Instrucciones!$J$17:$K$29,2,),0) -> 15 | T18: Manual | U18: =IFERROR(VLOOKUP(T18,Instrucciones!$J$17:$K$29,2,),0) -> 15 | V18: Documentado | W18: =IFERROR(VLOOKUP(V18,Instrucciones!$J$17:$K$29,2,),0) -> 20 | X18: Continua | Y18: =IFERROR(VLOOKUP(X18,Instrucciones!$J$17:$K$29,2,),0) -> 20 | Z18: Con registro | AA18: =IFERROR(VLOOKUP(Z18,Instrucciones!$J$17:$K$29,2,),0) -> 20 | AB18: =SUM(S18,U18,W18,Y18,AA18) -> 90 | AC18: =M18-(_xlfn.IFS(R18="Mixto",VLOOKUP(AB18,Instrucciones!$U$1:$V$100,2,FALSE),R18="Correctivo",VLOOKUP(AB18,Instrucciones!$U$1:$V$100,2,FALSE),R18="Preventivo",0,R18="Detectivo",0)) -> 5 | AD18: =IF(S18>10,(IF(N18=1,1,(IF((N18-(_xlfn.IFS(AB18<=65,Instrucciones!$M$18,AB18<=85,Instrucciones!$M$19,AB18>85,Instrucciones!$M$20))=0),1,(N18-(_xlfn.IFS(AB18<=65,Instrucciones!$M$18,AB18<=85,Instrucciones!$M$19,AB18>85,Instrucciones!$M$20))))))),N18) -> 1 | AE18: =VLOOKUP(AD18,Instrucciones!$C$19:$H$23,MATCH(Mapa!AC18,Instrucciones!$C$18:$H$18,0),FALSE) -> Zona de Riesgo Alta | AG18: Posterior al análisis de la materialización del riesgo, se puede optar por una o más de las siguientes alternativas: - Reconstrucción de Expedientes. - Aviso a la Oficina de Control Disciplinario Interno y/o supervisor del contrato según sea el caso, para que se tomen los correctivos pertinentes. - Ajustes al Proceso de gestión documental y de archivo en el Sistema Gestión Integral . | AK18: N.A. | AN18: Código de Integridad | AP18: Todos los funcionarios
B19: RIESGOS FISCALES
B20: IDENTIFICACIÓN DE RIESGOS FISCALES | M20: ANÁLISIS DE RIESGO INHERENTE | Q20: EVALUACIÓN DEL RIESGO RESIDUAL | AG20: ACCIONES CORRECTIVAS | AK20: ARTICULACIÓN CON EL SISTEMA DE GESTIÓN | AP20: RESPONSABLE
B21: Punto de riesgo fiscal | D21: Actividad en la que potencialmente se origina el riesgo fiscal | J21: Circunstancias inmediatas | M21: Imp. | N21: Prob. | O21: Riesgo Inherente (ZIR) | Q21: Controles Para el Riesgo | R21: TIPO | S21: PUNTAJE | T21: IMPLEMENTACIÓN | U21: PUNTAJE | V21: DOCUMENTACIÓN | W21: PUNTAJE | X21: FRECUENCIA | Y21: PUNTAJE | Z21: EVIDENCIA | AA21: PUNTAJE | AB21: Total | AC21: Imp. | AD21: Prob | AE21: Riesgo Residual (ZFR) | AG21: Acciones en Caso de Materialización | AK21: Indicador Relacionado | AN21: Documentos Relacionados
B22: ETAPA_CONTRACTUAL | D22: Pagos efectuados a contratistas | J22: Pagar bienes, servicios u obras a par de no cumplir las condiciones de calidad | M22: 5 | N22: 1 | O22: =VLOOKUP(N22,Instrucciones!$C$19:$H$23,MATCH(Mapa!M22,Instrucciones!$C$18:$H$18,0),FALSE) -> Zona de Riesgo Alta | Q22: 1. Informe de Ejecución de Actividades del Contrato. 2. Recibo a satisfacción. | R22: Mixto | S22: =IFERROR(VLOOKUP(R22,Instrucciones!$J$17:$K$29,2,),0) -> 20 | T22: Manual | U22: =IFERROR(VLOOKUP(T22,Instrucciones!$J$17:$K$29,2,),0) -> 15 | V22: Documentado | W22: =IFERROR(VLOOKUP(V22,Instrucciones!$J$17:$K$29,2,),0) -> 20 | X22: Aleatoria | Y22: =IFERROR(VLOOKUP(X22,Instrucciones!$J$17:$K$29,2,),0) -> 10 | Z22: Con registro | AA22: =IFERROR(VLOOKUP(Z22,Instrucciones!$J$17:$K$29,2,),0) -> 20 | AB22: =SUM(S22,U22,W22,Y22,AA22) -> 85 | AC22: =M22-(_xlfn.IFS(R22="Mixto",VLOOKUP(AB22,Instrucciones!$U$1:$V$100,2,FALSE),R22="Correctivo",VLOOKUP(AB22,Instrucciones!$U$1:$V$100,2,FALSE),R22="Preventivo",0,R22="Detectivo",0)) -> 4 | AD22: =IF(S22>10,(IF(N22=1,1,(IF((N22-(_xlfn.IFS(AB22<=65,Instrucciones!$M$18,AB22<=85,Instrucciones!$M$19,AB22>85,Instrucciones!$M$20))=0),1,(N22-(_xlfn.IFS(AB22<=65,Instrucciones!$M$18,AB22<=85,Instrucciones!$M$19,AB22>85,Instrucciones!$M$20))))))),N22) -> 1 | AE22: =VLOOKUP(AD22,Instrucciones!$C$19:$H$23,MATCH(Mapa!AC22,Instrucciones!$C$18:$H$18,0),FALSE) -> Zona de Riesgo Alta | AG22: Investigaciones y sanciones pertinentes al riesgo fiscal asociado | AK22: N.A. | AN22: Informe de Ejecución de Actividades del Contrato. Recibo a satisfacción. | AP22: Secretaría General Grupo de Gestión Documental y Archivo
B23: RIESGOS DE SEGURIDAD DE LA INFORMACIÓN
B24: IDENTIFICACIÓN DE RIESGOS PARA LA SEGURIDAD DE LA INFORMACIÓN | M24: ANÁLISIS DE RIESGO INHERENTE | Q24: EVALUACIÓN DEL RIESGO | AG24: ACCIONES CORRECTIVAS | AK24: ARTICULACIÓN CON EL SISTEMA DE GESTIÓN | AP24: RESPONSABLE
B25: Riesgo | C25: Activo | E25: Amenaza | I25: Vulnerabilidad | M25: Imp. | N25: Prob. | O25: Riesgo Inherente (ZIR) | Q25: Controles Para el Riesgo | R25: TIPO | S25: PUNTAJE | T25: IMPLEMENTACIÓN | U25: PUNTAJE | V25: DOCUMENTACIÓN | W25: PUNTAJE | X25: FRECUENCIA | Y25: PUNTAJE | Z25: EVIDENCIA | AA25: PUNTAJE | AB25: Total | AC25: Imp. | AD25: Prob. | AE25: Riesgo Residual (ZFR) | AG25: Acciones en Caso de Materialización | AK25: Indicador Relacionado | AN25: Documentos Relacionados
B26: Pérdida de la disponibilidad e integridad | C26: Documentación del proceso en medio digital | E26: Fallos técnicos Saturación del sistema de información Vulneración del mantenimiento del sistema de información Acciones humanas Robo de medios o documentos Entrada de datos de fuentes no fiables Uso no autorizado de dispositivos Uso incorrecto de dispositivos Secuestro de información con fines extorsivos Amenazas para la organización Fallas de los proveedores de servicios | I26: Software Configuración incorrecta de los parámetros No se cierra la sesión al abandonar el puesto de trabajo La asignación errónea de los derechos de acceso | M26: 4 | N26: 4 | O26: =VLOOKUP(N26,Instrucciones!$C$19:$H$23,MATCH(M26,Instrucciones!$C$18:$H$18,0),FALSE) -> Zona de Riesgo Extrema | Q26: 1. Los activos de información relacionados son objeto de Back Up. 2. En la Inducción y Reinducción se cubren temas de manejo seguro de herramientas digitales y software. 3. El personal profesional de la oficina de CTeI es competente para la configuración de medios de almacenamiento. 4. Se llevan a cabo actividades para promover prácticas seguras como el cierre de sesión al abandonar el puesto de trabajo. 5. La gestión de acceso se lleva a cabo mediante la Política de Seguridad de la Información - Política 1: Acceso a la Información. 6. Almacenamiento de archivos en nube 7. Seguimiento a las actividades de mantenimiento de los sistemas de información 8.Control de intercambio de datos a traves de antivirus y firewall | R26: Mixto | S26: =IFERROR(VLOOKUP(R26,Instrucciones!$J$17:$K$29,2,),0) -> 20 | T26: Manual | U26: =IFERROR(VLOOKUP(T26,Instrucciones!$J$17:$K$29,2,),0) -> 15 | V26: Documentado | W26: =IFERROR(VLOOKUP(V26,Instrucciones!$J$17:$K$29,2,),0) -> 20 | X26: Aleatoria | Y26: =IFERROR(VLOOKUP(X26,Instrucciones!$J$17:$K$29,2,),0) -> 10 | Z26: Con registro | AA26: =IFERROR(VLOOKUP(Z26,Instrucciones!$J$17:$K$29,2,),0) -> 20 | AB26: =SUM(S26,U26,W26,Y26,AA26) -> 85 | AC26: =M26-(_xlfn.IFS(R26="Mixto",VLOOKUP(AB26,Instrucciones!$U$1:$V$100,2,FALSE),R26="Correctivo",VLOOKUP(AB26,Instrucciones!$U$1:$V$100,2,FALSE),R26="Preventivo",0,R26="Detectivo",0)) -> 3 | AD26: =IF(S26>10,(IF(N26=1,1,(IF((N26-(_xlfn.IFS(AB26<=65,Instrucciones!$M$18,AB26<=85,Instrucciones!$M$19,AB26>85,Instrucciones!$M$20))=0),1,(N26-(_xlfn.IFS(AB26<=65,Instrucciones!$M$18,AB26<=85,Instrucciones!$M$19,AB26>85,Instrucciones!$M$20))))))),N26) -> 3 | AE26: =VLOOKUP(AD26,Instrucciones!$C$19:$H$23,MATCH(Mapa!AC26,Instrucciones!$C$18:$H$18,0),FALSE) -> Zona de Riesgo Alta | AG26: Restablecimiento desde los back up y/o versiones en línea Volver a cargar y/o compartir la información de forma adecuada, con los permisos necesarios Reforzar el conocimiento del personal en actividades para cargar o compartir la información | AK26: N/A | AN26: GS-OT-02 Política de Seguridad de la Información Inventario de activos de la información | AP26: Profesional Especializado - Gestión Documental y Archivo Oficina asesora de CTeI
B27: Pérdida de la disponibilidad e integridad | C27: Documentación del proceso en medio físico | E27: Amenazas Físicas Fuego, agua, polvo Amenazas Naturales Fenómenos climáticos (vendaval, inundación) Fallos en las infraestructuras Pérdida del insumo eléctrico Fallas técnicas Falla de dispositivos o sistemas Acciones humanas Sabotaje, robo de medios o documentos, entrada no autorizada en instalaciones, daño de dispositivos o medios Compromiso de funciones o servicios Abuso de derechos o permisos | I27: Personal Ausencia del personal, procedimientos inadecuados de contratación, formación insuficiente sobre seguridad y/o escasa concienciación en materia de seguridad, Trabajo de personal etxerno o de limpieza sin supervisión Instalaciones Uso inadecuado o descuidado del control de acceso físicos a edificios o salas, red de energía inestableProtección física insuficiente del edificio, puertas y ventanas Organización No se ha creado un procedimiento formal para el control de la documentación o su implementación eficaz | M27: 4 | N27: 1 | O27: =VLOOKUP(N27,Instrucciones!$C$19:$H$23,MATCH(M27,Instrucciones!$C$18:$H$18,0),FALSE) -> Zona de Riesgo Alta | Q27: 1. Extintores de diferentes tipos, disponibles en el área 2. Ejecución de actividades de mantenimiento locativo a la infraestructura. 3. Esquema de seguridad física contratado con empresa de vigilancia privada 4. Controles de acceso a la información en medio físico y/o digital implementados 5. La gestión de acceso se lleva a cabo mediante la Política de Seguridad de la Información - Política 1: Acceso a la Información. | R27: Mixto | S27: =IFERROR(VLOOKUP(R27,Instrucciones!$J$17:$K$29,2,),0) -> 20 | T27: Manual | U27: =IFERROR(VLOOKUP(T27,Instrucciones!$J$17:$K$29,2,),0) -> 15 | V27: Documentado | W27: =IFERROR(VLOOKUP(V27,Instrucciones!$J$17:$K$29,2,),0) -> 20 | X27: Aleatoria | Y27: =IFERROR(VLOOKUP(X27,Instrucciones!$J$17:$K$29,2,),0) -> 10 | Z27: Con registro | AA27: =IFERROR(VLOOKUP(Z27,Instrucciones!$J$17:$K$29,2,),0) -> 20 | AB27: =SUM(S27,U27,W27,Y27,AA27) -> 85 | AC27: =M27-(_xlfn.IFS(R27="Mixto",VLOOKUP(AB27,Instrucciones!$U$1:$V$100,2,FALSE),R27="Correctivo",VLOOKUP(AB27,Instrucciones!$U$1:$V$100,2,FALSE),R27="Preventivo",0,R27="Detectivo",0)) -> 3 | AD27: =IF(S27>10,(IF(N27=1,1,(IF((N27-(_xlfn.IFS(AB27<=65,Instrucciones!$M$18,AB27<=85,Instrucciones!$M$19,AB27>85,Instrucciones!$M$20))=0),1,(N27-(_xlfn.IFS(AB27<=65,Instrucciones!$M$18,AB27<=85,Instrucciones!$M$19,AB27>85,Instrucciones!$M$20))))))),N27) -> 1 | AE27: =VLOOKUP(AD27,Instrucciones!$C$19:$H$23,MATCH(Mapa!AC27,Instrucciones!$C$18:$H$18,0),FALSE) -> Zona de Riesgo Moderada | AG27: Restablecimiento desde los back up y/o versiones en línea Volver a cargar y/o compartir la información de forma adecuada, con los permisos necesarios Reforzar el conocimiento del personal en actividades para cargar o compartir la información | AK27: N/A | AN27: GS-OT-02 Política de Seguridad de la Información Inventario de activos de la información | AP27: Profesional Especializado - Gestión Documental y Archivo Oficina asesora de CTeI
B28: Pérdida de la confidencialidad | C28: Documentación almacenada en el archivo central | E28: Amenazas Físicas Fuego, agua, polvo Amenazas Naturales Fenómenos climáticos (vendaval, inundación) Fallos en las infraestructuras Pérdida del insumo eléctrico Acciones humanas Sabotaje, robo de medios o documentos, entrada no autorizada en instalaciones, daño de dispositivos o medios Compromiso de funciones o servicios Abuso de derechos o permisos | I28: Personal Ausencia del personal, procedimientos inadecuados de contratación, formación insuficiente sobre seguridad y/o escasa concienciación en materia de seguridad, Trabajo de personal etxerno o de limpieza sin supervisión Instalaciones Uso inadecuado o descuidado del control de acceso físicos a edificios o salas, red de energía inestableProtección física insuficiente del edificio, puertas y ventanas Organización No se ha creado un procedimiento formal para el control de la documentación o su implementación eficaz | M28: 4 | N28: 1 | O28: =VLOOKUP(N28,Instrucciones!$C$19:$H$23,MATCH(M28,Instrucciones!$C$18:$H$18,0),FALSE) -> Zona de Riesgo Alta | Q28: 1. Extintores de diferentes tipos, disponibles en el área 2. Ejecución de actividades de mantenimiento locativo a la infraestructura. 3. Esquema de seguridad física contratado con empresa de vigilancia privada 4. Controles de acceso a la información en medio físico y/o digital implementados 5. La gestión de acceso se lleva a cabo mediante la Política de Seguridad de la Información - Política 1: Acceso a la Información. | R28: Mixto | S28: =IFERROR(VLOOKUP(R28,Instrucciones!$J$17:$K$29,2,),0) -> 20 | T28: Manual | U28: =IFERROR(VLOOKUP(T28,Instrucciones!$J$17:$K$29,2,),0) -> 15 | V28: Documentado | W28: =IFERROR(VLOOKUP(V28,Instrucciones!$J$17:$K$29,2,),0) -> 20 | X28: Aleatoria | Y28: =IFERROR(VLOOKUP(X28,Instrucciones!$J$17:$K$29,2,),0) -> 10 | Z28: Con registro | AA28: =IFERROR(VLOOKUP(Z28,Instrucciones!$J$17:$K$29,2,),0) -> 20 | AB28: =SUM(S28,U28,W28,Y28,AA28) -> 85 | AC28: =M28-(_xlfn.IFS(R28="Mixto",VLOOKUP(AB28,Instrucciones!$U$1:$V$100,2,FALSE),R28="Correctivo",VLOOKUP(AB28,Instrucciones!$U$1:$V$100,2,FALSE),R28="Preventivo",0,R28="Detectivo",0)) -> 3 | AD28: =IF(S28>10,(IF(N28=1,1,(IF((N28-(_xlfn.IFS(AB28<=65,Instrucciones!$M$18,AB28<=85,Instrucciones!$M$19,AB28>85,Instrucciones!$M$20))=0),1,(N28-(_xlfn.IFS(AB28<=65,Instrucciones!$M$18,AB28<=85,Instrucciones!$M$19,AB28>85,Instrucciones!$M$20))))))),N28) -> 1 | AE28: =VLOOKUP(AD28,Instrucciones!$C$19:$H$23,MATCH(Mapa!AC28,Instrucciones!$C$18:$H$18,0),FALSE) -> Zona de Riesgo Moderada | AG28: Establecimiento de sanciones disciplinarias. | AK28: N/A | AN28: GS-OT-02 Política de Seguridad de la Información | AP28: Profesional Especializado - Gestión Documental y Archivo Oficina asesora de CTeI
B29: OPORTUNIDADES DEL PROCESO
B30: IDENTIFICACIÓN DE OPORTUNIDADES DEL PROCESO | M30: VALORACIÓN DE LA OPORTUNIDAD | R30: GESTIÓN DE LAS OPORTUNIDADES | AP30: RESPONSABLE
B31: Oportunidad | D31: Origen | L31: Posibles Efectos | M31: Imp. | N31: Factibilidad | O31: Nivel de oportunidad | Q31: Nivel de priorización | R31: Actividades para implementación de la oportunidad | AG31: Productos entregables
O32: =N32*M32 -> 0 | Q32: =IF(O32=9,Instrucciones!M39,IF(O32<=2,Instrucciones!M41,Instrucciones!M40)) -> Oportunidad con priorización baja
O33: =N33*M33 -> 0 | Q33: =IF(O33=9,Instrucciones!M39,IF(O33<=2,Instrucciones!M41,Instrucciones!M40)) -> Oportunidad con priorización baja
H36: CONTROL DE CAMBIOS
H37: Versión | L37: Fecha | M37: Descripción del Cambio
H38: 1 | L38: 41418 | M38: Creación del Documento
H39: 2 | L39: 45040 | M39: Se establece la estructura para el mapa de riesgos en la cual se incluye una pestaña para registrar el control de las actualizaciones de los riesgos y los controles correspondientes.
H40: 3 | L40: 45419 | M40: Se incluyen un espacio para los riesgos fiscales y de seguridad de la información. Se incluyen los criterios para la valoración de los controles establecidos. Se incluye el cuestionario para valorar el impacto de los riesgos de corrupción. Se adiciona dentro del formato lo relativo a la gestión de oportunidades.

Sheet Val. Imp. Corrupcion
D2: MAPA
D3: MAPA DE RIESGO INSTITUCIONAL Y DE CORRUPCIÓN - PROCESO: GESTIÓN DOCUMENTAL Y ARCHIVO
D4: Código: GA-MP-01 | G4: Versión: 3 | I4: Fecha: 07/05/2024
B6: VALORACIÓN DEL IMPACTO DEL RIESGO DE CORRUPCIÓN
E8: No. | F8: PREGUNTA SI EL RIESGO DE CORRUPCIÓN SE MATERIALIZA PODRÍA … | H8: RESPUESTA
H9: SI | I9: NO
E10: 1 | F10: ¿Afectar al grupo de funcionarios del proceso? | H10: X
E11: 2 | F11: ¿Afectar al cumplimiento de metas y objetivos de la dependencia? | H11: X
E12: 3 | F12: ¿Afectar el cumplimiento de misión de la entidad? | H12: X
E13: 4 | F13: ¿Afectar el cumplimiento de la misión del sector al que pertenece la entidad? | H13: X
E14: 5 | F14: ¿Generar pérdida de confianza de la entidad, afectando su reputación? | H14: X
E15: 6 | F15: ¿Genera pérdida de recursos económicos? | I15: X
E16: 7 | F16: ¿Afectar la generación de los productos o la prestación de servicios? | I16: X
E17: 8 | F17: ¿Dar lugar al detrimento de calidad de vida de la comunidad por la pérdida del bien, servicios o recursos públicos? | H17: X
E18: 9 | F18: ¿Generar pérdida de información de la entidad? | I18: X
E19: 10 | F19: ¿Generar intervención de los órganos de control, de la Físcalia y u otro ente? | I19: X
E20: 11 | F20: ¿Dar lugar a procesos sancionatorios? | H20: X
E21: 12 | F21: ¿Dar lugar a procesos disciplinarios? | H21: X
E22: 13 | F22: ¿Dar lugar a procesos fiscales? | H22: X
E23: 14 | F23: ¿Dar lugar a procesos penales? | H23: X
E24: 15 | F24: ¿Generar pérdida de credibilidad del sector? | H24: X
E25: 16 | F25: ¿Ocasionar lesiones físicas o pérdida de vidas humanas? | I25: X
E26: 17 | F26: ¿Afectar la imagen regional? | H26: X
E27: 18 | F27: ¿Afectar la imagen nacional? | H27: X
E28: 19 | F28: ¿Generar un daño ambiental? | I28: X
E29: Responder afirmativamente de UNA a CINCO preguntas genera un impacto moderado Responder afirmativamente de SEIS a ONCE preguntas genera un impacto mayor Responder afirmativamente de DOCE a DIECINUEVE preguntas genera un impacto catastrófico | H29: =E28-(COUNTBLANK(H10:H28)) -> 13
E30: Fuente: Secretaría de Transparencía de la Presidencia de la República

Sheet Puntos de riesgo fiscal
A1: LISTADO ENUNCIATIVO DE PUNTOS DE RIESGO FISCAL Y CAUSAS INMEDIATAS
A2: PUNTO DE RIESGO FISCAL | B2: ACTIVIDAD EN LA QUE POTENCIALMENTE SE ORIGINA EL RIESGO FISCAL | C2: CIRCUNSTANCIA INMEDIATA
A3: ACTIVIDAD_ADMINISTRATIVA_CONTABLE_FINANCIERA | B3: Cumplimiento de las normas y obligaciones ante autoridades | C3: Pago de multas, clausulas penales o cualquier tipo de sanción | F3: =A3 -> ACTIVIDAD_ADMINISTRATIVA_CONTABLE_FINANCIERA
B4: Cumplimiento de obligaciones | C4: Pago de intereses moratorios | F4: =A11 -> DEFENSA_JUDICIAL
B5: Desplazamientos de los funcionarios y de los contratistas a lugares diferentes al domicilio de la entidad | C5: Pago de viáticos, honorarios o gastos de desplazamiento sin justificación o por encima de los valores establecidos normativamente | F5: =A15 -> ETAPA_PRECONTRACTUAL
B6: Liquidación de impuestos | C6: Mayor valor pagado por concepto de impuestos | F6: =A25 -> ETAPA_CONTRACTUAL
B7: Operaciones, actas o actos en los que se reconocen saldos a favor de la entidad | C7: Saldos o recursos a favor no cobrados | F7: =A40 -> ETAPA_POSTCONTRACTUAL
B8: Custodia de los bienes muebles de la entidad | C8: Pérdida, extravío, hurto, robo o declaratoria de bienes faltantes pertenecientes a la entidad | F8: =A48 -> GESTIÓN_PREDIAL_REGISTRO_INMOBILIARIO
B9: Avalúos a bienes inmuebles de la entidad | C9: Error en los avalúos, afectando el valor de venta y/o negociación de un bien público | F9: =A50 -> ACTIVIDAD_MANEJO_BASES_DE_DATOS_SISTEMAS_INFORMACIÓN
B10: Custodia de los bienes inmuebles de la entidad | C10: Daño en bienes inmuebles de propiedad de la entidad | F10: =A54 -> ACTIVIDAD_DE_LA_GESTIÓN_COBRO
A11: DEFENSA_JUDICIAL | B11: Suscripción de contratos cuyo objeto es o incluye la representación judicial o extrajudicial de la Entidad | C11: Valor pagado por concepto de honorarios de apoderado cuando ocurre vencimiento de términos en los procesos judiciales o cualquier otra omisión del apoderado
B12: Pago de sentencias y conciliaciones | C12: Intereses moratorios por pago tardío de sentencias y conciliaciones
B13: Instrucción del Comité de Conciliación para iniciar acción de repetición | C13: Caducidad de la acción de repetición o falencias en el ejercicio de esta acción, generando la imposibilidad de recuperar los recursos pagados por el Estado
B14: Informe que acredite o anuncie la existencia de perjuicios generados a la Entidad | C14: Omisión en la obligación de impulsar acción judicial para cobrar clausula penal o perjuicios
A15: ETAPA_PRECONTRACTUAL | B15: Contratación de bienes o servicios | C15: Contratación de bienes y servicios no relacionados con las funciones de la entidad y que no generan utilidad
B16: Contratación de bienes o servicios 1 | C16: Compra o inversión en bienes innecesarios o suntuosos
B17: Contratación de estudios y diseños | C17: Estudios y diseñados recibidos y pagados y que no cumplen condiciones de calidad
B18: Suscripción de contratos de estudios y diseños | C18: Estudios y diseños con amparo de calidad vencido al momento de contratar la obra y/o l momento de la ocurrencia
B19: Suscripción de contratos | C19: Sobrecostos en precios contractuales
B20: Suscripción de contratos | C20: Pagos efectuados a causa de riesgos previsibles que debieron asignarse al contratista en la matriz de riesgo previsibles que no le asignaron
B21: Suscripción de contratos | C21: No incluir en el contrato de seguros -amparo de bienes de la Entidad- todos los bienes muebles e inmuebles de la entidad
B22: Suscripción de contratos | C22: No exigir garantía única de cumplimiento contractual
B23: Suscripción de contratos | C23: Exigir garantía única de cumplimiento contractual con cubrimiento inferior al exigido de la Ley
B24: Suscripción de contratos respecto de los cuales la ley establece un cubrimiento mínimo en los amparos de la garantía única de cumplimiento | C24: Exigir garantía única de cumplimiento contractual con un cubrimiento inferior al exigido por la ley
A25: ETAPA_CONTRACTUAL | B25: Pagos efectuados a contratistas | C25: Pagar bienes, servicios u obras a par de no cumplir las condiciones de calidad
B26: Constancias de recibo a satisfacción de bienes, servicios u obras, firmadas por supervisor o interventor | C26: Bienes, servicios u obras inconclusos, no funcionales y/o que no brindan utilidad o beneficio
B27: Modificaciones contractuales firmadas | C27: Modificaciones contractuales cuyas causas son imputables al contratista total o parcialmente y cuyos costos colaterales asume la entidad contratante
B28: Giros efectuados por concepto de anticipo contractual | C28: Mal Manejo o fallas en la legalización de anticipos, no amortización del anticipo
B29: Giros efectuados por concepto de anticipo contractual | C29: Rendimientos financieros de recursos de anticipo o de cualquier recurso público no devueltos al tesoro público
B30: Reconocimiento y pago de desequilibrio contractual | C30: Reconocimiento y pago de desequilibrio contractual por causa imputable a la Entidad
B31: Firma de actas contractuales de recibo parcial o final | C31: Errores o imprecisiones en las actas de recibo parcial o final
B32: Firmas de adiciones de ítems, actividades o productos inicialmente previsto ( contratos adicionales) | C32: Adición de ítem, actividad o producto no previsto sin estudio de mercado y/o con sobrecosto
B33: Firmas de adiciones de ítems, actividades o productos inicialmente previsto (adiciones) | C33: Mayores cantidades reconocidas y pagadas con valores unitarios superiores al pactado en el contrato
B34: Actos administrativos sancionatorios contractuales emitidos y ejecutoriados | C34: Cuantificación errada de multa o clausula penal
B35: Obras recibidas a satisfacción | C35: Colapso o fallas en la estabilidad de la obra
B36: Pagos finales efectuados o contratistas | C36: Ejecución de un alcance inferior al contratado o pago total del contrato
B37: Actas de recibo final a satisfacción firmadas | C37: Disfuncionalidad de lo ejecutado
... B39: Pago efectuados a contratistas | C39: Inadecuada deducción de impuestos tasas o contribuciones al contratista
A40: ETAPA_POSTCONTRACTUAL | B40: Pagos por concepto de comisión a éxito | C40: Pago de comisiones a éxito sin debida justificación
B41: Actas de liquidación suscritas | C41: Suscripción de acta de liquidación con imprecisiones de fondo
...

Sheet Amenaza y Vulnerabilidad
A1: TIPO | B1: AMENAZAS | C1: ORIGEN | E1: TIPO | F1: VULNERABILIDADES
A2: Amenazas físicas | B2: Fuego | C2: A, D, E | E2: Hardware | F2: Mantenimiento insuficiente/instalación defectuosa de los medios de almacenamiento
B3: Daños por el agua | C3: A, D, E | F3: Insuficientes planes de sustitución periódica de los equipos
B4: Contaminación, radiación nociva | C4: A, D, E | F4: Susceptibilidad a la humedad, el polvo y la suciedad
B5: Accidente grave | C5: A, D, E | F5: Sensibilidad a la radiación electromagnética
B6: Explosión | C6: A, D, E | F6: Insuficiente control de los cambios de configuración
B7: Polvo, corrosión, congelación | C7: A, D, E | F7: Susceptibilidad a las variaciones de tensión
A8: Amenazas naturales | B8: Fenómeno climático | C8: E | F8: Susceptibilidad a las variaciones de temperatura
B9: Fenómeno sísmico | C9: E | F9: Almacenamiento sin protección
B10: Fenómeno volcánico | C10: E | F10: Falta de cuidado en la eliminación
B11: Fenómeno meteorológico | C11: E | F11: Copia incontrolada
B12: Inundación | C12: E | E12: Software | F12: Ausencia o insuficiencia de pruebas de software
B13: Fenómeno pandémico/epidémico | C13: E | F13: Defectos conocidos en el software
A14: Fallos en las infraestructuras | B14: Fallo de un sistema de suministro | C14: A, D | F14: Ausencia de "cierre de sesión" al abandonar el puesto de trabajo
B15: Fallo del sistema de refrigeración o ventilación | C15: A, D | F15: Eliminación o reutilización de los medios de almacenamiento sin un borrado adecuado
B16: Pérdida de suministro eléctrico | C16: A, D, E | F16: Configuración insuficiente de los registros con fines de auditoría
B17: Fallo de una red de telecomunicaciones | C17: A, D, E | F17: Asignación incorrecta de los derechos de acceso
B18: Fallo del equipo de telecomunicaciones | C18: A, D | F18: Software ampliamente distribuido
B19: Radiación electromagnética | C19: A, D, E | F19: Aplicación de programas de aplicación a los datos erróneos en términos de tiempo
B20: Radiación térmica | C20: A, D, E | F20: Interfaz de usuario complicada
B21: Pulsos electromagnéticos | C21: A, D, E | F21: Insuficiente o falta de documentación
A22: Fallos técnicos | B22: Fallo del dispositivo o del sistema | C22: A | F22: Configuración incorrecta de los parámetros
B23: Saturación del sistema de información | C23: A, D | F23: Fechas incorrectas
B24: Violación de la mantenibilidad del sistema de información | C24: A, D | F24: Mecanismos de identificación y autentificación insuficientes (por ejemplo, para la autentificación de los usuarios)
A25: Acciones humanas | B25: Ataque terrorista, sabotaje | C25: D | F25: Tablas de contraseñas desprotegidas
B26: Ingeniería social | C26: D | F26: Mala gestión de las contraseñas
B27: Interceptación de la radiación de un dispositivo | C27: D | F27: Servicios innecesarios habilitados
B28: Espionaje remoto | C28: D | F28: Software inmaduro o nuevo
B29: Espionaje | C29: D | F29: Especificaciones poco claras o incompletas para los desarrolladores
B30: Robo de medios o documentos | C30: D | F30: Control de cambios ineficaz
B31: Robo de equipos | C31: D | F31: Descarga y uso incontrolado de software
B32: Robo de identidad o credenciales digitales | C32: D | F32: Falta de copias de seguridad o copias incompletas
B33: Recuperación de soportes reciclados o desechados | C33: D | F33: Falta de elaboración de informes de gestión
B34: Divulgación de información | C34: A, D | E34: Red | F34: Mecanismos insuficientes para la prueba de envío o recepción de un mensaje
B35: Introducción de datos de fuentes no fiables | C35: A, D | F35: Líneas de comunicación desprotegidas
B36: Manipulación del hardware | C36: D | F36: Tráfico sensible desprotegido
B37: Manipulación del software | C37: A, D | F37: Cableado conjunto deficiente
B38: Explotación por medio de la comunicación basada en la web | C38: D | F38: Punto único de fallo
B39: Ataque de repetición, ataque de hombre en el medio | C39: D | F39: Ineficacia o falta de mecanismos de identificación y autenticación del emisor y el receptor
B40: Tratamiento no autorizado de datos personales | C40: A, D | F40: Arquitectura de red insegura
...

Sheet Instrucciones
U1: 1 | V1: 0
F2: MAPA | U2: 2 | V2: 0
F3: MAPA DE RIESGO INSTITUCIONAL Y DE CORRUPCIÓN - PROCESO: GESTIÓN DOCUMENTAL Y ARCHIVO | U3: 3 | V3: 0
F4: Código: GA-MP-01 | I4: Versión: 3 | L4: Fecha: 07/05/2024 | U4: 4 | V4: 0
U5: 5 | V5: 0
B6: Instrucciones para el Diligenciamiento | U6: 6 | V6: 0
B7: PROBABILIDAD | I7: IMPACTO | U7: 7 | V7: 0
B8: Nivel | C8: Descriptor | E8: Factibilidad | G8: Frecuencia | I8: Descriptor | J8: Nivel | K8: Institucionales | M8: Seguridad de la información | O8: Fiscales | U8: 8 | V8: 0
K9: Descripción | M9: Descripción | O9: Descripción | U9: 9 | V9: 0
B10: 5 | C10: Muy alta | E10: Se espera que el evento ocurra en la mayoría de las circunstancias. Probabilidad del 90% | G10: El evento ha ocurrido mas de dos (2) veces al año | I10: Catastrófico | J10: 5 | K10: - Incumplimiento de las metas y objetivos institucionales. - Se generan sanciones administrativas y económicas para la entidad. - Imagen institucional afectada en el orden nacional. | M10: El impacto es catastrófico y puede tener consecuencias irreparables o perdida total, incumplimiento de términos legales y afectación de la imagen de la entidad a nivel nacional, con efecto publicitario sostenido a nivel país. | O10: Mayor a 100 SMLMV | U10: 10 | V10: 0
B11: 4 | C11: Alta | E11: Es viable que el evento ocurra en la mayoría de las circunstancias. Probabilidad del 80% | G11: El evento ocurrió una (1) vez en el último año | I11: Mayor | J11: 4 | K11: - Incumplimiento en las metas y objetivos institucionales sin generar sanciones administrativas o económicas para la entidad - Presentación de reclamaciones o quejas por parte de usuarios ante entes de control. - Investigaciones por parte de los entes de control. - Imagen institucional afectada a nivel regional. | M11: El impacto es grave y tiene consecuencias significativas o prolongadas que impiden el cumplimiento de terminos legales, y el riesgo afecta la imagen de la entidad con efecto publicitario sostenido a nivel departamental o municipal. | O11: Entre 10 y 100 SMLMV | U11: 11 | V11: 0
B12: 3 | C12: Media | E12: El evento podrá ocurrir en algún momento. Probabilidad del 60% | G12: El evento ocurrió una (1) vez en los últimos dos (2) años | I12: Moderado | J12: 3 | K12: - Incumplimiento de un procedimiento o estándar propio del proceso generando interrupciones en las operaciones. - Presentación de reclamaciones o quejas por parte de usuarios ante la corporación. - Investigaciones por parte de los entes de control. - Afectación de la imagen institucional a nivel local. | M12: El impacto afecta la funcionalidad o la disponibilidad del activo, y el riesgo afecta la imagen de la entidad con algunos usuarios o partes interesadas de relevancia frente al logro de los objetivos. | O12: Entre 5 y 100 SMLMV | U12: 12 | V12: 0
B13: 2 | C13: Baja | E13: El evento puede ocurrir en algún momento. Probabilidad del 40% | G13: El evento ocurrió una (1) vez en los últimos 5 años | I13: Menor | J13: 2 | K13: - Incumplimiento de un procedimiento o estándar propio del proceso sin presentar interrupción de sus operaciones. - No se generan sanciones económicas o administrativas para la entidad. - No se afecta la imagen institucional | M13: El impacto tiene ciertas consecuencias, pero no es crítico y no afecta el cumplimiento de los términos legales, y el riesgo afecta la imagen de la Corporación internamente, de conocimiento general a nivel interno, de la alta dirección, del Consejo Directivo y/o de proveedores. | O13: Entre 1 y 5 SMLMV | U13: 13 | V13: 0
B14: 1 | C14: Muy baja | E14: El evento puede ocurrir solo en circunstancias excepcionales (poco comunes o anormales). Probabilidad del 20% | G14: El evento no se ha presentado en los últimos cinco (5) años | I14: Insignificante | J14: 1 | K14: - Incumplimiento parcial de un procedimiento o estándar propio del proceso sin presentar interrupción de sus operaciones. - No se generan sanciones económicas o administrativas para la entidad. - No se afecta la imagen institucional | M14: El impacto es mínimo y no afecta significativamente la funcionalidad del activo, y el riesgo afecta la imagen y/o las labores de algún área de la Corporación. | O14: Afectación menor a 1 SMLMV | U14: 14 | V14: 0
U15: 15 | V15: 0
B16: Zonas de Riesgos | I16: Análisis y Evaluación de los Controles | U16: 16 | V16: 0
I17: Criterios para la Evaluación de controles | J17: Clases | K17: Puntuación | L17: Rangos de Calificación de los Controles | M17: Cuadrantes a disminuir en probabilidad | U17: 17 | V17: 0
D18: 1 | E18: 2 | F18: 3 | G18: 4 | H18: 5 | I18: TIPO | J18: Mixto | K18: 20 | L18: Entre 0-65 | M18: 0 | U18: 18 | V18: 0
C19: 5 | D19: Zona de Riesgo Alta | E19: Zona de Riesgo Alta | F19: Zona de Riesgo Extrema | G19: Zona de Riesgo Extrema | H19: Zona de Riesgo Extrema | J19: Preventivo | K19: 15 | L19: Entre 66-85 | M19: 1 | U19: 19 | V19: 0
C20: 4 | D20: Zona de Riesgo Moderada | E20: Zona de Riesgo Alta | F20: Zona de Riesgo Alta | G20: Zona de Riesgo Extrema | H20: Zona de Riesgo Extrema | J20: Detectivo | K20: 10 | L20: Entre 86-100 | M20: 2 | U20: 20 | V20: 0
C21: 3 | D21: Zona de Riesgo Baja | E21: Zona de Riesgo Moderada | F21: Zona de Riesgo Alta | G21: Zona de Riesgo Extrema | H21: Zona de Riesgo Extrema | J21: Correctivo | K21: 10 | U21: 21 | V21: 0
C22: 2 | D22: Zona de Riesgo Baja | E22: Zona de Riesgo Baja | F22: Zona de Riesgo Moderada | G22: Zona de Riesgo Alta | H22: Zona de Riesgo Extrema | I22: IMPLEMENTACIÓN | J22: Autómatico | K22: 20 | U22: 22 | V22: 0
C23: 1 | D23: Zona de Riesgo Baja | E23: Zona de Riesgo Baja | F23: Zona de Riesgo Moderada | G23: Zona de Riesgo Alta | H23: Zona de Riesgo Alta | J23: Manual | K23: 15 | U23: 23 | V23: 0
I24: DOCUMENTACIÓN | J24: Documentado | K24: 20 | U24: 24 | V24: 0
J25: Sin documentar | K25: 10 | U25: 25 | V25: 0
I26: FRECUENCIA | J26: Continua | K26: 20 | U26: 26 | V26: 0
J27: Aleatoria | K27: 10 | U27: 27 | V27: 0
I28: EVIDENCIA | J28: Con registro | K28: 20 | U28: 28 | V28: 0
J29: Sin registro | K29: 10 | U29: 29 | V29: 0
I30: PUNTAJE MÁXIMO POSIBLE | K30: 100 | U30: 30 | V30: 0
U31: 31 | V31: 0
B32: VALORACIÓN DE LAS OPORTUNIDADES | U32: 32 | V32: 0
B33: FACTIBILIDAD | G33: IMPACTO | M33: IMPACTO | U33: 33 | V33: 0
B34: NIVEL | D34: DECRIPCIÓN | G34: NIVEL | I34: DESCRIPCIÓN | M34: 1 | N34: 2 | O34: 3 | U34: 34 | V34: 0
B35: ELEVADA | C35: 3 | D35: La implementación de la oportunidad es altmente factible por su pertinencia, disponibilidad de recursos y aceptabilidad | G35: ALTO | H35: 3 | I35: Impacto relevante para la estrategia de la organización y resultados previstos del sistema de gestión integral. Introduce mejoras muy significativas | K35: FACTIBILIDAD | L35: 3 | M35: Media | N35: Media | O35: Alto | U35: 35 | V35: 0
B36: MODERADA | C36: 2 | D36: La implementación de la oportunidad es factible, si bien presenta algunas dificultades por la disponibilidad de recursos y/o aceptabilidad | G36: MODERADO | H36: 2 | I36: Impacto moderado para la estrategia de la organización y resultados previstos del sistema de gestión integral. Introduce algunas mejoras relevantes | L36: 2 | M36: Baja | N36: Media | O36: Media | U36: 36 | V36: 0
B37: BAJA | C37: 1 | D37: La implementación de la oportunidad es poco factible con dificultades para llevarla a cabo | G37: BAJO | H37: 1 | I37: Impacto bajo para la estrategia de la organización y resultados previstos del sistema de gestión integral. No instroduce mejoras importantes | L37: 1 | M37: Baja | N37: Baja | O37: Media | U37: 37 | V37: 0
U38: 38 | V38: 0
M39: Oportunidad con priorización alta | U39: 39 | V39: 0
M40: Oportunidad con priorización media | U40: 40 | V40: 0
...

Sheet Control de Actualización
C1: MAPA
C2: MAPA DE RIESGOS Y OPORTUNIDADES - GESTIÓN DOCUMENTAL Y ARCHIVO
C3: Código: GA-MP-01 | D3: Versión: 3 | E3: Fecha: 07/05/2024
A4: CONTROL DE ACTUALIZACIÓN
A5: No. | B5: FECHA DE REVISIÓN | C5: OBSERVACIONES DE REVISIÓN / ACTUALIZACIÓN | F5: FUNCIONARIO QUE REALIZÓ LA REVISIÓN / ACTUALIZACIÓN
A6: 1 | B6: 42599 | C6: 1. Se complementaron los controles existentes del riesgo operativo inadecuada representación judicial. 2. Se elimino el riesgo operativo tramitación indebida de conciliaciones. 3. Se complementaron los controles existentes de los riesgos operativos seguimiento inoportuno de los procesos judiciales y perdida de información registrada en los expedientes. | F6: Proceso de Gestión documental y de archivo
A7: 2 | B7: 43299 | C7: 1. Se actualizo toda la metodologia del mapa de riesgo adoptando los lineamientos de la función publica y la iso 31000 2. Se revisaron los riesgos eliminandose aquellos que no se habian podido identificar adecuadamente. | F7: Proceso de Gestión documental y de archivo
A8: 3 | B8: 43419 | C8: Se modifican algunos riesgos. | F8: Proceso de Gestión documental y de archivo
A9: 4 | B9: 44146 | C9: Se realizaron ajustes a los riesgos. Se incluyó el nuevo objetivo de la línea estratégica que aplica al proceso de acuerdo al nuevo Plan de Acción Institucional PAI 2020-2023. Adicionalmente, se incluyó el nuevo logo del SGI. | F9: Proceso de Gestión documental y de archivo
A10: 5 | B10: 44441 | C10: 1. Se ajusta el objetivo del proceso conforme está desde la caracterización. “Coordinar el sistema de gestión documental de la Corporación con el SGI a través de los instrumentos existentes, garantizando el acceso a la información y apuntando a la transformación digital de los servicios” 2. Se ajustan los numerales 4 y 7 de controles del riesgo “Pérdida o deterioro del patrimonio documental durante el ciclo vital del documento”; el numeral 4 respecto al acceso al archivo central, este ya no se encuentra en las instalaciones de la entidad, se encuentra en custodia a través de contratación 362/2020 con la empresa MERCADATOS S. A, a la cual solo puede acceder el supervisor del contrato; de otro lado, el numeral 7, desde el mes de noviembre de 2020 no se cuenta con un Gestor Documental, debido al vencimiento del contrato que se tenía con el proveedor de (DOCUNET), el proceso se está ejecutando de forma manual, la entrega de las comunicaciones se está haciendo de forma virtual a través de los correos institucionales, solo en caso excepcional se utiliza el libro de radicación. No obstante, se está en el proceso de implementación del nuevo gestor que iniciará su paso de producción para el último trimestre de este 2021. 3. Se ajusta el numeral 4 del control “errores en la gestión y trámite de comunicaciones (internas y externas)” debido a que la base de datos de los usuarios se encuentra actualizada hasta el mes de noviembre de 2020, fecha en el cual se dejó de utilizar el Gestor Documental-DOCUNET; por lo tanto, se va a Actualizar la base de datos de usuarios a medida que se va obteniendo la información correcta con las herramientas tecnológicas actuales en la entidad. 4. Se ajusta el control 4 del riesgo “Pérdidas, destrucción, alteración o deterioro de documentos para favorecer a un tercero interesado o en beneficio propio” ya que el archivo central está en custodia; por lo tanto, se establece el Control permanente en el acceso para la información que reposa en el Archivo Central, que está en custodia de terceros. 5. Se elimina Contexto Externo, contexto interno y contexto del proceso. | F10: Proceso de Gestión documental y de archivo
A11: 6 | B11: 44862 | C11: 1. Se eliminó el contexto externo, interno y del proceso. 2. Se eliminó el objetivo estrátegico. 3. Se eliminó el objetivo de calidad. | F11: Proceso de Gestión documental y de archivo
A12: 7 | B12: 45246 | C12: 1. Se ajsuta la valoración del riesgo ncumplimiento en la aplicación de las Tablas de Retención documental 2. Se adicionan consecuencias en el riesgo de corrupción y se actualiza el nombre de códitgo de ética a código de integridad. 3. se ajustó un control en el riesgo Pérdida o deterioro del patrimonio documental durante el ciclo vital del documento. 4. Se actualizaron los respondables del riego 1. 5. Se coloca una nueva causa en el primer riesgo. 6.En el riesgo Errores en la gestión y trámite de comunicaciones (internas y externas), como causa se adiciona: Deficiencias en el manejo del SGD y demás herramientas tecnológicas disponibles en la entidad; otra causa Incompatibilidad entre los formatos que admite el SGD y los formatos que se aportan lo usuarios. | F12: Proceso de Gestión documental y de archivo
A13: 8 | B13: 45497 | C13: 1. Se actualiza el documento bajo el nueva versión del mapa de riesgos. 2. Se incluyen riesgos fiscales y de corrupción. 3. Se incluye riesgo de seguridad de la información. | F13: Fabiola Duque
A14: 9 | B14: 45611 | C14: 1.En el Riesgo Pérdida o deterioro del patrimonio documental durante su ciclo vital se actualizaron: las causas, los controles al riego, las acciones en Caso de Materialización; los indicadores y documentos relacionados 2. En el riesgo Incumplimiento en la aplicación de las Tabla de Retención documental; se actualizaron los indicadores y documentos relacionados | F14: Proceso de Gestión documental y de archivo
A15: 10 | B15: 45938 | C15: Diligenciamiento de los riesgos de seguridad de la información con base en los activos aplicables al proceso | F15: Juan Camilo Calderón
A16: 11 | B16: 46062 | C16: Se cambia el nombre del riesgo denomina Errores en la gestión y trámite de comunicaciones recibidas y enviadas por Demora o inconsistencias en la gestión y trámite de comunicaciones recibidas y enviadas, y se realizan los siguientes ajustes al riesgo - Adición de causa: 8. Deficiencias en el funcionamiento del SGD. - Se eliminan las siguientes causas:-Ausencia de controles. Debilidades en los ocho (8) procesos de la gestión documental - Se retira el control: Aplicación de las actividades pertinentes del procedimiento de gestión documental. Se vincula un nuevo riesgo denominado: Gestión inadecuada de la información almacenada en el archivo central de la entidad | F16: Fabiola Duque

Sheet Datos R fiscal
A1: ACTIVIDAD ADMINISTRATIVA, CONTABLE Y FINANCIERA | B1: DEFENSA JUDICIAL | C1: ETAPA PRECONTRACTUAL | D1: ETAPA CONTRACTUAL | E1: ETAPA POSTCONTRACTUAL | F1: GESTIÓN PREDIAL Y REGISTRO INMOBILIARIO | G1: ACTIVIDAD DE MANEJO DE BASES DE DATOS Y SISTEMAS DE INFORMACIÓN | H1: ACTIVIDAD DE LA GESTIÓN DE COBRO
A2: Cumplimiento de las normas y obligaciones ante autoridades | B2: Suscripción de contratos cuyo objeto es o incluye la representación judicial o extrajudicial de la Entidad | C2: Contratación de bienes o servicios | D2: Pagos efectuados a contratistas | E2: Pagos por concepto de comisión a éxito | F2: Predios adquiridos | G2: Pago de subsidios, transferencias o beneficios a particulares | H2: Deudas a favor de la entidad
A3: Cumplimiento de obligaciones | B3: Pago de sentencias y conciliaciones | C3: Contratación de bienes o servicios 1 | D3: Constancias de recibo a satisfacción de bienes, servicios u obras, firmadas por supervisor o interventor | E3: Actas de liquidación suscritas | F3: Pérdida de tenencia de bienes de la entidad | G3: Pago de subsidios, transferencias o beneficios a particulares 1
A4: Desplazamientos de los funcionarios y de los contratistas a lugares diferentes al domicilio de la entidad | B4: Instrucción del Comité de Conciliación para iniciar acción de repetición | C4: Contratación de estudios y diseños | D4: Modificaciones contractuales firmadas | E4: Actas de liquidación suscritas 1 | G4: Pago de subsidios, transferencias o beneficios a particulares 2
A5: Liquidación de impuestos | B5: Informe que acredite o anuncie la existencia de perjuicios generados a la Entidad | C5: Suscripción de contratos de estudios y diseños | D5: Giros efectuados por concepto de anticipo contractual | E5: Contratos finalizados en los que se contempla o requería liquidación | G5: Pago de subsidios, transferencias o beneficios a particulares 3
A6: Operaciones, actas o actos en los que se reconocen saldos a favor de la entidad | C6: Suscripción de contratos | D6: Giros efectuados por concepto de anticipo contractual 1 | E6: Actas de liquidación suscritas
A7: Custodia de los bienes muebles de la entidad | C7: Suscripción de contratos 1 | D7: Reconocimiento y pago de desequilibrio contractual | E7: Bienes u obras recibidas a satisfacción
A8: Avalúos a bienes inmuebles de la entidad | C8: Suscripción de contratos 2 | D8: Firma de actas contractuales de recibo parcial o final | E8: Actas de recibo final a satisfacción firmadas
