Workbook
Name CLASIFICACION: #NAME?
Name Consecuencias: #REF!
Name Deficiencia: #REF!
Name Exposicion: #REF!
Name exposición: [1]Listas!$K$3:$K$5
Name Peligro: #REF!
Name probabilidad: [1]Listas!$M$3:$M$5
Name roles: [1]Listas!$B$3:$B$7
Name variables: [1]Listas!$E$3:$E$7

Sheet Viveros
A2: Empresa | B2: CORPORACIÓN AUTÓNOMA REGIONAL DEL ATLÁNTICO - CRA | F2: MATRIZ DE IDENTIFICACIÓN DE PELIGROS Y EVALUACIÓN DE RIESGOS PARA LA SST
A3: Ultima actualización
A4: Tipo de actividades | B4: Actividades desarrolladas dentro de los viveros de la Corporación
C6: RUTINARIO | F6: PELIGRO | J6: EVALUACIÓN DEL RIESGO | T6: VALORACIÓN DE RIESGO | W6: REQUISITO LEGAL | Y6: PERSONAL | AC6: CONTROLES | AH6: MEJORAS IDENTIFICADAS | AI6: RE EVALUACIÓN DEL RIESGO | AP6: RE VALORACIÓN DE RIESGO
A7: PROCESO | B7: ACTIVIDAD | C7: SI | D7: No | E7: CARGOS | F7: CLASIFICACIÓN | G7: DESCRIPCIÓN | H7: FUENTE / PELIGRO | I7: CONSECUENCIA | J7: NIVEL DE DEFICIENCIA CUANTITATIVO | K7: NIVEL DE DEFICIENCIA CUALITATIVO | L7: NIVEL DE EXPOSICIÓN CUANTITATIVO | M7: NIVEL DE EXPOSICIÓN CUALITATIVO | N7: NIVEL DE PROBABILIDAD = (ND*NP) | O7: INTREPRETACIÓN DEL NIVEL DE PROBABILIDAD | P7: NIVEL DE CONSECUENCIA CUANTITATIVO | Q7: NIVEL DE CONSECUENCIA CUALIATTIVO | R7: NIVEL DE RIESGO (NR) E INTERVENCIÓN | S7: INTERPRETACIÓN DEL NIVEL DEL RIESGO | T7: ACEPTABILIDAD DEL RIESGO | U7: NUMERO DE EXPUESTOS | V7: PEOR CONSECUENCIA | W7: SI | X7: NO | Y7: Vinculado | Z7: Temporal | AA7: Contratistas | AB7: Visitantes/ Comunidad | AC7: ELIMINACIÓN | AD7: SUSTITUCIÓN | AE7: CONTROLES DE INGIENERÍA | AF7: CONTROLES ADMINISTRATIVOS | AG7: EQUIPOS/ ELEMENTOS DE PROTECCIÓN PERSONAL | AH7: DESCRIPCIÓN DE MEJORAS IDENTIFICADAS | AI7: NIVEL DE DEFICIENCIA CUANTITATIVO 2 | AJ7: NIVEL DE DEFICIENCIA CUALITATIVO 2 | AK7: NIVEL DE EXPOSICIÓN CUANTITATIVO 2 | AL7: NIVEL DE EXPOSICIÓN CUALITATIVO 2 | AM7: NIVEL DE PROBABILIDAD = (ND*NP) 2 | AN7: INTREPRETACIÓN DEL NIVEL DE PROBABILIDAD 2 | AO7: NIVEL DE CONSECUENCIA CUANTITATIVO 2 | AP7: NIVEL DE CONSECUENCIA CUALIATTIVO 2 | AQ7: NIVEL DE RIESGO (NR) E INTERVENCIÓN 2 | AR7: INTERPRETACIÓN DEL NIVEL DEL RIESGO 2 | AS7: ACEPTABILIDAD DEL RIESGO 2
A8: Subdirección ambiental | B8: Actividades propias de la administración y operación del vivero | C8: x | E8: Administradores y operadores del vivero | F8: Biológico | G8: Microorganismos (Virus) | H8: Exposición a agentes biológicos como VIRUS COVID-19 (contacto directo entre personas, contacto con objetos y superficies contaminados). Contacto con otras personas a menos de 2 mt de distancia, terceros sin EPP, manipulación de herramientas, elementos de trabajo contaminadas, elementos de oficina o superficies de contacto común. | I8: Enfermedad COVID-19. Infección Respiratoria Aguda (IRA) de leve a grave, que puede ocasionar enfermedad pulmonar crónica, neumonía o muerte. | J8: 2 | K8: =IF(J8=10,#REF!,IF(J8=6,#REF!,IF(J8=2,#REF!,IF(J8=1,#REF!)))) -> #REF! | L8: 2 | M8: =IF(L8=4,#REF!,IF(L8=3,#REF!,IF(L8=2,#REF!,IF(L8=1,#REF!)))) -> #REF! | N8: =+J8*L8 -> 4 | O8: =IF(AND(N8>=24,N8<=40),#REF!,IF(AND(N8>=10,N8<=20),#REF!,IF(AND(N8>=6,N8<=8),#REF!,IF(AND(N8>=0,N8<=4),#REF!)))) -> #REF! | P8: 100 | Q8: =IF(P8=100,#REF!,IF(P8=60,#REF!,IF(P8=25,#REF!,IF(P8=10,#REF!)))) -> #REF! | R8: =+N8*P8 -> 400 | S8: =IF(AND(R8>=600,R8<=4000),#REF!,IF(AND(R8>=150,R8<=500),#REF!,IF(AND(R8>=40,R8<=120),#REF!,IF(AND(R8>=0,R8<40),#REF!)))) -> #REF! | T8: =IF(AND(S8="I"),#REF!,IF(AND(S8="II"),#REF!,IF(AND(S8="III"),#REF!,IF(AND(S8="IV"),#REF!)))) -> #REF! | U8: 6 | V8: =I8 -> Enfermedad COVID-19. Infección Respiratoria Aguda (IRA) de leve a grave, que puede ocasionar enfermedad pulmonar crónica, neumonía o muerte. | W8: SI | Y8: x | Z8: x | AA8: x | AB8: x | AC8: N/A | AD8: N/A | AE8: N/A | AF8: Sistema de Vigilancia Biológico. Solicitud de Protocolos de Bioseguridad para COVID-19 al personal contratista de la operación. Capacitación prevención contagio del COVID-19. Divulgación de los protocolos de Bioseguridad, medidas de bioseguridad durante el traslado en vehículos de la corporación y particulares, desarrollo de actividades en campo y administrativas. Suministro de elementos de limpieza y desinfección alcohol, Alcohol glicerinado | AG8: Uso de Guantes, Mascarilla, pantalla facial | AJ8: =IF(AI8=10,#REF!,IF(AI8=6,#REF!,IF(AI8=2,#REF!,IF(AI8=1,#REF!)))) -> FALSE | AL8: =IF(AK8=4,#REF!,IF(AK8=3,#REF!,IF(AK8=2,#REF!,IF(AK8=1,#REF!)))) -> FALSE | AM8: =+AI8*AK8 -> 0 | AN8: =IF(AND(AM8>=24,AM8<=40),#REF!,IF(AND(AM8>=10,AM8<=20),#REF!,IF(AND(AM8>=6,AM8<=8),#REF!,IF(AND(AM8>=0,AM8<=4),#REF!)))) -> #REF! | AP8: =IF(AO8=100,#REF!,IF(AO8=60,#REF!,IF(AO8=25,#REF!,IF(AO8=10,#REF!)))) -> FALSE | AQ8: =+AM8*AO8 -> 0 | AR8: =IF(AND(AQ8>=600,AQ8<=4000),#REF!,IF(AND(AQ8>=150,AQ8<=500),#REF!,IF(AND(AQ8>=40,AQ8<=120),#REF!,IF(AND(AQ8>=0,AQ8<40),#REF!)))) -> #REF! | AS8: =IF(AND(AR8="I"),#REF!,IF(AND(AR8="II"),#REF!,IF(AND(AR8="III"),#REF!,IF(AND(AR8="IV"),#REF!)))) -> #REF!
C9: x | E9: Administradores y operadores del vivero | F9: Condiciones de seguridad | G9: Público. Orden público. | H9: Actos delictivos en las sedes u operaciones de la Corporación, o durante el traslado del personal a sus sitios de trabajo cometidos por terceros como protestas, atentados, secuestro, hurto, vandalismo, terrorismo, entre otros. | I9: Heridas, golpes, muerte, fatiga, estrés, disminución de la destreza y precisión. Estados de ansiedad y/o depresión y trastornos del aparato digestivo. | J9: 2 | K9: =IF(J9=10,#REF!,IF(J9=6,#REF!,IF(J9=2,#REF!,IF(J9=1,#REF!)))) -> #REF! | L9: 2 | M9: =IF(L9=4,#REF!,IF(L9=3,#REF!,IF(L9=2,#REF!,IF(L9=1,#REF!)))) -> #REF! | N9: =+J9*L9 -> 4 | O9: =IF(AND(N9>=24,N9<=40),#REF!,IF(AND(N9>=10,N9<=20),#REF!,IF(AND(N9>=6,N9<=8),#REF!,IF(AND(N9>=0,N9<=4),#REF!)))) -> #REF! | P9: 25 | Q9: =IF(P9=100,#REF!,IF(P9=60,#REF!,IF(P9=25,#REF!,IF(P9=10,#REF!)))) -> #REF! | R9: =+N9*P9 -> 100 | S9: =IF(AND(R9>=600,R9<=4000),#REF!,IF(AND(R9>=150,R9<=500),#REF!,IF(AND(R9>=40,R9<=120),#REF!,IF(AND(R9>=0,R9<40),#REF!)))) -> #REF! | T9: =IF(AND(S9="I"),#REF!,IF(AND(S9="II"),#REF!,IF(AND(S9="III"),#REF!,IF(AND(S9="IV"),#REF!)))) -> #REF! | U9: 6 | V9: =I9 -> Heridas, golpes, muerte, fatiga, estrés, disminución de la destreza y precisión. Estados de ansiedad y/o depresión y trastornos del aparato digestivo. | W9: SI | Y9: x | Z9: x | AA9: x | AB9: x | AC9: N/A | AD9: N/A | AE9: N/A | AF9: Diseño en implementación de SVE Psicosocial, gestión del riesgo público, capacitación sobre cómo proceder en situaciones de riesgo público. Contratista de servicios de vigilancia | AG9: N/A | AJ9: =IF(AI9=10,#REF!,IF(AI9=6,#REF!,IF(AI9=2,#REF!,IF(AI9=1,#REF!)))) -> FALSE | AL9: =IF(AK9=4,#REF!,IF(AK9=3,#REF!,IF(AK9=2,#REF!,IF(AK9=1,#REF!)))) -> FALSE | AM9: =+AI9*AK9 -> 0 | AN9: =IF(AND(AM9>=24,AM9<=40),#REF!,IF(AND(AM9>=10,AM9<=20),#REF!,IF(AND(AM9>=6,AM9<=8),#REF!,IF(AND(AM9>=0,AM9<=4),#REF!)))) -> #REF! | AP9: =IF(AO9=100,#REF!,IF(AO9=60,#REF!,IF(AO9=25,#REF!,IF(AO9=10,#REF!)))) -> FALSE | AQ9: =+AM9*AO9 -> 0 | AR9: =IF(AND(AQ9>=600,AQ9<=4000),#REF!,IF(AND(AQ9>=150,AQ9<=500),#REF!,IF(AND(AQ9>=40,AQ9<=120),#REF!,IF(AND(AQ9>=0,AQ9<40),#REF!)))) -> #REF! | AS9: =IF(AND(AR9="I"),#REF!,IF(AND(AR9="II"),#REF!,IF(AND(AR9="III"),#REF!,IF(AND(AR9="IV"),#REF!)))) -> #REF!
C10: x | E10: Administradores y operadores del vivero | F10: Químico | G10: Líquidos | H10: Uso de Alcohol al 70%, gel Hidroalcohólico, detergentes, jabón para desinfección personal y de puesto de trabajo | I10: Irritación en la piel, Resequedad en la piel, picazón, dermatitis de contacto, afectaciones respiratorias. | J10: 1 | K10: =IF(J10=10,#REF!,IF(J10=6,#REF!,IF(J10=2,#REF!,IF(J10=1,#REF!)))) -> #REF! | L10: 3 | M10: =IF(L10=4,#REF!,IF(L10=3,#REF!,IF(L10=2,#REF!,IF(L10=1,#REF!)))) -> #REF! | N10: =+J10*L10 -> 3 | O10: =IF(AND(N10>=24,N10<=40),#REF!,IF(AND(N10>=10,N10<=20),#REF!,IF(AND(N10>=6,N10<=8),#REF!,IF(AND(N10>=0,N10<=4),#REF!)))) -> #REF! | P10: 10 | Q10: =IF(P10=100,#REF!,IF(P10=60,#REF!,IF(P10=25,#REF!,IF(P10=10,#REF!)))) -> #REF! | R10: =+N10*P10 -> 30 | S10: =IF(AND(R10>=600,R10<=4000),#REF!,IF(AND(R10>=150,R10<=500),#REF!,IF(AND(R10>=40,R10<=120),#REF!,IF(AND(R10>=0,R10<40),#REF!)))) -> #REF! | T10: =IF(AND(S10="I"),#REF!,IF(AND(S10="II"),#REF!,IF(AND(S10="III"),#REF!,IF(AND(S10="IV"),#REF!)))) -> #REF! | U10: 6 | V10: =I10 -> Irritación en la piel, Resequedad en la piel, picazón, dermatitis de contacto, afectaciones respiratorias. | W10: SI | Y10: x | Z10: x | AA10: x | AB10: x | AC10: N/A | AD10: N/A | AE10: N/A | AF10: Programa de manejo de Químicos. Uso hidratante en manos para contrarrestar la resequedad generada por los productos de limpieza y desinfección Procedimiento de lavado de manos. Uso de alcohol a menos que el lavado de manos no este disponible. Procedimiento de Limpieza y desinfección de instalaciones y superficies. Conocimiento de las Hojas se seguridad Instrucciones del fabricante, etiquetas | AG10: Uso de EPP para la limpieza de herramientas y útiles de oficina y áreas de contacto frecuente | AJ10: =IF(AI10=10,#REF!,IF(AI10=6,#REF!,IF(AI10=2,#REF!,IF(AI10=1,#REF!)))) -> FALSE | AL10: =IF(AK10=4,#REF!,IF(AK10=3,#REF!,IF(AK10=2,#REF!,IF(AK10=1,#REF!)))) -> FALSE | AM10: =+AI10*AK10 -> 0 | AN10: =IF(AND(AM10>=24,AM10<=40),#REF!,IF(AND(AM10>=10,AM10<=20),#REF!,IF(AND(AM10>=6,AM10<=8),#REF!,IF(AND(AM10>=0,AM10<=4),#REF!)))) -> #REF! | AP10: =IF(AO10=100,#REF!,IF(AO10=60,#REF!,IF(AO10=25,#REF!,IF(AO10=10,#REF!)))) -> FALSE | AQ10: =+AM10*AO10 -> 0 | AR10: =IF(AND(AQ10>=600,AQ10<=4000),#REF!,IF(AND(AQ10>=150,AQ10<=500),#REF!,IF(AND(AQ10>=40,AQ10<=120),#REF!,IF(AND(AQ10>=0,AQ10<40),#REF!)))) -> #REF! | AS10: =IF(AND(AR10="I"),#REF!,IF(AND(AR10="II"),#REF!,IF(AND(AR10="III"),#REF!,IF(AND(AR10="IV"),#REF!)))) -> #REF!
C11: x | E11: Administradores y operadores del vivero | F11: Condiciones de seguridad | G11: Transito. | H11: Circulación del personal como peatones por las diferentes vías y carreteras. | I11: Accidentes de tránsito, fracturas, contusiones, laceraciones, muerte. | J11: 2 | K11: =IF(J11=10,#REF!,IF(J11=6,#REF!,IF(J11=2,#REF!,IF(J11=1,#REF!)))) -> #REF! | L11: 2 | M11: =IF(L11=4,#REF!,IF(L11=3,#REF!,IF(L11=2,#REF!,IF(L11=1,#REF!)))) -> #REF! | N11: =+J11*L11 -> 4 | O11: =IF(AND(N11>=24,N11<=40),#REF!,IF(AND(N11>=10,N11<=20),#REF!,IF(AND(N11>=6,N11<=8),#REF!,IF(AND(N11>=0,N11<=4),#REF!)))) -> #REF! | P11: 60 | Q11: =IF(P11=100,#REF!,IF(P11=60,#REF!,IF(P11=25,#REF!,IF(P11=10,#REF!)))) -> #REF! | R11: =+N11*P11 -> 240 | S11: =IF(AND(R11>=600,R11<=4000),#REF!,IF(AND(R11>=150,R11<=500),#REF!,IF(AND(R11>=40,R11<=120),#REF!,IF(AND(R11>=0,R11<40),#REF!)))) -> #REF! | T11: =IF(AND(S11="I"),#REF!,IF(AND(S11="II"),#REF!,IF(AND(S11="III"),#REF!,IF(AND(S11="IV"),#REF!)))) -> #REF! | U11: 6 | V11: =I11 -> Accidentes de tránsito, fracturas, contusiones, laceraciones, muerte. | W11: SI | Y11: x | Z11: x | AA11: x | AB11: x | AC11: N/A | AD11: N/A | AE11: N/A | AF11: Programa de manejo de Contratistas. Exigir al contratista programas de mantenimiento preventivo y correctivo y formación y entrenamiento en conducción segura y manejo defensivo del personal conductor. Diseño e implementación del PESV. Programa de mantenimiento a vehículos propios que garantice el buen estado de funcionamiento de los mismos. | AG11: N/A | AJ11: =IF(AI11=10,#REF!,IF(AI11=6,#REF!,IF(AI11=2,#REF!,IF(AI11=1,#REF!)))) -> FALSE | AL11: =IF(AK11=4,#REF!,IF(AK11=3,#REF!,IF(AK11=2,#REF!,IF(AK11=1,#REF!)))) -> FALSE | AM11: =+AI11*AK11 -> 0 | AN11: =IF(AND(AM11>=24,AM11<=40),#REF!,IF(AND(AM11>=10,AM11<=20),#REF!,IF(AND(AM11>=6,AM11<=8),#REF!,IF(AND(AM11>=0,AM11<=4),#REF!)))) -> #REF! | AP11: =IF(AO11=100,#REF!,IF(AO11=60,#REF!,IF(AO11=25,#REF!,IF(AO11=10,#REF!)))) -> FALSE | AQ11: =+AM11*AO11 -> 0 | AR11: =IF(AND(AQ11>=600,AQ11<=4000),#REF!,IF(AND(AQ11>=150,AQ11<=500),#REF!,IF(AND(AQ11>=40,AQ11<=120),#REF!,IF(AND(AQ11>=0,AQ11<40),#REF!)))) -> #REF! | AS11: =IF(AND(AR11="I"),#REF!,IF(AND(AR11="II"),#REF!,IF(AND(AR11="III"),#REF!,IF(AND(AR11="IV"),#REF!)))) -> #REF!
C12: x | E12: Administradores y operadores del vivero | F12: Fenómenos naturales* | G12: Tormentas, vientos huracanados, inundaciones | H12: Cambios en condiciones termo higrométricas (Temperatura ambiental, Humedad relativa y Velocidad del aire). Generado por situaciones naturales o antrópicas. | I12: Fatiga, estrés, resfriados, golpes, traumas. | J12: 1 | K12: =IF(J12=10,#REF!,IF(J12=6,#REF!,IF(J12=2,#REF!,IF(J12=1,#REF!)))) -> #REF! | L12: 1 | M12: =IF(L12=4,#REF!,IF(L12=3,#REF!,IF(L12=2,#REF!,IF(L12=1,#REF!)))) -> #REF! | N12: =+J12*L12 -> 1 | O12: =IF(AND(N12>=24,N12<=40),#REF!,IF(AND(N12>=10,N12<=20),#REF!,IF(AND(N12>=6,N12<=8),#REF!,IF(AND(N12>=0,N12<=4),#REF!)))) -> #REF! | P12: 25 | Q12: =IF(P12=100,#REF!,IF(P12=60,#REF!,IF(P12=25,#REF!,IF(P12=10,#REF!)))) -> #REF! | R12: =+N12*P12 -> 25 | S12: =IF(AND(R12>=600,R12<=4000),#REF!,IF(AND(R12>=150,R12<=500),#REF!,IF(AND(R12>=40,R12<=120),#REF!,IF(AND(R12>=0,R12<40),#REF!)))) -> #REF! | T12: =IF(AND(S12="I"),#REF!,IF(AND(S12="II"),#REF!,IF(AND(S12="III"),#REF!,IF(AND(S12="IV"),#REF!)))) -> #REF! | U12: 6 | V12: =I12 -> Fatiga, estrés, resfriados, golpes, traumas. | W12: SI | Y12: x | Z12: x | AA12: x | AB12: x | AC12: N/A | AD12: N/A | AE12: N/A | AF12: Capacitación de Brigadas de emergencias. Ciclo de formación continuado y certificado efectuado con la Cruz Roja. Plan de emergencia, cadena de llamados, equipos de comunicación disponibles | AG12: Suministro de Indumentarias propias para afrontar cambios climáticos, impermeables, botas pantaneras | AJ12: =IF(AI12=10,#REF!,IF(AI12=6,#REF!,IF(AI12=2,#REF!,IF(AI12=1,#REF!)))) -> FALSE | AL12: =IF(AK12=4,#REF!,IF(AK12=3,#REF!,IF(AK12=2,#REF!,IF(AK12=1,#REF!)))) -> FALSE | AM12: =+AI12*AK12 -> 0 | AN12: =IF(AND(AM12>=24,AM12<=40),#REF!,IF(AND(AM12>=10,AM12<=20),#REF!,IF(AND(AM12>=6,AM12<=8),#REF!,IF(AND(AM12>=0,AM12<=4),#REF!)))) -> #REF! | AP12: =IF(AO12=100,#REF!,IF(AO12=60,#REF!,IF(AO12=25,#REF!,IF(AO12=10,#REF!)))) -> FALSE | AQ12: =+AM12*AO12 -> 0 | AR12: =IF(AND(AQ12>=600,AQ12<=4000),#REF!,IF(AND(AQ12>=150,AQ12<=500),#REF!,IF(AND(AQ12>=40,AQ12<=120),#REF!,IF(AND(AQ12>=0,AQ12<40),#REF!)))) -> #REF! | AS12: =IF(AND(AR12="I"),#REF!,IF(AND(AR12="II"),#REF!,IF(AND(AR12="III"),#REF!,IF(AND(AR12="IV"),#REF!)))) -> #REF!
C13: x | E13: Administradores y operadores del vivero | F13: Biomecánicos | G13: Posturas prolongadas | H13: Posturas prolongadas (de pie, sentado, etc.). | I13: Desordenes de trauma acumulativo, lesiones del sistema músculo esquelético, Tendinitis, síndrome del túnel carpiano (STC) | J13: 2 | K13: =IF(J13=10,#REF!,IF(J13=6,#REF!,IF(J13=2,#REF!,IF(J13=1,#REF!)))) -> #REF! | L13: 3 | M13: =IF(L13=4,#REF!,IF(L13=3,#REF!,IF(L13=2,#REF!,IF(L13=1,#REF!)))) -> #REF! | N13: =+J13*L13 -> 6 | O13: =IF(AND(N13>=24,N13<=40),#REF!,IF(AND(N13>=10,N13<=20),#REF!,IF(AND(N13>=6,N13<=8),#REF!,IF(AND(N13>=0,N13<=4),#REF!)))) -> #REF! | P13: 10 | Q13: =IF(P13=100,#REF!,IF(P13=60,#REF!,IF(P13=25,#REF!,IF(P13=10,#REF!)))) -> #REF! | R13: =+N13*P13 -> 60 | S13: =IF(AND(R13>=600,R13<=4000),#REF!,IF(AND(R13>=150,R13<=500),#REF!,IF(AND(R13>=40,R13<=120),#REF!,IF(AND(R13>=0,R13<40),#REF!)))) -> #REF! | T13: =IF(AND(S13="I"),#REF!,IF(AND(S13="II"),#REF!,IF(AND(S13="III"),#REF!,IF(AND(S13="IV"),#REF!)))) -> #REF! | U13: 6 | V13: =I13 -> Desordenes de trauma acumulativo, lesiones del sistema músculo esquelético, Tendinitis, síndrome del túnel carpiano (STC) | W13: SI | Y13: x | Z13: x | AA13: x | AC13: N/A | AD13: N/A | AE13: Diseño de puesto de trabajo, escritorio, silla. | AF13: Exámenes médicos ocupacionales con énfasis osteomuscular. Suministro de Sillas ergonómicas ajustables a la antropometría del trabajador. Sistema de Vigilancia para Desordenes musculoesqueléticos. Capacitación Pausas Activas, Higiene postural. Programa de orden y aseo, | AG13: N/A | AJ13: =IF(AI13=10,#REF!,IF(AI13=6,#REF!,IF(AI13=2,#REF!,IF(AI13=1,#REF!)))) -> FALSE | AL13: =IF(AK13=4,#REF!,IF(AK13=3,#REF!,IF(AK13=2,#REF!,IF(AK13=1,#REF!)))) -> FALSE | AM13: =+AI13*AK13 -> 0 | AN13: =IF(AND(AM13>=24,AM13<=40),#REF!,IF(AND(AM13>=10,AM13<=20),#REF!,IF(AND(AM13>=6,AM13<=8),#REF!,IF(AND(AM13>=0,AM13<=4),#REF!)))) -> #REF! | AP13: =IF(AO13=100,#REF!,IF(AO13=60,#REF!,IF(AO13=25,#REF!,IF(AO13=10,#REF!)))) -> FALSE | AQ13: =+AM13*AO13 -> 0 | AR13: =IF(AND(AQ13>=600,AQ13<=4000),#REF!,IF(AND(AQ13>=150,AQ13<=500),#REF!,IF(AND(AQ13>=40,AQ13<=120),#REF!,IF(AND(AQ13>=0,AQ13<40),#REF!)))) -> #REF! | AS13: =IF(AND(AR13="I"),#REF!,IF(AND(AR13="II"),#REF!,IF(AND(AR13="III"),#REF!,IF(AND(AR13="IV"),#REF!)))) -> #REF!
C14: x | E14: Administradores y operadores del vivero | F14: Psicosocial | G14: Condiciones de la tarea (carga mental, contenido de la tarea, demandas emocionales). Comunicación, tecnología, organización del trabajo, demandas cualitativas y cuantitativas de la labor. | H14: Alta carga laboral. Atención a personal externo e interno(usuarios, funcionarios, contratistas, asesores, entes de control). Exigencia en las actividades diarias. Trabajo bajo presión. Jornadas extenuantes de trabajo. Tiempos prolongados de traslado entre las áreas de trabajo | I14: Fatiga, estrés, disminución de la destreza y precisión. Estados de ansiedad y/o depresión y trastornos del aparato digestivo. | J14: 2 | K14: =IF(J14=10,#REF!,IF(J14=6,#REF!,IF(J14=2,#REF!,IF(J14=1,#REF!)))) -> #REF! | L14: 3 | M14: =IF(L14=4,#REF!,IF(L14=3,#REF!,IF(L14=2,#REF!,IF(L14=1,#REF!)))) -> #REF! | N14: =+J14*L14 -> 6 | O14: =IF(AND(N14>=24,N14<=40),#REF!,IF(AND(N14>=10,N14<=20),#REF!,IF(AND(N14>=6,N14<=8),#REF!,IF(AND(N14>=0,N14<=4),#REF!)))) -> #REF! | P14: 60 | Q14: =IF(P14=100,#REF!,IF(P14=60,#REF!,IF(P14=25,#REF!,IF(P14=10,#REF!)))) -> #REF! | R14: =+N14*P14 -> 360 | S14: =IF(AND(R14>=600,R14<=4000),#REF!,IF(AND(R14>=150,R14<=500),#REF!,IF(AND(R14>=40,R14<=120),#REF!,IF(AND(R14>=0,R14<40),#REF!)))) -> #REF! | T14: =IF(AND(S14="I"),#REF!,IF(AND(S14="II"),#REF!,IF(AND(S14="III"),#REF!,IF(AND(S14="IV"),#REF!)))) -> #REF! | U14: 6 | V14: =I14 -> Fatiga, estrés, disminución de la destreza y precisión. Estados de ansiedad y/o depresión y trastornos del aparato digestivo. | W14: SI | Y14: x | Z14: x | AA14: x | AC14: N/A | AD14: N/A | AE14: N/A | AF14: Desarrollo de SVE Psicosocial. Implementación de las baterías de medición del riesgo psicosocial Implementación del plan de acción, según los niveles de riesgo y áreas afectadas. Desarrollo de actividades de bienestar, trabajo en equipo, técnicas de relajación, pausas activas, rumba terapias. Actividades de bienestar y Desarrollo. Actividades intralaborales para la mejora del clima laboral. | AG14: N/A | AJ14: =IF(AI14=10,#REF!,IF(AI14=6,#REF!,IF(AI14=2,#REF!,IF(AI14=1,#REF!)))) -> FALSE | AL14: =IF(AK14=4,#REF!,IF(AK14=3,#REF!,IF(AK14=2,#REF!,IF(AK14=1,#REF!)))) -> FALSE | AM14: =+AI14*AK14 -> 0 | AN14: =IF(AND(AM14>=24,AM14<=40),#REF!,IF(AND(AM14>=10,AM14<=20),#REF!,IF(AND(AM14>=6,AM14<=8),#REF!,IF(AND(AM14>=0,AM14<=4),#REF!)))) -> #REF! | AP14: =IF(AO14=100,#REF!,IF(AO14=60,#REF!,IF(AO14=25,#REF!,IF(AO14=10,#REF!)))) -> FALSE | AQ14: =+AM14*AO14 -> 0 | AR14: =IF(AND(AQ14>=600,AQ14<=4000),#REF!,IF(AND(AQ14>=150,AQ14<=500),#REF!,IF(AND(AQ14>=40,AQ14<=120),#REF!,IF(AND(AQ14>=0,AQ14<40),#REF!)))) -> #REF! | AS14: =IF(AND(AR14="I"),#REF!,IF(AND(AR14="II"),#REF!,IF(AND(AR14="III"),#REF!,IF(AND(AR14="IV"),#REF!)))) -> #REF!
C15: x | E15: Administradores y operadores del vivero | F15: Físico | G15: Iluminación deficiente o en exceso. | H15: Fuentes inadecuadas de iluminación | I15: Fatiga visual, cefalea, disminución de la destreza y precisión, afectaciones a la vista, deslumbramiento, caídas a nivel, golpes. | J15: 1 | K15: =IF(J15=10,#REF!,IF(J15=6,#REF!,IF(J15=2,#REF!,IF(J15=1,#REF!)))) -> #REF! | L15: 4 | M15: =IF(L15=4,#REF!,IF(L15=3,#REF!,IF(L15=2,#REF!,IF(L15=1,#REF!)))) -> #REF! | N15: =+J15*L15 -> 4 | O15: =IF(AND(N15>=24,N15<=40),#REF!,IF(AND(N15>=10,N15<=20),#REF!,IF(AND(N15>=6,N15<=8),#REF!,IF(AND(N15>=0,N15<=4),#REF!)))) -> #REF! | P15: 10 | Q15: =IF(P15=100,#REF!,IF(P15=60,#REF!,IF(P15=25,#REF!,IF(P15=10,#REF!)))) -> #REF! | R15: =+N15*P15 -> 40 | S15: =IF(AND(R15>=600,R15<=4000),#REF!,IF(AND(R15>=150,R15<=500),#REF!,IF(AND(R15>=40,R15<=120),#REF!,IF(AND(R15>=0,R15<40),#REF!)))) -> #REF! | T15: =IF(AND(S15="I"),#REF!,IF(AND(S15="II"),#REF!,IF(AND(S15="III"),#REF!,IF(AND(S15="IV"),#REF!)))) -> #REF! | U15: 6 | V15: =I15 -> Fatiga visual, cefalea, disminución de la destreza y precisión, afectaciones a la vista, deslumbramiento, caídas a nivel, golpes. | W15: SI | Y15: x | Z15: x | AA15: x | AC15: N/A | AD15: N/A | AE15: Actividades de mantenimiento a la infraestructura, incluidos los equipos de iluminación. | AF15: Efectuar mediciones higiénicas para verificar los niveles de iluminación de las áreas de trabajo. | AG15: N/A | AJ15: =IF(AI15=10,#REF!,IF(AI15=6,#REF!,IF(AI15=2,#REF!,IF(AI15=1,#REF!)))) -> FALSE | AL15: =IF(AK15=4,#REF!,IF(AK15=3,#REF!,IF(AK15=2,#REF!,IF(AK15=1,#REF!)))) -> FALSE | AM15: =+AI15*AK15 -> 0 | AN15: =IF(AND(AM15>=24,AM15<=40),#REF!,IF(AND(AM15>=10,AM15<=20),#REF!,IF(AND(AM15>=6,AM15<=8),#REF!,IF(AND(AM15>=0,AM15<=4),#REF!)))) -> #REF! | AP15: =IF(AO15=100,#REF!,IF(AO15=60,#REF!,IF(AO15=25,#REF!,IF(AO15=10,#REF!)))) -> FALSE | AQ15: =+AM15*AO15 -> 0 | AR15: =IF(AND(AQ15>=600,AQ15<=4000),#REF!,IF(AND(AQ15>=150,AQ15<=500),#REF!,IF(AND(AQ15>=40,AQ15<=120),#REF!,IF(AND(AQ15>=0,AQ15<40),#REF!)))) -> #REF! | AS15: =IF(AND(AR15="I"),#REF!,IF(AND(AR15="II"),#REF!,IF(AND(AR15="III"),#REF!,IF(AND(AR15="IV"),#REF!)))) -> #REF!
C16: x | E16: Administradores y operadores del vivero | F16: Condiciones de seguridad | G16: Locativos | H16: Traslado por las diferentes áreas de las instalaciones de los viveros Uso de escaleras (escaleras de caracol, rectas) | I16: Caídas al mismo nivel, caídas a diferente nivel, contusiones, golpes, fracturas | J16: 2 | K16: =IF(J16=10,#REF!,IF(J16=6,#REF!,IF(J16=2,#REF!,IF(J16=1,#REF!)))) -> #REF! | L16: 3 | M16: =IF(L16=4,#REF!,IF(L16=3,#REF!,IF(L16=2,#REF!,IF(L16=1,#REF!)))) -> #REF! | N16: =+J16*L16 -> 6 | O16: =IF(AND(N16>=24,N16<=40),#REF!,IF(AND(N16>=10,N16<=20),#REF!,IF(AND(N16>=6,N16<=8),#REF!,IF(AND(N16>=0,N16<=4),#REF!)))) -> #REF! | P16: 60 | Q16: =IF(P16=100,#REF!,IF(P16=60,#REF!,IF(P16=25,#REF!,IF(P16=10,#REF!)))) -> #REF! | R16: =+N16*P16 -> 360 | S16: =IF(AND(R16>=600,R16<=4000),#REF!,IF(AND(R16>=150,R16<=500),#REF!,IF(AND(R16>=40,R16<=120),#REF!,IF(AND(R16>=0,R16<40),#REF!)))) -> #REF! | T16: =IF(AND(S16="I"),#REF!,IF(AND(S16="II"),#REF!,IF(AND(S16="III"),#REF!,IF(AND(S16="IV"),#REF!)))) -> #REF! | U16: 6 | V16: =I16 -> Caídas al mismo nivel, caídas a diferente nivel, contusiones, golpes, fracturas | W16: SI | Y16: x | Z16: x | AA16: x | AB16: x | AC16: N/A | AD16: N/A | AE16: Mantenimiento a la infraestructura de la Corporación. | AF16: Implementación de programas de Orden y Aseo. Redistribución del espacio y puestos de trabajo. Establecer directrices para el manejo y almacenamiento de la documentación que ha cumplido su ciclo administrativo. Aumentar el área de archivo de las diferentes subdirecciones. Desarrollo de jornadas de recolección de documentación elementos innecesarios. Señalización de zonas de riesgo para el personal. Actividades de toma de conciencia. | AG16: N/A | AJ16: =IF(AI16=10,#REF!,IF(AI16=6,#REF!,IF(AI16=2,#REF!,IF(AI16=1,#REF!)))) -> FALSE | AL16: =IF(AK16=4,#REF!,IF(AK16=3,#REF!,IF(AK16=2,#REF!,IF(AK16=1,#REF!)))) -> FALSE | AM16: =+AI16*AK16 -> 0 | AN16: =IF(AND(AM16>=24,AM16<=40),#REF!,IF(AND(AM16>=10,AM16<=20),#REF!,IF(AND(AM16>=6,AM16<=8),#REF!,IF(AND(AM16>=0,AM16<=4),#REF!)))) -> #REF! | AP16: =IF(AO16=100,#REF!,IF(AO16=60,#REF!,IF(AO16=25,#REF!,IF(AO16=10,#REF!)))) -> FALSE | AQ16: =+AM16*AO16 -> 0 | AR16: =IF(AND(AQ16>=600,AQ16<=4000),#REF!,IF(AND(AQ16>=150,AQ16<=500),#REF!,IF(AND(AQ16>=40,AQ16<=120),#REF!,IF(AND(AQ16>=0,AQ16<40),#REF!)))) -> #REF! | AS16: =IF(AND(AR16="I"),#REF!,IF(AND(AR16="II"),#REF!,IF(AND(AR16="III"),#REF!,IF(AND(AR16="IV"),#REF!)))) -> #REF!
C17: x | E17: Administradores y operadores del vivero | F17: Condiciones de seguridad | G17: Locativos | H17: Condiciones inadecuadas del sitio de trabajo. Deficientes condiciones de orden y aseo. | I17: Desordenes de trauma acumulativo, lesiones del sistema músculo esquelético, Tendinitis, síndrome del túnel carpiano (STC), golpes, caídas a nivel, contusiones | J17: 1 | K17: =IF(J17=10,#REF!,IF(J17=6,#REF!,IF(J17=2,#REF!,IF(J17=1,#REF!)))) -> #REF! | L17: 3 | M17: =IF(L17=4,#REF!,IF(L17=3,#REF!,IF(L17=2,#REF!,IF(L17=1,#REF!)))) -> #REF! | N17: =+J17*L17 -> 3 | O17: =IF(AND(N17>=24,N17<=40),#REF!,IF(AND(N17>=10,N17<=20),#REF!,IF(AND(N17>=6,N17<=8),#REF!,IF(AND(N17>=0,N17<=4),#REF!)))) -> #REF! | P17: 10 | Q17: =IF(P17=100,#REF!,IF(P17=60,#REF!,IF(P17=25,#REF!,IF(P17=10,#REF!)))) -> #REF! | R17: =+N17*P17 -> 30 | S17: =IF(AND(R17>=600,R17<=4000),#REF!,IF(AND(R17>=150,R17<=500),#REF!,IF(AND(R17>=40,R17<=120),#REF!,IF(AND(R17>=0,R17<40),#REF!)))) -> #REF! | T17: =IF(AND(S17="I"),#REF!,IF(AND(S17="II"),#REF!,IF(AND(S17="III"),#REF!,IF(AND(S17="IV"),#REF!)))) -> #REF! | U17: 6 | V17: =I17 -> Desordenes de trauma acumulativo, lesiones del sistema músculo esquelético, Tendinitis, síndrome del túnel carpiano (STC), golpes, caídas a nivel, contusiones | W17: SI | Y17: x | Z17: x | AA17: x | AC17: N/A | AD17: N/A | AE17: Diseño de puesto de trabajo, escritorio, silla. | AF17: Sistema de Vigilancia para Desordenes musculoesqueléticos. Capacitación Pausas Activas, Higiene postural Orden y aseo frecuente en el área de trabajo. | AG17: N/A | AH17: Expandir el área de las oficinas, hay pocos puestos de trabajo en relación al numero de personal por áreas. Diseño de puestos de trabajo para personal vinculado y contratista. | AJ17: =IF(AI17=10,#REF!,IF(AI17=6,#REF!,IF(AI17=2,#REF!,IF(AI17=1,#REF!)))) -> FALSE | AL17: =IF(AK17=4,#REF!,IF(AK17=3,#REF!,IF(AK17=2,#REF!,IF(AK17=1,#REF!)))) -> FALSE | AM17: =+AI17*AK17 -> 0 | AN17: =IF(AND(AM17>=24,AM17<=40),#REF!,IF(AND(AM17>=10,AM17<=20),#REF!,IF(AND(AM17>=6,AM17<=8),#REF!,IF(AND(AM17>=0,AM17<=4),#REF!)))) -> #REF! | AP17: =IF(AO17=100,#REF!,IF(AO17=60,#REF!,IF(AO17=25,#REF!,IF(AO17=10,#REF!)))) -> FALSE | AQ17: =+AM17*AO17 -> 0 | AR17: =IF(AND(AQ17>=600,AQ17<=4000),#REF!,IF(AND(AQ17>=150,AQ17<=500),#REF!,IF(AND(AQ17>=40,AQ17<=120),#REF!,IF(AND(AQ17>=0,AQ17<40),#REF!)))) -> #REF! | AS17: =IF(AND(AR17="I"),#REF!,IF(AND(AR17="II"),#REF!,IF(AND(AR17="III"),#REF!,IF(AND(AR17="IV"),#REF!)))) -> #REF!
C18: x | E18: Administradores y operadores del vivero | F18: Condiciones de seguridad | G18: Locativo | H18: Deterioro de estructuras locativas, grietas en paredes de casas, filtración de aguas lluvias, presencia de humedad. | I18: Colapso de estructuras, golpes, poli traumas muerte | J18: 2 | K18: =IF(J18=10,#REF!,IF(J18=6,#REF!,IF(J18=2,#REF!,IF(J18=1,#REF!)))) -> #REF! | L18: 2 | M18: =IF(L18=4,#REF!,IF(L18=3,#REF!,IF(L18=2,#REF!,IF(L18=1,#REF!)))) -> #REF! | N18: =+J18*L18 -> 4 | O18: =IF(AND(N18>=24,N18<=40),#REF!,IF(AND(N18>=10,N18<=20),#REF!,IF(AND(N18>=6,N18<=8),#REF!,IF(AND(N18>=0,N18<=4),#REF!)))) -> #REF! | P18: 100 | Q18: =IF(P18=100,#REF!,IF(P18=60,#REF!,IF(P18=25,#REF!,IF(P18=10,#REF!)))) -> #REF! | R18: =+N18*P18 -> 400 | S18: =IF(AND(R18>=600,R18<=4000),#REF!,IF(AND(R18>=150,R18<=500),#REF!,IF(AND(R18>=40,R18<=120),#REF!,IF(AND(R18>=0,R18<40),#REF!)))) -> #REF! | T18: =IF(AND(S18="I"),#REF!,IF(AND(S18="II"),#REF!,IF(AND(S18="III"),#REF!,IF(AND(S18="IV"),#REF!)))) -> #REF! | U18: 6 | V18: =I18 -> Colapso de estructuras, golpes, poli traumas muerte | W18: SI | Y18: x | Z18: x | AA18: x | AB18: x | AC18: N/A | AD18: N/A | AE18: N/A | AF18: Programa de mantenimiento de infraestructura. | AG18: N/A | AJ18: =IF(AI18=10,#REF!,IF(AI18=6,#REF!,IF(AI18=2,#REF!,IF(AI18=1,#REF!)))) -> FALSE | AL18: =IF(AK18=4,#REF!,IF(AK18=3,#REF!,IF(AK18=2,#REF!,IF(AK18=1,#REF!)))) -> FALSE | AM18: =+AI18*AK18 -> 0 | AN18: =IF(AND(AM18>=24,AM18<=40),#REF!,IF(AND(AM18>=10,AM18<=20),#REF!,IF(AND(AM18>=6,AM18<=8),#REF!,IF(AND(AM18>=0,AM18<=4),#REF!)))) -> #REF! | AP18: =IF(AO18=100,#REF!,IF(AO18=60,#REF!,IF(AO18=25,#REF!,IF(AO18=10,#REF!)))) -> FALSE | AQ18: =+AM18*AO18 -> 0 | AR18: =IF(AND(AQ18>=600,AQ18<=4000),#REF!,IF(AND(AQ18>=150,AQ18<=500),#REF!,IF(AND(AQ18>=40,AQ18<=120),#REF!,IF(AND(AQ18>=0,AQ18<40),#REF!)))) -> #REF! | AS18: =IF(AND(AR18="I"),#REF!,IF(AND(AR18="II"),#REF!,IF(AND(AR18="III"),#REF!,IF(AND(AR18="IV"),#REF!)))) -> #REF!
C19: x | E19: Administradores y operadores del vivero | F19: Biomecánicos | G19: Movimientos repetitivos | H19: Movimientos repetitivos (digitación, uso de herramientas, entre otros) | I19: Desordenes de trauma acumulativo, lesiones del sistema músculo esquelético, Tendinitis, síndrome del túnel carpiano (STC) | J19: 2 | K19: =IF(J19=10,#REF!,IF(J19=6,#REF!,IF(J19=2,#REF!,IF(J19=1,#REF!)))) -> #REF! | L19: 3 | M19: =IF(L19=4,#REF!,IF(L19=3,#REF!,IF(L19=2,#REF!,IF(L19=1,#REF!)))) -> #REF! | N19: =+J19*L19 -> 6 | O19: =IF(AND(N19>=24,N19<=40),#REF!,IF(AND(N19>=10,N19<=20),#REF!,IF(AND(N19>=6,N19<=8),#REF!,IF(AND(N19>=0,N19<=4),#REF!)))) -> #REF! | P19: 10 | Q19: =IF(P19=100,#REF!,IF(P19=60,#REF!,IF(P19=25,#REF!,IF(P19=10,#REF!)))) -> #REF! | R19: =+N19*P19 -> 60 | S19: =IF(AND(R19>=600,R19<=4000),#REF!,IF(AND(R19>=150,R19<=500),#REF!,IF(AND(R19>=40,R19<=120),#REF!,IF(AND(R19>=0,R19<40),#REF!)))) -> #REF! | T19: =IF(AND(S19="I"),#REF!,IF(AND(S19="II"),#REF!,IF(AND(S19="III"),#REF!,IF(AND(S19="IV"),#REF!)))) -> #REF! | U19: 6 | V19: =I19 -> Desordenes de trauma acumulativo, lesiones del sistema músculo esquelético, Tendinitis, síndrome del túnel carpiano (STC) | W19: SI | Y19: x | Z19: x | AA19: x | AC19: N/A | AD19: N/A | AE19: Diseño de puesto de trabajo, escritorio, silla. | AF19: Exámenes médicos ocupacionales con énfasis osteomuscular. Suministro de Sillas ergonómicas ajustables a la antropometría del trabajador. Sistema de Vigilancia para Desordenes musculoesqueléticos. Capacitación Pausas Activas, Higiene postural. Programa de orden y aseo, | AG19: N/A
C20: x | E20: Administradores y operadores del vivero | F20: Condiciones de seguridad | G20: Condiciones de seguridad(Electricidad) | H20: Exposición a electricidad estática por manipulación de equipos eléctricos (PC, impresora, cargadores, monitor, proyector, entre otros) | I20: Descargas eléctricas, dolor de cabeza, quemaduras, shock, golpes, heridas, contusiones. | J20: 2 | K20: =IF(J20=10,#REF!,IF(J20=6,#REF!,IF(J20=2,#REF!,IF(J20=1,#REF!)))) -> #REF! | L20: 2 | M20: =IF(L20=4,#REF!,IF(L20=3,#REF!,IF(L20=2,#REF!,IF(L20=1,#REF!)))) -> #REF! | N20: =+J20*L20 -> 4 | O20: =IF(AND(N20>=24,N20<=40),#REF!,IF(AND(N20>=10,N20<=20),#REF!,IF(AND(N20>=6,N20<=8),#REF!,IF(AND(N20>=0,N20<=4),#REF!)))) -> #REF! | P20: 60 | Q20: =IF(P20=100,#REF!,IF(P20=60,#REF!,IF(P20=25,#REF!,IF(P20=10,#REF!)))) -> #REF! | R20: =+N20*P20 -> 240 | S20: =IF(AND(R20>=600,R20<=4000),#REF!,IF(AND(R20>=150,R20<=500),#REF!,IF(AND(R20>=40,R20<=120),#REF!,IF(AND(R20>=0,R20<40),#REF!)))) -> #REF! | T20: =IF(AND(S20="I"),#REF!,IF(AND(S20="II"),#REF!,IF(AND(S20="III"),#REF!,IF(AND(S20="IV"),#REF!)))) -> #REF! | U20: 5 | V20: =I20 -> Descargas eléctricas, dolor de cabeza, quemaduras, shock, golpes, heridas, contusiones. | W20: SI | Y20: x | AC20: N/A | AD20: N/A | AE20: Colocación de tapetes para la descarga de la carga estática acumulada por las personas del área. Verificar la ubicación de los CPU, reguladores de voltaje descargas instalaciones eléctricas. Revisar las puestas a tierra de las oficinas. | AF20: N/A | AG20: N/A | AJ20: =IF(AI20=10,#REF!,IF(AI20=6,#REF!,IF(AI20=2,#REF!,IF(AI20=1,#REF!)))) -> FALSE | AL20: =IF(AK20=4,#REF!,IF(AK20=3,#REF!,IF(AK20=2,#REF!,IF(AK20=1,#REF!)))) -> FALSE | AM20: =+AI20*AK20 -> 0 | AN20: =IF(AND(AM20>=24,AM20<=40),#REF!,IF(AND(AM20>=10,AM20<=20),#REF!,IF(AND(AM20>=6,AM20<=8),#REF!,IF(AND(AM20>=0,AM20<=4),#REF!)))) -> #REF! | AP20: =IF(AO20=100,#REF!,IF(AO20=60,#REF!,IF(AO20=25,#REF!,IF(AO20=10,#REF!)))) -> FALSE | AQ20: =+AM20*AO20 -> 0 | AR20: =IF(AND(AQ20>=600,AQ20<=4000),#REF!,IF(AND(AQ20>=150,AQ20<=500),#REF!,IF(AND(AQ20>=40,AQ20<=120),#REF!,IF(AND(AQ20>=0,AQ20<40),#REF!)))) -> #REF! | AS20: =IF(AND(AR20="I"),#REF!,IF(AND(AR20="II"),#REF!,IF(AND(AR20="III"),#REF!,IF(AND(AR20="IV"),#REF!)))) -> #REF!
C21: x | E21: Administradores y operadores del vivero | F21: Condiciones de seguridad | G21: Condiciones de seguridad(Electricidad) | H21: Exposición a energía eléctrica por manipulación de equipos eléctricos (PC, impresora, cargadores, monitor, proyector, entre otros) | I21: Descargas eléctricas, dolor de cabeza, quemaduras, shock, golpes, heridas, contusiones. | J21: 2 | K21: =IF(J21=10,#REF!,IF(J21=6,#REF!,IF(J21=2,#REF!,IF(J21=1,#REF!)))) -> #REF! | L21: 2 | M21: =IF(L21=4,#REF!,IF(L21=3,#REF!,IF(L21=2,#REF!,IF(L21=1,#REF!)))) -> #REF! | N21: =+J21*L21 -> 4 | O21: =IF(AND(N21>=24,N21<=40),#REF!,IF(AND(N21>=10,N21<=20),#REF!,IF(AND(N21>=6,N21<=8),#REF!,IF(AND(N21>=0,N21<=4),#REF!)))) -> #REF! | P21: 60 | Q21: =IF(P21=100,#REF!,IF(P21=60,#REF!,IF(P21=25,#REF!,IF(P21=10,#REF!)))) -> #REF! | R21: =+N21*P21 -> 240 | S21: =IF(AND(R21>=600,R21<=4000),#REF!,IF(AND(R21>=150,R21<=500),#REF!,IF(AND(R21>=40,R21<=120),#REF!,IF(AND(R21>=0,R21<40),#REF!)))) -> #REF! | T21: =IF(AND(S21="I"),#REF!,IF(AND(S21="II"),#REF!,IF(AND(S21="III"),#REF!,IF(AND(S21="IV"),#REF!)))) -> #REF! | U21: 5 | V21: =I21 -> Descargas eléctricas, dolor de cabeza, quemaduras, shock, golpes, heridas, contusiones. | W21: SI | Y21: x | AC21: N/A | AD21: N/A | AE21: Mantenimiento a la infraestructura (Redes eléctricas) de la Corporación. | AF21: N/A | AG21: N/A
C22: x | E22: Operadores del vivero Personal contratista | F22: Químico | G22: Líquidos, Gases y vapores | H22: Exposición o manipulación de combustibles, sustancias químicas, sustancias tóxicas. | I22: Incendios, quemaduras, intoxicación, afectaciones respiratorias, dermatitis, alergias. | J22: 2 | K22: =IF(J22=10,#REF!,IF(J22=6,#REF!,IF(J22=2,#REF!,IF(J22=1,#REF!)))) -> #REF! | L22: 3 | M22: =IF(L22=4,#REF!,IF(L22=3,#REF!,IF(L22=2,#REF!,IF(L22=1,#REF!)))) -> #REF! | N22: =+J22*L22 -> 6 | O22: =IF(AND(N22>=24,N22<=40),#REF!,IF(AND(N22>=10,N22<=20),#REF!,IF(AND(N22>=6,N22<=8),#REF!,IF(AND(N22>=0,N22<=4),#REF!)))) -> #REF! | P22: 60 | Q22: =IF(P22=100,#REF!,IF(P22=60,#REF!,IF(P22=25,#REF!,IF(P22=10,#REF!)))) -> #REF! | R22: =+N22*P22 -> 360 | S22: =IF(AND(R22>=600,R22<=4000),#REF!,IF(AND(R22>=150,R22<=500),#REF!,IF(AND(R22>=40,R22<=120),#REF!,IF(AND(R22>=0,R22<40),#REF!)))) -> #REF! | T22: =IF(AND(S22="I"),#REF!,IF(AND(S22="II"),#REF!,IF(AND(S22="III"),#REF!,IF(AND(S22="IV"),#REF!)))) -> #REF! | U22: 6 | V22: =I22 -> Incendios, quemaduras, intoxicación, afectaciones respiratorias, dermatitis, alergias. | W22: SI | Y22: x | AC22: N/A | AD22: N/A | AE22: N/A | AF22: Capacitación de Brigadas de emergencias. Ciclo de formación continuado y certificado efectuado con la Cruz Roja Programa de manejo de sustancias Químicas. | AG22: Suministro de mascarilla, guantes, gafas de seguridad, calzado de seguridad.
C23: x | E23: Operadores del vivero Personal contratista | F23: Biológico | G23: Microorganismos, macroorganismos. | H23: Manipulación o exposición a residuos sólidos, basuras, vertimientos, aguas estancadas, fangos, fluidos, secreciones, partes en descomposición. | I23: Cortes, traumas, heridas, infección, mordeduras, picaduras | J23: 2 | K23: =IF(J23=10,#REF!,IF(J23=6,#REF!,IF(J23=2,#REF!,IF(J23=1,#REF!)))) -> #REF! | L23: 3 | M23: =IF(L23=4,#REF!,IF(L23=3,#REF!,IF(L23=2,#REF!,IF(L23=1,#REF!)))) -> #REF! | N23: =+J23*L23 -> 6 | O23: =IF(AND(N23>=24,N23<=40),#REF!,IF(AND(N23>=10,N23<=20),#REF!,IF(AND(N23>=6,N23<=8),#REF!,IF(AND(N23>=0,N23<=4),#REF!)))) -> #REF! | P23: 60 | Q23: =IF(P23=100,#REF!,IF(P23=60,#REF!,IF(P23=25,#REF!,IF(P23=10,#REF!)))) -> #REF! | R23: =+N23*P23 -> 360 | S23: =IF(AND(R23>=600,R23<=4000),#REF!,IF(AND(R23>=150,R23<=500),#REF!,IF(AND(R23>=40,R23<=120),#REF!,IF(AND(R23>=0,R23<40),#REF!)))) -> #REF! | T23: =IF(AND(S23="I"),#REF!,IF(AND(S23="II"),#REF!,IF(AND(S23="III"),#REF!,IF(AND(S23="IV"),#REF!)))) -> #REF! | U23: 6 | V23: =I23 -> Cortes, traumas, heridas, infección, mordeduras, picaduras | W23: SI | Y23: x | AC23: N/A | AD23: N/A | AE23: N/A | AF23: Incluir en SVE Riesgo Biológico | AG23: Suministro de gafas de seguridad, mascarilla, guantes, calzado de seguridad.
C24: x | E24: Operadores del vivero Personal contratista | F24: Biológico | G24: Macroorganismos (Mordeduras, golpes, pisadas de animales, picadas etc.) fauna acuática. | H24: Contacto directo o indirecto con seres vivos (roedores, serpientes, caballos, reptiles, osos, etc.) por medio de mordedura, picadura, rasgadura y en general ataque de animales | I24: Golpes, traumas, heridas, infecciones, intoxicación, Mordeduras, picaduras, punciones, reacciones alérgicas, muerte | J24: 2 | K24: =IF(J24=10,#REF!,IF(J24=6,#REF!,IF(J24=2,#REF!,IF(J24=1,#REF!)))) -> #REF! | L24: 3 | M24: =IF(L24=4,#REF!,IF(L24=3,#REF!,IF(L24=2,#REF!,IF(L24=1,#REF!)))) -> #REF! | N24: =+J24*L24 -> 6 | O24: =IF(AND(N24>=24,N24<=40),#REF!,IF(AND(N24>=10,N24<=20),#REF!,IF(AND(N24>=6,N24<=8),#REF!,IF(AND(N24>=0,N24<=4),#REF!)))) -> #REF! | P24: 60 | Q24: =IF(P24=100,#REF!,IF(P24=60,#REF!,IF(P24=25,#REF!,IF(P24=10,#REF!)))) -> #REF! | R24: =+N24*P24 -> 360 | S24: =IF(AND(R24>=600,R24<=4000),#REF!,IF(AND(R24>=150,R24<=500),#REF!,IF(AND(R24>=40,R24<=120),#REF!,IF(AND(R24>=0,R24<40),#REF!)))) -> #REF! | T24: =IF(AND(S24="I"),#REF!,IF(AND(S24="II"),#REF!,IF(AND(S24="III"),#REF!,IF(AND(S24="IV"),#REF!)))) -> #REF! | U24: 6 | V24: =I24 -> Golpes, traumas, heridas, infecciones, intoxicación, Mordeduras, picaduras, punciones, reacciones alérgicas, muerte | W24: SI | Y24: x | AC24: N/A | AD24: N/A | AE24: N/A | AF24: Diseño e implementación de programa de Vigilancia para el riesgo Biológico. seguimiento a la recuperación del personal que haya sufrido mordeduras o picaduras. Capacitación del personal en primeros auxilios, manejo de heridas, uso de botiquín. Establecer dentro del plan de emergencias, un procedimiento para el manejo de reacciones adversas producto de picaduras, que incluya el listado de clínicas y hospitales del atlántico y su capacidad para la atención de eventos de reacciones de tipo local, sistémicas toxicas, Inmunológicas por mordeduras de serpientes y otros animales. Retiro de elementos en desuso que pueden ser usados por los animales como madrigueras, corte de la vegetación, mejorar las condiciones de iluminación nocturna | AG24: Suministro de guantes, calzado de seguridad, gafas de seguridad
C25: x | E25: Operadores del vivero Personal contratista | F25: Condiciones de seguridad | G25: Manejo de herramientas manuales | H25: uso de herramientas de manuales y eléctricas. | I25: Golpes, traumas, laceraciones, punciones | J25: 2 | K25: =IF(J25=10,#REF!,IF(J25=6,#REF!,IF(J25=2,#REF!,IF(J25=1,#REF!)))) -> #REF! | L25: 3 | M25: =IF(L25=4,#REF!,IF(L25=3,#REF!,IF(L25=2,#REF!,IF(L25=1,#REF!)))) -> #REF! | N25: =+J25*L25 -> 6 | O25: =IF(AND(N25>=24,N25<=40),#REF!,IF(AND(N25>=10,N25<=20),#REF!,IF(AND(N25>=6,N25<=8),#REF!,IF(AND(N25>=0,N25<=4),#REF!)))) -> #REF! | P25: 60 | Q25: =IF(P25=100,#REF!,IF(P25=60,#REF!,IF(P25=25,#REF!,IF(P25=10,#REF!)))) -> #REF! | R25: =+N25*P25 -> 360 | S25: =IF(AND(R25>=600,R25<=4000),#REF!,IF(AND(R25>=150,R25<=500),#REF!,IF(AND(R25>=40,R25<=120),#REF!,IF(AND(R25>=0,R25<40),#REF!)))) -> #REF! | T25: =IF(AND(S25="I"),#REF!,IF(AND(S25="II"),#REF!,IF(AND(S25="III"),#REF!,IF(AND(S25="IV"),#REF!)))) -> #REF! | U25: 6 | V25: =I25 -> Golpes, traumas, laceraciones, punciones | W25: SI | Y25: x | AC25: N/A | AD25: N/A | AE25: N/A | AF25: Programa de riesgo mecánico Actividades de mantenimiento a las herramientas rotativas y manuales. | AG25: Suministro de botas de seguridad, gafas de seguridad y guantes tipo ingeniero, pechera, polainas
C26: x | E26: Operadores del vivero Personal contratista | F26: Biológico | G26: Derivados de origen animal (Pieles, pelo, estiércol, desechos, etc.) | H26: Inhalación, contacto y consumo de pelos, plumas, excrementos, sustancias antigénicas (enzima, proteínas), larvas de invertebrados, polvo vegetal, Polen, Madera, Esporas fúngicas, Micotoxinas, Sustancias antigénicas (antibióticos, polisacáridos) incluye además Musgos, Helechos, Semillas, Derivados de Vegetales | I26: Zoonosis, Enfermedades infecciosas, gastrointestinales, tóxicas y reacciones alérgicas. | J26: 2 | K26: =IF(J26=10,#REF!,IF(J26=6,#REF!,IF(J26=2,#REF!,IF(J26=1,#REF!)))) -> #REF! | L26: 3 | M26: =IF(L26=4,#REF!,IF(L26=3,#REF!,IF(L26=2,#REF!,IF(L26=1,#REF!)))) -> #REF! | N26: =+J26*L26 -> 6 | O26: =IF(AND(N26>=24,N26<=40),#REF!,IF(AND(N26>=10,N26<=20),#REF!,IF(AND(N26>=6,N26<=8),#REF!,IF(AND(N26>=0,N26<=4),#REF!)))) -> #REF! | P26: 60 | Q26: =IF(P26=100,#REF!,IF(P26=60,#REF!,IF(P26=25,#REF!,IF(P26=10,#REF!)))) -> #REF! | R26: =+N26*P26 -> 360 | S26: =IF(AND(R26>=600,R26<=4000),#REF!,IF(AND(R26>=150,R26<=500),#REF!,IF(AND(R26>=40,R26<=120),#REF!,IF(AND(R26>=0,R26<40),#REF!)))) -> #REF! | T26: =IF(AND(S26="I"),#REF!,IF(AND(S26="II"),#REF!,IF(AND(S26="III"),#REF!,IF(AND(S26="IV"),#REF!)))) -> #REF! | U26: 6 | V26: =I26 -> Zoonosis, Enfermedades infecciosas, gastrointestinales, tóxicas y reacciones alérgicas. | W26: SI | Y26: x | AA26: x | AC26: N/A | AD26: N/A | AE26: N/A | AF26: Incluir en SVE Riesgo Biológico. | AG26: Suministro de gafas de seguridad, calzado de seguridad, guantes.
B27: Mantenimientos preventivos y correctivos a los equipos del vivero | C27: x | E27: Operadores del vivero Personal contratista | F27: Químico | G27: Líquidos, Gases y vapores | H27: Almacenamiento de productos químicos | I27: Incendios, quemaduras, intoxicación, afectaciones respiratorias, dermatitis, alergias. | J27: 2 | K27: =IF(J27=10,#REF!,IF(J27=6,#REF!,IF(J27=2,#REF!,IF(J27=1,#REF!)))) -> #REF! | L27: 3 | M27: =IF(L27=4,#REF!,IF(L27=3,#REF!,IF(L27=2,#REF!,IF(L27=1,#REF!)))) -> #REF! | N27: =+J27*L27 -> 6 | O27: =IF(AND(N27>=24,N27<=40),#REF!,IF(AND(N27>=10,N27<=20),#REF!,IF(AND(N27>=6,N27<=8),#REF!,IF(AND(N27>=0,N27<=4),#REF!)))) -> #REF! | P27: 60 | Q27: =IF(P27=100,#REF!,IF(P27=60,#REF!,IF(P27=25,#REF!,IF(P27=10,#REF!)))) -> #REF! | R27: =+N27*P27 -> 360 | S27: =IF(AND(R27>=600,R27<=4000),#REF!,IF(AND(R27>=150,R27<=500),#REF!,IF(AND(R27>=40,R27<=120),#REF!,IF(AND(R27>=0,R27<40),#REF!)))) -> #REF! | T27: =IF(AND(S27="I"),#REF!,IF(AND(S27="II"),#REF!,IF(AND(S27="III"),#REF!,IF(AND(S27="IV"),#REF!)))) -> #REF! | U27: 6 | V27: =I27 -> Incendios, quemaduras, intoxicación, afectaciones respiratorias, dermatitis, alergias. | W27: SI | Y27: x | AC27: N/A | AD27: N/A | AE27: N/A | AF27: Capacitación de Brigadas de emergencias. Ciclo de formación continuado y certificado efectuado con la Cruz Roja Programa de manejo de sustancias Químicas. | AG27: Suministro de mascarilla, guantes, gafas de seguridad, calzado de seguridad.
C28: x | F28: Químico | G28: Líquidos, Gases y vapores | H28: Exposición o manipulación de combustibles, sustancias químicas, sustancias tóxicas. | I28: Incendios, quemaduras, intoxicación, afectaciones respiratorias, dermatitis, alergias. | J28: 2 | K28: =IF(J28=10,#REF!,IF(J28=6,#REF!,IF(J28=2,#REF!,IF(J28=1,#REF!)))) -> #REF! | L28: 3 | M28: =IF(L28=4,#REF!,IF(L28=3,#REF!,IF(L28=2,#REF!,IF(L28=1,#REF!)))) -> #REF! | N28: =+J28*L28 -> 6 | O28: =IF(AND(N28>=24,N28<=40),#REF!,IF(AND(N28>=10,N28<=20),#REF!,IF(AND(N28>=6,N28<=8),#REF!,IF(AND(N28>=0,N28<=4),#REF!)))) -> #REF! | P28: 60 | Q28: =IF(P28=100,#REF!,IF(P28=60,#REF!,IF(P28=25,#REF!,IF(P28=10,#REF!)))) -> #REF! | R28: =+N28*P28 -> 360 | S28: =IF(AND(R28>=600,R28<=4000),#REF!,IF(AND(R28>=150,R28<=500),#REF!,IF(AND(R28>=40,R28<=120),#REF!,IF(AND(R28>=0,R28<40),#REF!)))) -> #REF! | T28: =IF(AND(S28="I"),#REF!,IF(AND(S28="II"),#REF!,IF(AND(S28="III"),#REF!,IF(AND(S28="IV"),#REF!)))) -> #REF! | U28: 6 | V28: =I28 -> Incendios, quemaduras, intoxicación, afectaciones respiratorias, dermatitis, alergias. | W28: SI | Y28: x | AC28: N/A | AD28: N/A | AE28: N/A | AF28: Capacitación de Brigadas de emergencias. Ciclo de formación continuado y certificado efectuado con la Cruz Roja Programa de manejo de sustancias Químicas. | AG28: Suministro de mascarilla, guantes, gafas de seguridad, calzado de seguridad.
C29: x | F29: Condiciones de seguridad | G29: Actividades de mantenimiento a la infraestructura o equipos que requieren trabajo en altura. Instalación de equipos que requieren trabajo en altura. Obras civiles que requieren de trabajo en altura | H29: Acceso y desarrollo de trabajo en alturas. | I29: Caídas a diferente nivel, golpes, traumas, laceraciones, muerte. | J29: 2 | K29: =IF(J29=10,#REF!,IF(J29=6,#REF!,IF(J29=2,#REF!,IF(J29=1,#REF!)))) -> #REF! | L29: 2 | M29: =IF(L29=4,#REF!,IF(L29=3,#REF!,IF(L29=2,#REF!,IF(L29=1,#REF!)))) -> #REF! | N29: =+J29*L29 -> 4 | O29: =IF(AND(N29>=24,N29<=40),#REF!,IF(AND(N29>=10,N29<=20),#REF!,IF(AND(N29>=6,N29<=8),#REF!,IF(AND(N29>=0,N29<=4),#REF!)))) -> #REF! | P29: 100 | Q29: =IF(P29=100,#REF!,IF(P29=60,#REF!,IF(P29=25,#REF!,IF(P29=10,#REF!)))) -> #REF! | R29: =+N29*P29 -> 400 | S29: =IF(AND(R29>=600,R29<=4000),#REF!,IF(AND(R29>=150,R29<=500),#REF!,IF(AND(R29>=40,R29<=120),#REF!,IF(AND(R29>=0,R29<40),#REF!)))) -> #REF! | T29: =IF(AND(S29="I"),#REF!,IF(AND(S29="II"),#REF!,IF(AND(S29="III"),#REF!,IF(AND(S29="IV"),#REF!)))) -> #REF! | U29: 6 | V29: =I29 -> Caídas a diferente nivel, golpes, traumas, laceraciones, muerte. | W29: SI | Y29: x | Z29: x | AA29: x | AC29: N/A | AD29: N/A | AE29: N/A | AF29: Diseño e implementación de Programas de trabajo seguro en alturas. Capacitar al personal en TSA, Expedición de permisos, efectuar exámenes médicos para determinar la aptitud física para desarrollar trabajos en alturas. | AG29: Suministro de botas de seguridad, guantes y gafas de seguridad. Impermeables. Suministro de EPP contra caídas.
C30: x | F30: Condiciones de seguridad | G30: Operación y mantenimiento de redes eléctricas o equipos eléctricos | H30: Operación o mantenimiento de equipos o redes eléctricas | I30: Electrocución, afectación de órganos vitales, quemaduras, incendio y muerte | J30: 2 | K30: =IF(J30=10,#REF!,IF(J30=6,#REF!,IF(J30=2,#REF!,IF(J30=1,#REF!)))) -> #REF! | L30: 2 | M30: =IF(L30=4,#REF!,IF(L30=3,#REF!,IF(L30=2,#REF!,IF(L30=1,#REF!)))) -> #REF! | N30: =+J30*L30 -> 4 | O30: =IF(AND(N30>=24,N30<=40),#REF!,IF(AND(N30>=10,N30<=20),#REF!,IF(AND(N30>=6,N30<=8),#REF!,IF(AND(N30>=0,N30<=4),#REF!)))) -> #REF! | P30: 100 | Q30: =IF(P30=100,#REF!,IF(P30=60,#REF!,IF(P30=25,#REF!,IF(P30=10,#REF!)))) -> #REF! | R30: =+N30*P30 -> 400 | S30: =IF(AND(R30>=600,R30<=4000),#REF!,IF(AND(R30>=150,R30<=500),#REF!,IF(AND(R30>=40,R30<=120),#REF!,IF(AND(R30>=0,R30<40),#REF!)))) -> #REF! | T30: =IF(AND(S30="I"),#REF!,IF(AND(S30="II"),#REF!,IF(AND(S30="III"),#REF!,IF(AND(S30="IV"),#REF!)))) -> #REF! | U30: 6 | V30: =I30 -> Electrocución, afectación de órganos vitales, quemaduras, incendio y muerte | W30: SI | Y30: x | Z30: x | AA30: x | AC30: N/A | AD30: N/A | AE30: N/A | AF30: Programa de mantenimiento a equipos eléctricos. Señalización de zonas de riesgo eléctrico Desarrollo de programa de formación en Brigadas: Personal calificado para el desarrollo de los trabajos. Capacitación en uso de extintores. Brigadas de emergencias y plan de emergencias | AG30: Suministro de gafas de seguridad, guantes, mascarilla, botas de seguridad.
C31: x | F31: Condiciones de seguridad | G31: Mecánicos. Atrapamientos. | H31: Contacto con superficies abrasivas o filosas | I31: Heridas, laceraciones, cortes | J31: 1 | K31: =IF(J31=10,#REF!,IF(J31=6,#REF!,IF(J31=2,#REF!,IF(J31=1,#REF!)))) -> #REF! | L31: 1 | M31: =IF(L31=4,#REF!,IF(L31=3,#REF!,IF(L31=2,#REF!,IF(L31=1,#REF!)))) -> #REF! | N31: =+J31*L31 -> 1 | O31: =IF(AND(N31>=24,N31<=40),#REF!,IF(AND(N31>=10,N31<=20),#REF!,IF(AND(N31>=6,N31<=8),#REF!,IF(AND(N31>=0,N31<=4),#REF!)))) -> #REF! | P31: 25 | Q31: =IF(P31=100,#REF!,IF(P31=60,#REF!,IF(P31=25,#REF!,IF(P31=10,#REF!)))) -> #REF! | R31: =+N31*P31 -> 25 | S31: =IF(AND(R31>=600,R31<=4000),#REF!,IF(AND(R31>=150,R31<=500),#REF!,IF(AND(R31>=40,R31<=120),#REF!,IF(AND(R31>=0,R31<40),#REF!)))) -> #REF! | T31: =IF(AND(S31="I"),#REF!,IF(AND(S31="II"),#REF!,IF(AND(S31="III"),#REF!,IF(AND(S31="IV"),#REF!)))) -> #REF! | U31: 6 | V31: =I31 -> Heridas, laceraciones, cortes | W31: SI | Y31: x | AA31: x | AC31: N/A | AD31: N/A | AE31: N/A | AF31: N/A | AG31: Suministro de Guantes Tipo Ing, gafas de seguridad, calzado de seguridad
C32: x | F32: Químico | G32: Material particulado | H32: Exposición a material particulado | I32: intoxicaciones, alteración del sistema nervioso, enfermedades infecto-contagiosas | J32: 1 | K32: =IF(J32=10,#REF!,IF(J32=6,#REF!,IF(J32=2,#REF!,IF(J32=1,#REF!)))) -> #REF! | L32: 3 | M32: =IF(L32=4,#REF!,IF(L32=3,#REF!,IF(L32=2,#REF!,IF(L32=1,#REF!)))) -> #REF! | N32: =+J32*L32 -> 3 | O32: =IF(AND(N32>=24,N32<=40),#REF!,IF(AND(N32>=10,N32<=20),#REF!,IF(AND(N32>=6,N32<=8),#REF!,IF(AND(N32>=0,N32<=4),#REF!)))) -> #REF! | P32: 10 | Q32: =IF(P32=100,#REF!,IF(P32=60,#REF!,IF(P32=25,#REF!,IF(P32=10,#REF!)))) -> #REF! | R32: =+N32*P32 -> 30 | S32: =IF(AND(R32>=600,R32<=4000),#REF!,IF(AND(R32>=150,R32<=500),#REF!,IF(AND(R32>=40,R32<=120),#REF!,IF(AND(R32>=0,R32<40),#REF!)))) -> #REF! | T32: =IF(AND(S32="I"),#REF!,IF(AND(S32="II"),#REF!,IF(AND(S32="III"),#REF!,IF(AND(S32="IV"),#REF!)))) -> #REF! | U32: 6 | V32: =I32 -> intoxicaciones, alteración del sistema nervioso, enfermedades infecto-contagiosas | W32: SI | Y32: x | AA32: x | AC32: N/A | AD32: N/A | AE32: N/A | AF32: N/A | AG32: Uso de mascarilla, gafas de seguridad, guantes tipo ingeniero.
C33: x | F33: Físico | G33: Radiaciones no ionizantes. | H33: Exposición a luz solar y altas temperaturas | I33: Alteraciones de la piel, deshidratación, alteración en algunos tejidos blandos (ojos). Fatiga, estrés, cambios neurológico, resfriados. | J33: 2 | K33: Medio (M) | L33: 2 | M33: Ocasional (EO) | N33: =+J33*L33 -> 4 | O33: Bajo (B) | P33: 25 | Q33: Grave (G) | R33: =+N33*P33 -> 100 | S33: III | T33: MEJORABLE | U33: 6 | V33: Alteraciones de la piel, deshidratación, alteración en algunos tejidos blandos (ojos). Fatiga, estrés, cambios neurológico, resfriados. | W33: SI | Y33: x | Z33: x | AA33: x | AB33: x | AC33: N/A | AD33: N/A | AE33: N/A | AF33: Disponibilidad de puntos de hidratación | AG33: uso de gafas para exteriores, gorras con protección en la nuca, manguillas o camisas mangas largas, uso de protector solar.
C34: x | F34: Biomecánicos | G34: Carga dinámica por esfuerzos | H34: Manipulación de cargas | I34: Desordenes de trauma acumulativo, lesiones del sistema músculo esquelético. | J34: 2 | K34: =IF(J34=10,#REF!,IF(J34=6,#REF!,IF(J34=2,#REF!,IF(J34=1,#REF!)))) -> #REF! | L34: 2 | M34: =IF(L34=4,#REF!,IF(L34=3,#REF!,IF(L34=2,#REF!,IF(L34=1,#REF!)))) -> #REF! | N34: =+J34*L34 -> 4 | O34: =IF(AND(N34>=24,N34<=40),#REF!,IF(AND(N34>=10,N34<=20),#REF!,IF(AND(N34>=6,N34<=8),#REF!,IF(AND(N34>=0,N34<=4),#REF!)))) -> #REF! | P34: 100 | Q34: =IF(P34=100,#REF!,IF(P34=60,#REF!,IF(P34=25,#REF!,IF(P34=10,#REF!)))) -> #REF! | R34: =+N34*P34 -> 400 | S34: =IF(AND(R34>=600,R34<=4000),#REF!,IF(AND(R34>=150,R34<=500),#REF!,IF(AND(R34>=40,R34<=120),#REF!,IF(AND(R34>=0,R34<40),#REF!)))) -> #REF! | T34: =IF(AND(S34="I"),#REF!,IF(AND(S34="II"),#REF!,IF(AND(S34="III"),#REF!,IF(AND(S34="IV"),#REF!)))) -> #REF! | U34: 6 | V34: =I34 -> Desordenes de trauma acumulativo, lesiones del sistema músculo esquelético. | W34: SI | Y34: x | AA34: x | AC34: N/A | AD34: N/A | AE34: N/A | AF34: Capacitación sobre la manipulación segura de cargas | AG34: Suministro de mascarillas y gafas de seguridad

Sheet Zoocriaderos
A2: Empresa | B2: CORPORACIÓN AUTÓNOMA REGIONAL DEL ATLÁNTICO - CRA | F2: MATRIZ DE IDENTIFICACIÓN DE PELIGROS Y EVALUACIÓN DE RIESGOS PARA LA SST
A3: Ultima actualización
A4: Tipo de actividades | B4: Actividades desarrolladas dentro de los zoocriaderos de la Corporación
C6: RUTINARIO | F6: PELIGRO | J6: EVALUACIÓN DEL RIESGO | T6: VALORACIÓN DE RIESGO | W6: REQUISITO LEGAL | Y6: PERSONAL | AC6: CONTROLES | AH6: MEJORAS IDENTIFICADAS | AI6: RE EVALUACIÓN DEL RIESGO | AP6: RE VALORACIÓN DE RIESGO
A7: PROCESO | B7: ACTIVIDAD | C7: SI | D7: No | E7: CARGOS | F7: CLASIFICACIÓN | G7: DESCRIPCIÓN | H7: FUENTE / PELIGRO | I7: CONSECUENCIA | J7: NIVEL DE DEFICIENCIA CUANTITATIVO | K7: NIVEL DE DEFICIENCIA CUALITATIVO | L7: NIVEL DE EXPOSICIÓN CUANTITATIVO | M7: NIVEL DE EXPOSICIÓN CUALITATIVO | N7: NIVEL DE PROBABILIDAD = (ND*NP) | O7: INTREPRETACIÓN DEL NIVEL DE PROBABILIDAD | P7: NIVEL DE CONSECUENCIA CUANTITATIVO | Q7: NIVEL DE CONSECUENCIA CUALIATTIVO | R7: NIVEL DE RIESGO (NR) E INTERVENCIÓN | S7: INTERPRETACIÓN DEL NIVEL DEL RIESGO | T7: ACEPTABILIDAD DEL RIESGO | U7: NUMERO DE EXPUESTOS | V7: PEOR CONSECUENCIA | W7: SI | X7: NO | Y7: Vinculado | Z7: Temporal | AA7: Contratistas | AB7: Visitantes/ Comunidad | AC7: ELIMINACIÓN | AD7: SUSTITUCIÓN | AE7: CONTROLES DE INGIENERÍA | AF7: CONTROLES ADMINISTRATIVOS | AG7: EQUIPOS/ ELEMENTOS DE PROTECCIÓN PERSONAL | AH7: DESCRIPCIÓN DE MEJORAS IDENTIFICADAS | AI7: NIVEL DE DEFICIENCIA CUANTITATIVO 2 | AJ7: NIVEL DE DEFICIENCIA CUALITATIVO 2 | AK7: NIVEL DE EXPOSICIÓN CUANTITATIVO 2 | AL7: NIVEL DE EXPOSICIÓN CUALITATIVO 2 | AM7: NIVEL DE PROBABILIDAD = (ND*NP) 2 | AN7: INTREPRETACIÓN DEL NIVEL DE PROBABILIDAD 2 | AO7: NIVEL DE CONSECUENCIA CUANTITATIVO 2 | AP7: NIVEL DE CONSECUENCIA CUALIATTIVO 2 | AQ7: NIVEL DE RIESGO (NR) E INTERVENCIÓN 2 | AR7: INTERPRETACIÓN DEL NIVEL DEL RIESGO 2 | AS7: ACEPTABILIDAD DEL RIESGO 2
A8: Subdirección ambiental | B8: Actividades propias de la administración y operación del zoo criadero | C8: x | E8: Administradores y operadores del zoo criadero | F8: Biológico | G8: Microorganismos (Virus) | H8: Exposición a agentes biológicos como VIRUS COVID-19 (contacto directo entre personas, contacto con objetos y superficies contaminados). Contacto con otras personas a menos de 2 mt de distancia, terceros sin EPP, manipulación de herramientas, elementos de trabajo contaminadas, elementos de oficina o superficies de contacto común. | I8: Enfermedad COVID-19. Infección Respiratoria Aguda (IRA) de leve a grave, que puede ocasionar enfermedad pulmonar crónica, neumonía o muerte. | J8: 2 | K8: =IF(J8=10,#REF!,IF(J8=6,#REF!,IF(J8=2,#REF!,IF(J8=1,#REF!)))) -> #REF! | L8: 2 | M8: =IF(L8=4,#REF!,IF(L8=3,#REF!,IF(L8=2,#REF!,IF(L8=1,#REF!)))) -> #REF! | N8: =+J8*L8 -> 4 | O8: =IF(AND(N8>=24,N8<=40),#REF!,IF(AND(N8>=10,N8<=20),#REF!,IF(AND(N8>=6,N8<=8),#REF!,IF(AND(N8>=0,N8<=4),#REF!)))) -> #REF! | P8: 100 | Q8: =IF(P8=100,#REF!,IF(P8=60,#REF!,IF(P8=25,#REF!,IF(P8=10,#REF!)))) -> #REF! | R8: =+N8*P8 -> 400 | S8: =IF(AND(R8>=600,R8<=4000),#REF!,IF(AND(R8>=150,R8<=500),#REF!,IF(AND(R8>=40,R8<=120),#REF!,IF(AND(R8>=0,R8<40),#REF!)))) -> #REF! | T8: =IF(AND(S8="I"),#REF!,IF(AND(S8="II"),#REF!,IF(AND(S8="III"),#REF!,IF(AND(S8="IV"),#REF!)))) -> #REF! | U8: 6 | V8: =I8 -> Enfermedad COVID-19. Infección Respiratoria Aguda (IRA) de leve a grave, que puede ocasionar enfermedad pulmonar crónica, neumonía o muerte. | W8: SI | Y8: x | Z8: x | AA8: x | AB8: x | AC8: N/A | AD8: N/A | AE8: N/A | AF8: Sistema de Vigilancia Biológico. Solicitud de Protocolos de Bioseguridad para COVID-19 al personal contratista de la operación. Capacitación prevención contagio del COVID-19. Divulgación de los protocolos de Bioseguridad, medidas de bioseguridad durante el traslado en vehículos de la corporación y particulares, desarrollo de actividades en campo y administrativas. Suministro de elementos de limpieza y desinfección alcohol, Alcohol glicerinado | AG8: Uso de Guantes, Mascarilla, pantalla facial | AJ8: =IF(AI8=10,#REF!,IF(AI8=6,#REF!,IF(AI8=2,#REF!,IF(AI8=1,#REF!)))) -> FALSE | AL8: =IF(AK8=4,#REF!,IF(AK8=3,#REF!,IF(AK8=2,#REF!,IF(AK8=1,#REF!)))) -> FALSE | AM8: =+AI8*AK8 -> 0 | AN8: =IF(AND(AM8>=24,AM8<=40),#REF!,IF(AND(AM8>=10,AM8<=20),#REF!,IF(AND(AM8>=6,AM8<=8),#REF!,IF(AND(AM8>=0,AM8<=4),#REF!)))) -> #REF! | AP8: =IF(AO8=100,#REF!,IF(AO8=60,#REF!,IF(AO8=25,#REF!,IF(AO8=10,#REF!)))) -> FALSE | AQ8: =+AM8*AO8 -> 0 | AR8: =IF(AND(AQ8>=600,AQ8<=4000),#REF!,IF(AND(AQ8>=150,AQ8<=500),#REF!,IF(AND(AQ8>=40,AQ8<=120),#REF!,IF(AND(AQ8>=0,AQ8<40),#REF!)))) -> #REF! | AS8: =IF(AND(AR8="I"),#REF!,IF(AND(AR8="II"),#REF!,IF(AND(AR8="III"),#REF!,IF(AND(AR8="IV"),#REF!)))) -> #REF!
C9: x | E9: Administradores y operadores del zoo criadero | F9: Condiciones de seguridad | G9: Público. Orden público. | H9: Actos delictivos en las sedes u operaciones de la Corporación, o durante el traslado del personal a sus sitios de trabajo cometidos por terceros como protestas, atentados, secuestro, hurto, vandalismo, terrorismo, entre otros. | I9: Heridas, golpes, muerte, fatiga, estrés, disminución de la destreza y precisión. Estados de ansiedad y/o depresión y trastornos del aparato digestivo. | J9: 2 | K9: =IF(J9=10,#REF!,IF(J9=6,#REF!,IF(J9=2,#REF!,IF(J9=1,#REF!)))) -> #REF! | L9: 2 | M9: =IF(L9=4,#REF!,IF(L9=3,#REF!,IF(L9=2,#REF!,IF(L9=1,#REF!)))) -> #REF! | N9: =+J9*L9 -> 4 | O9: =IF(AND(N9>=24,N9<=40),#REF!,IF(AND(N9>=10,N9<=20),#REF!,IF(AND(N9>=6,N9<=8),#REF!,IF(AND(N9>=0,N9<=4),#REF!)))) -> #REF! | P9: 25 | Q9: =IF(P9=100,#REF!,IF(P9=60,#REF!,IF(P9=25,#REF!,IF(P9=10,#REF!)))) -> #REF! | R9: =+N9*P9 -> 100 | S9: =IF(AND(R9>=600,R9<=4000),#REF!,IF(AND(R9>=150,R9<=500),#REF!,IF(AND(R9>=40,R9<=120),#REF!,IF(AND(R9>=0,R9<40),#REF!)))) -> #REF! | T9: =IF(AND(S9="I"),#REF!,IF(AND(S9="II"),#REF!,IF(AND(S9="III"),#REF!,IF(AND(S9="IV"),#REF!)))) -> #REF! | U9: 6 | V9: =I9 -> Heridas, golpes, muerte, fatiga, estrés, disminución de la destreza y precisión. Estados de ansiedad y/o depresión y trastornos del aparato digestivo. | W9: SI | Y9: x | Z9: x | AA9: x | AB9: x | AC9: N/A | AD9: N/A | AE9: N/A | AF9: Diseño en implementación de SVE Psicosocial, gestión del riesgo público, capacitación sobre cómo proceder en situaciones de riesgo público. Contratista de servicios de vigilancia | AG9: N/A | AJ9: =IF(AI9=10,#REF!,IF(AI9=6,#REF!,IF(AI9=2,#REF!,IF(AI9=1,#REF!)))) -> FALSE | AL9: =IF(AK9=4,#REF!,IF(AK9=3,#REF!,IF(AK9=2,#REF!,IF(AK9=1,#REF!)))) -> FALSE | AM9: =+AI9*AK9 -> 0 | AN9: =IF(AND(AM9>=24,AM9<=40),#REF!,IF(AND(AM9>=10,AM9<=20),#REF!,IF(AND(AM9>=6,AM9<=8),#REF!,IF(AND(AM9>=0,AM9<=4),#REF!)))) -> #REF! | AP9: =IF(AO9=100,#REF!,IF(AO9=60,#REF!,IF(AO9=25,#REF!,IF(AO9=10,#REF!)))) -> FALSE | AQ9: =+AM9*AO9 -> 0 | AR9: =IF(AND(AQ9>=600,AQ9<=4000),#REF!,IF(AND(AQ9>=150,AQ9<=500),#REF!,IF(AND(AQ9>=40,AQ9<=120),#REF!,IF(AND(AQ9>=0,AQ9<40),#REF!)))) -> #REF! | AS9: =IF(AND(AR9="I"),#REF!,IF(AND(AR9="II"),#REF!,IF(AND(AR9="III"),#REF!,IF(AND(AR9="IV"),#REF!)))) -> #REF!
